BEGIN:VCALENDAR
VERSION:1.0
BEGIN:VEVENT
DTSTART:20260221T100000
DTEND:20260221T104500
SUMMARY:New York vs. Dallas
DESCRIPTION:Kobe League 7,8,9 - Garden City Family YMCA
LOCATION:Dome Court Blue
CATEGORIES:QuickScores; Basketball - Youth Game
TRANSP:0
DALARM:20260221T080000;PT10M;2;New York vs. Dallas
END:VEVENT
BEGIN:VEVENT
DTSTART:20260228T090000
DTEND:20260228T094500
SUMMARY:L.A. vs. Dallas
DESCRIPTION:Kobe League 7,8,9 - Garden City Family YMCA
LOCATION:Dome Court Blue
CATEGORIES:QuickScores; Basketball - Youth Game
TRANSP:0
DALARM:20260228T070000;PT10M;2;L.A. vs. Dallas
END:VEVENT
BEGIN:VEVENT
DTSTART:20260307T090000
DTEND:20260307T094500
SUMMARY:Dallas vs. Golden State
DESCRIPTION:Kobe League 7,8,9 - Garden City Family YMCA
LOCATION:Dome Court Blue
CATEGORIES:QuickScores; Basketball - Youth Game
TRANSP:0
DALARM:20260307T070000;PT10M;2;Dallas vs. Golden State
END:VEVENT
BEGIN:VEVENT
DTSTART:20260314T090000
DTEND:20260314T094500
SUMMARY:Dallas vs. New York
DESCRIPTION:Kobe League 7,8,9 - Garden City Family YMCA
LOCATION:Dome Court Blue
CATEGORIES:QuickScores; Basketball - Youth Game
TRANSP:0
DALARM:20260314T070000;PT10M;2;Dallas vs. New York
END:VEVENT
BEGIN:VEVENT
DTSTART:20260328T100000
DTEND:20260328T104500
SUMMARY:Golden State vs. Dallas
DESCRIPTION:Kobe League 7,8,9 - Garden City Family YMCA
LOCATION:Dome Court Blue
CATEGORIES:QuickScores; Basketball - Youth Game
TRANSP:0
DALARM:20260328T080000;PT10M;2;Golden State vs. Dallas
END:VEVENT
BEGIN:VEVENT
DTSTART:20260404T100000
DTEND:20260404T104500
SUMMARY:Dallas vs. L.A.
DESCRIPTION:Kobe League 7,8,9 - Garden City Family YMCA
LOCATION:Dome Court Blue
CATEGORIES:QuickScores; Basketball - Youth Game
TRANSP:0
DALARM:20260404T080000;PT10M;2;Dallas vs. L.A.
END:VEVENT
BEGIN:VEVENT
DTSTART:20260411T080000
DTEND:20260411T090000
SUMMARY:Golden State vs. Dallas
DESCRIPTION:Kobe League 7,8,9 - Garden City Family YMCA
LOCATION:Dome Court Blue
CATEGORIES:QuickScores; Basketball - Youth Game
TRANSP:0
DALARM:20260411T060000;PT10M;2;Golden State vs. Dallas
END:VEVENT
END:VCALENDAR
