BEGIN:VCALENDAR
VERSION:1.0
BEGIN:VEVENT
DTSTART:20250616T180000
DTEND:20250616T184500
SUMMARY:Southwest Boxing Club vs. Rupp's Tire
DESCRIPTION:3 & 4 y.o. - Garden City Family YMCA
LOCATION:Jennie Wilson Ballfield
CATEGORIES:QuickScores; T-Ball Game
TRANSP:0
DALARM:20250616T160000;PT10M;2;Southwest Boxing Club vs. Rupp's Tire
END:VEVENT
BEGIN:VEVENT
DTSTART:20250630T184500
DTEND:20250630T193000
SUMMARY:Chappel Heights vs. Rupp's Tire
DESCRIPTION:3 & 4 y.o. - Garden City Family YMCA
LOCATION:Jennie Wilson Ballfield
CATEGORIES:QuickScores; T-Ball Game
TRANSP:0
DALARM:20250630T164500;PT10M;2;Chappel Heights vs. Rupp's Tire
END:VEVENT
BEGIN:VEVENT
DTSTART:20250707T184500
DTEND:20250707T193000
SUMMARY:Rupp's Tire vs. Southwest Boxing Club
DESCRIPTION:3 & 4 y.o. - Garden City Family YMCA
LOCATION:Jennie Wilson Ballfield
CATEGORIES:QuickScores; T-Ball Game
TRANSP:0
DALARM:20250707T164500;PT10M;2;Rupp's Tire vs. Southwest Boxing Club
END:VEVENT
BEGIN:VEVENT
DTSTART:20250708T180000
DTEND:20250708T184500
SUMMARY:Rupp's Tire vs. Comfort Specialist
DESCRIPTION:3 & 4 y.o. - Garden City Family YMCA
LOCATION:Jennie Wilson Ballfield
CATEGORIES:QuickScores; T-Ball Game
TRANSP:0
DALARM:20250708T160000;PT10M;2;Rupp's Tire vs. Comfort Specialist
END:VEVENT
BEGIN:VEVENT
DTSTART:20250714T184500
DTEND:20250714T193000
SUMMARY:Comfort Specialist vs. Rupp's Tire
DESCRIPTION:3 & 4 y.o. - Garden City Family YMCA
LOCATION:Jennie Wilson Ballfield
CATEGORIES:QuickScores; T-Ball Game
TRANSP:0
DALARM:20250714T164500;PT10M;2;Comfort Specialist vs. Rupp's Tire
END:VEVENT
BEGIN:VEVENT
DTSTART:20250715T180000
DTEND:20250715T184500
SUMMARY:Rupp's Tire vs. Chappel Heights
DESCRIPTION:3 & 4 y.o. - Garden City Family YMCA
LOCATION:Jennie Wilson Ballfield
CATEGORIES:QuickScores; T-Ball Game
TRANSP:0
DALARM:20250715T160000;PT10M;2;Rupp's Tire vs. Chappel Heights
END:VEVENT
END:VCALENDAR
