BEGIN:VCALENDAR
VERSION:1.0
BEGIN:VEVENT
DTSTART:20250309T160000
DTEND:20250309T180000
SUMMARY:Comfort Specialist vs. Ice House
DESCRIPTION:5 on 5 - Garden City Family YMCA
LOCATION:Dome Court Blue
CATEGORIES:QuickScores; Basketball Game
TRANSP:0
DALARM:20250309T150000;PT10M;2;Comfort Specialist vs. Ice House
END:VEVENT
BEGIN:VEVENT
DTSTART:20250316T170000
DTEND:20250316T180000
SUMMARY:LK Scrubs vs. Ice House
DESCRIPTION:5 on 5 - Garden City Family YMCA
LOCATION:Dome Court Blue
CATEGORIES:QuickScores; Basketball Game
TRANSP:0
DALARM:20250316T150000;PT10M;2;LK Scrubs vs. Ice House
END:VEVENT
BEGIN:VEVENT
DTSTART:20250323T150000
DTEND:20250323T160000
SUMMARY:Comfort Specialist vs. Ice House
DESCRIPTION:5 on 5 - Garden City Family YMCA
LOCATION:Dome Court Blue
CATEGORIES:QuickScores; Basketball Game
TRANSP:0
DALARM:20250323T130000;PT10M;2;Comfort Specialist vs. Ice House
END:VEVENT
BEGIN:VEVENT
DTSTART:20250330T170000
DTEND:20250330T180000
SUMMARY:Ice House vs. GC Ballers
DESCRIPTION:5 on 5 - Garden City Family YMCA
LOCATION:Dome Court Blue
CATEGORIES:QuickScores; Basketball Game
TRANSP:0
DALARM:20250330T150000;PT10M;2;Ice House vs. GC Ballers
END:VEVENT
BEGIN:VEVENT
DTSTART:20250413T160000
DTEND:20250413T170000
SUMMARY:Ice House vs. Team Cox
DESCRIPTION:5 on 5 - Garden City Family YMCA
LOCATION:Dome Court Blue
CATEGORIES:QuickScores; Basketball Game
TRANSP:0
DALARM:20250413T140000;PT10M;2;Ice House vs. Team Cox
END:VEVENT
BEGIN:VEVENT
DTSTART:20250427T150000
DTEND:20250427T160000
SUMMARY:Ice House vs. Aces
DESCRIPTION:5 on 5 - Garden City Family YMCA
LOCATION:Dome Court Blue
CATEGORIES:QuickScores; Basketball Game
TRANSP:0
DALARM:20250427T130000;PT10M;2;Ice House vs. Aces
END:VEVENT
BEGIN:VEVENT
DTSTART:20250518T150000
DTEND:20250518T160000
SUMMARY:[1] Ice House vs. [4] LK Scrubs
DESCRIPTION:5 on 5 - Garden City Family YMCA
LOCATION:Dome Court Blue
CATEGORIES:QuickScores; Basketball Game
TRANSP:0
DALARM:20250518T130000;PT10M;2;[1] Ice House vs. [4] LK Scrubs
END:VEVENT
END:VCALENDAR
