BEGIN:VCALENDAR
VERSION:1.0
BEGIN:VEVENT
DTSTART:20240803T100000
DTEND:20240803T110000
SUMMARY:Vikings - 6U - 62 vs. Raiders - 6U - 46
DESCRIPTION:6U - NFL Flag Division - New Mexico Young America Football League
LOCATION:Mesa Del Sol Field 4
CATEGORIES:QuickScores; Flag Football Game
TRANSP:0
DALARM:20240803T080000;PT10M;2;Vikings - 6U - 62 vs. Raiders - 6U - 46
END:VEVENT
BEGIN:VEVENT
DTSTART:20240810T120000
DTEND:20240810T130000
SUMMARY:Raiders - 6U - 46 vs. Rams - 6U - 47
DESCRIPTION:6U - NFL Flag Division - New Mexico Young America Football League
LOCATION:Rio Rancho Sportsplex Field 3
CATEGORIES:QuickScores; Flag Football Game
TRANSP:0
DALARM:20240810T100000;PT10M;2;Raiders - 6U - 46 vs. Rams - 6U - 47
END:VEVENT
BEGIN:VEVENT
DTSTART:20240817T090000
DTEND:20240817T100000
SUMMARY:Vikings - 6U - 62 vs. Raiders - 6U - 46
DESCRIPTION:6U - NFL Flag Division - New Mexico Young America Football League
LOCATION:Mesa Del Sol Field 4
CATEGORIES:QuickScores; Flag Football Game
TRANSP:0
DALARM:20240817T070000;PT10M;2;Vikings - 6U - 62 vs. Raiders - 6U - 46
END:VEVENT
BEGIN:VEVENT
DTSTART:20240817T100000
DTEND:20240817T110000
SUMMARY:Dolphins - 6U - 48 vs. Raiders - 6U - 46
DESCRIPTION:6U - NFL Flag Division - New Mexico Young America Football League
LOCATION:Mesa Del Sol Field 4
CATEGORIES:QuickScores; Flag Football Game
TRANSP:0
DALARM:20240817T080000;PT10M;2;Dolphins - 6U - 48 vs. Raiders - 6U - 46
END:VEVENT
BEGIN:VEVENT
DTSTART:20240824T090000
DTEND:20240824T100000
SUMMARY:Raiders - 6U - 46 vs. Ravens - 6U - 57
DESCRIPTION:6U - NFL Flag Division - New Mexico Young America Football League
LOCATION:Mesa Del Sol Field 4
CATEGORIES:QuickScores; Flag Football Game
TRANSP:0
DALARM:20240824T070000;PT10M;2;Raiders - 6U - 46 vs. Ravens - 6U - 57
END:VEVENT
BEGIN:VEVENT
DTSTART:20240907T090000
DTEND:20240907T100000
SUMMARY:Vikings - 6U - 62 vs. Raiders - 6U - 46
DESCRIPTION:6U - NFL Flag Division - New Mexico Young America Football League
LOCATION:Mesa Del Sol Field 4
CATEGORIES:QuickScores; Flag Football Game
TRANSP:0
DALARM:20240907T070000;PT10M;2;Vikings - 6U - 62 vs. Raiders - 6U - 46
END:VEVENT
BEGIN:VEVENT
DTSTART:20240914T100000
DTEND:20240914T110000
SUMMARY:Dolphins - 6U - 48 vs. Raiders - 6U - 46
DESCRIPTION:6U - NFL Flag Division - New Mexico Young America Football League
LOCATION:Mesa Del Sol Field 4
CATEGORIES:QuickScores; Flag Football Game
TRANSP:0
DALARM:20240914T080000;PT10M;2;Dolphins - 6U - 48 vs. Raiders - 6U - 46
END:VEVENT
BEGIN:VEVENT
DTSTART:20240914T110000
DTEND:20240914T120000
SUMMARY:Rams - 6U - 47 vs. Raiders - 6U - 46
DESCRIPTION:6U - NFL Flag Division - New Mexico Young America Football League
LOCATION:Mesa Del Sol Field 4
CATEGORIES:QuickScores; Flag Football Game
TRANSP:0
DALARM:20240914T090000;PT10M;2;Rams - 6U - 47 vs. Raiders - 6U - 46
END:VEVENT
BEGIN:VEVENT
DTSTART:20240921T100000
DTEND:20240921T110000
SUMMARY:Raiders - 6U - 46 vs. Ravens - 6U - 57
DESCRIPTION:6U - NFL Flag Division - New Mexico Young America Football League
LOCATION:Mesa Del Sol Field 4
CATEGORIES:QuickScores; Flag Football Game
TRANSP:0
DALARM:20240921T080000;PT10M;2;Raiders - 6U - 46 vs. Ravens - 6U - 57
END:VEVENT
BEGIN:VEVENT
DTSTART:20240928T120000
DTEND:20240928T130000
SUMMARY:Raiders - 6U - 46 vs. Ravens - 6U - 57
DESCRIPTION:6U - NFL Flag Division - New Mexico Young America Football League
LOCATION:Mesa Del Sol Field 4
CATEGORIES:QuickScores; Flag Football Game
TRANSP:0
DALARM:20240928T100000;PT10M;2;Raiders - 6U - 46 vs. Ravens - 6U - 57
END:VEVENT
BEGIN:VEVENT
DTSTART:20241013T080000
DTEND:20241013T090000
SUMMARY:Raiders - 6U - 46 vs. Vikings - 6U - 62
DESCRIPTION:6U - NFL Flag Division - New Mexico Young America Football League
LOCATION:Community Stadium II
CATEGORIES:QuickScores; Flag Football Game
TRANSP:0
DALARM:20241013T060000;PT10M;2;Raiders - 6U - 46 vs. Vikings - 6U - 62
END:VEVENT
BEGIN:VEVENT
DTSTART:20241020T080000
DTEND:20241020T090000
SUMMARY:Dolphins - 6U - 48 vs. Raiders - 6U - 46
DESCRIPTION:6U - NFL Flag Division - New Mexico Young America Football League
LOCATION:Community Stadium II
CATEGORIES:QuickScores; Flag Football Game
TRANSP:0
DALARM:20241020T060000;PT10M;2;Dolphins - 6U - 48 vs. Raiders - 6U - 46
END:VEVENT
END:VCALENDAR
