BEGIN:VCALENDAR
VERSION:1.0
BEGIN:VEVENT
DTSTART:20251203T190000
DTEND:20251203T200000
SUMMARY:Celtics vs. Heat
DESCRIPTION:8U Boys - Warner Robins Parks and Recreation 
LOCATION:NH Court 3
CATEGORIES:QuickScores; Basketball - Youth Game
TRANSP:0
DALARM:20251203T170000;PT10M;2;Celtics vs. Heat
END:VEVENT
BEGIN:VEVENT
DTSTART:20251208T190000
DTEND:20251208T200000
SUMMARY:Magic vs. Heat
DESCRIPTION:8U Boys - Warner Robins Parks and Recreation 
LOCATION:NH Court 3
CATEGORIES:QuickScores; Basketball - Youth Game
TRANSP:0
DALARM:20251208T170000;PT10M;2;Magic vs. Heat
END:VEVENT
BEGIN:VEVENT
DTSTART:20251213T130000
DTEND:20251213T140000
SUMMARY:Heat vs. Bucks
DESCRIPTION:8U Boys - Warner Robins Parks and Recreation 
LOCATION:NH Court 3
CATEGORIES:QuickScores; Basketball - Youth Game
TRANSP:0
DALARM:20251213T110000;PT10M;2;Heat vs. Bucks
END:VEVENT
BEGIN:VEVENT
DTSTART:20260105T180000
DTEND:20260105T190000
SUMMARY:Jazz vs. Heat
DESCRIPTION:8U Boys - Warner Robins Parks and Recreation 
LOCATION:NH Court 3
CATEGORIES:QuickScores; Basketball - Youth Game
TRANSP:0
DALARM:20260105T160000;PT10M;2;Jazz vs. Heat
END:VEVENT
BEGIN:VEVENT
DTSTART:20260110T110000
DTEND:20260110T120000
SUMMARY:Heat vs. Magic
DESCRIPTION:8U Boys - Warner Robins Parks and Recreation 
LOCATION:NH Court 3
CATEGORIES:QuickScores; Basketball - Youth Game
TRANSP:0
DALARM:20260110T090000;PT10M;2;Heat vs. Magic
END:VEVENT
BEGIN:VEVENT
DTSTART:20260117T090000
DTEND:20260117T100000
SUMMARY:Heat vs. Raptors
DESCRIPTION:8U Boys - Warner Robins Parks and Recreation 
LOCATION:NH Court 3
CATEGORIES:QuickScores; Basketball - Youth Game
TRANSP:0
DALARM:20260117T070000;PT10M;2;Heat vs. Raptors
END:VEVENT
BEGIN:VEVENT
DTSTART:20260121T190000
DTEND:20260121T200000
SUMMARY:Timberwolves vs. Heat
DESCRIPTION:8U Boys - Warner Robins Parks and Recreation 
LOCATION:NH Court 3
CATEGORIES:QuickScores; Basketball - Youth Game
TRANSP:0
DALARM:20260121T170000;PT10M;2;Timberwolves vs. Heat
END:VEVENT
BEGIN:VEVENT
DTSTART:20260124T140000
DTEND:20260124T150000
SUMMARY:Heat vs. Celtics
DESCRIPTION:8U Boys - Warner Robins Parks and Recreation 
LOCATION:NH Court 3
CATEGORIES:QuickScores; Basketball - Youth Game
TRANSP:0
DALARM:20260124T120000;PT10M;2;Heat vs. Celtics
END:VEVENT
BEGIN:VEVENT
DTSTART:20260211T180000
DTEND:20260211T190000
SUMMARY:Raptors vs. Heat
DESCRIPTION:8U Boys - Warner Robins Parks and Recreation 
LOCATION:NH Court 3
CATEGORIES:QuickScores; Basketball - Youth Game
TRANSP:0
DALARM:20260211T160000;PT10M;2;Raptors vs. Heat
END:VEVENT
BEGIN:VEVENT
DTSTART:20260221T090000
DTEND:20260221T100000
SUMMARY:Heat vs. Timberwolves
DESCRIPTION:8U Boys - Warner Robins Parks and Recreation 
LOCATION:NH Court 3
CATEGORIES:QuickScores; Basketball - Youth Game
TRANSP:0
DALARM:20260221T070000;PT10M;2;Heat vs. Timberwolves
END:VEVENT
BEGIN:VEVENT
DTSTART:20260225T180000
DTEND:20260225T190000
SUMMARY:[D1 #2] Heat vs. [D2 #3] Bulls
DESCRIPTION:8U Boys - Warner Robins Parks and Recreation 
LOCATION:NH Court 2
CATEGORIES:QuickScores; Basketball - Youth Game
TRANSP:0
DALARM:20260225T160000;PT10M;2;[D1 #2] Heat vs. [D2 #3] Bulls
END:VEVENT
END:VCALENDAR
