BEGIN:VCALENDAR
VERSION:1.0
BEGIN:VEVENT
DTSTART:20251203T190000
DTEND:20251203T200000
SUMMARY:Hawks vs. Mavericks
DESCRIPTION:6U - Warner Robins Parks and Recreation 
LOCATION:NH Court 4
CATEGORIES:QuickScores; Basketball - Youth Game
TRANSP:0
DALARM:20251203T170000;PT10M;2;Hawks vs. Mavericks
END:VEVENT
BEGIN:VEVENT
DTSTART:20251215T190000
DTEND:20251215T200000
SUMMARY:Knicks vs. Mavericks
DESCRIPTION:6U - Warner Robins Parks and Recreation 
LOCATION:NH Court 4
CATEGORIES:QuickScores; Basketball - Youth Game
TRANSP:0
DALARM:20251215T170000;PT10M;2;Knicks vs. Mavericks
END:VEVENT
BEGIN:VEVENT
DTSTART:20260110T110000
DTEND:20260110T120000
SUMMARY:Mavericks vs. Timberwolves
DESCRIPTION:6U - Warner Robins Parks and Recreation 
LOCATION:Deloris Toliver
CATEGORIES:QuickScores; Basketball - Youth Game
TRANSP:0
DALARM:20260110T090000;PT10M;2;Mavericks vs. Timberwolves
END:VEVENT
BEGIN:VEVENT
DTSTART:20260117T120000
DTEND:20260117T130000
SUMMARY:Mavericks vs. Celtics
DESCRIPTION:6U - Warner Robins Parks and Recreation 
LOCATION:Deloris Toliver
CATEGORIES:QuickScores; Basketball - Youth Game
TRANSP:0
DALARM:20260117T100000;PT10M;2;Mavericks vs. Celtics
END:VEVENT
BEGIN:VEVENT
DTSTART:20260124T130000
DTEND:20260124T140000
SUMMARY:Mavericks vs. Hornets
DESCRIPTION:6U - Warner Robins Parks and Recreation 
LOCATION:Deloris Toliver
CATEGORIES:QuickScores; Basketball - Youth Game
TRANSP:0
DALARM:20260124T110000;PT10M;2;Mavericks vs. Hornets
END:VEVENT
BEGIN:VEVENT
DTSTART:20260128T180000
DTEND:20260128T190000
SUMMARY:Mavericks vs. Bucks
DESCRIPTION:6U - Warner Robins Parks and Recreation 
LOCATION:NH Court 4
CATEGORIES:QuickScores; Basketball - Youth Game
TRANSP:0
DALARM:20260128T160000;PT10M;2;Mavericks vs. Bucks
END:VEVENT
BEGIN:VEVENT
DTSTART:20260202T180000
DTEND:20260202T190000
SUMMARY:Hornets vs. Mavericks
DESCRIPTION:6U - Warner Robins Parks and Recreation 
LOCATION:NH Court 4
CATEGORIES:QuickScores; Basketball - Youth Game
TRANSP:0
DALARM:20260202T160000;PT10M;2;Hornets vs. Mavericks
END:VEVENT
BEGIN:VEVENT
DTSTART:20260218T180000
DTEND:20260218T190000
SUMMARY:Bucks vs. Mavericks
DESCRIPTION:6U - Warner Robins Parks and Recreation 
LOCATION:NH Court 4
CATEGORIES:QuickScores; Basketball - Youth Game
TRANSP:0
DALARM:20260218T160000;PT10M;2;Bucks vs. Mavericks
END:VEVENT
END:VCALENDAR
