BEGIN:VCALENDAR
VERSION:1.0
BEGIN:VEVENT
DTSTART:20251201T180000
DTEND:20251201T190000
SUMMARY:Grizzlies vs. Jazz
DESCRIPTION:6U - Warner Robins Parks and Recreation 
LOCATION:NH Court 4
CATEGORIES:QuickScores; Basketball - Youth Game
TRANSP:0
DALARM:20251201T160000;PT10M;2;Grizzlies vs. Jazz
END:VEVENT
BEGIN:VEVENT
DTSTART:20251213T120000
DTEND:20251213T130000
SUMMARY:Jazz vs. Heat
DESCRIPTION:6U - Warner Robins Parks and Recreation 
LOCATION:Deloris Toliver
CATEGORIES:QuickScores; Basketball - Youth Game
TRANSP:0
DALARM:20251213T100000;PT10M;2;Jazz vs. Heat
END:VEVENT
BEGIN:VEVENT
DTSTART:20251217T180000
DTEND:20251217T190000
SUMMARY:Suns vs. Jazz
DESCRIPTION:6U - Warner Robins Parks and Recreation 
LOCATION:NH Court 4
CATEGORIES:QuickScores; Basketball - Youth Game
TRANSP:0
DALARM:20251217T160000;PT10M;2;Suns vs. Jazz
END:VEVENT
BEGIN:VEVENT
DTSTART:20260110T130000
DTEND:20260110T140000
SUMMARY:Jazz vs. Bulls
DESCRIPTION:6U - Warner Robins Parks and Recreation 
LOCATION:Deloris Toliver
CATEGORIES:QuickScores; Basketball - Youth Game
TRANSP:0
DALARM:20260110T110000;PT10M;2;Jazz vs. Bulls
END:VEVENT
BEGIN:VEVENT
DTSTART:20260121T190000
DTEND:20260121T200000
SUMMARY:Jazz vs. 76ers
DESCRIPTION:6U - Warner Robins Parks and Recreation 
LOCATION:NH Court 4
CATEGORIES:QuickScores; Basketball - Youth Game
TRANSP:0
DALARM:20260121T170000;PT10M;2;Jazz vs. 76ers
END:VEVENT
BEGIN:VEVENT
DTSTART:20260124T100000
DTEND:20260124T110000
SUMMARY:Heat vs. Jazz
DESCRIPTION:6U - Warner Robins Parks and Recreation 
LOCATION:Deloris Toliver
CATEGORIES:QuickScores; Basketball - Youth Game
TRANSP:0
DALARM:20260124T080000;PT10M;2;Heat vs. Jazz
END:VEVENT
BEGIN:VEVENT
DTSTART:20260204T190000
DTEND:20260204T200000
SUMMARY:Jazz vs. Suns
DESCRIPTION:6U - Warner Robins Parks and Recreation 
LOCATION:NH Court 4
CATEGORIES:QuickScores; Basketball - Youth Game
TRANSP:0
DALARM:20260204T170000;PT10M;2;Jazz vs. Suns
END:VEVENT
BEGIN:VEVENT
DTSTART:20260221T110000
DTEND:20260221T120000
SUMMARY:Lakers vs. Jazz
DESCRIPTION:6U - Warner Robins Parks and Recreation 
LOCATION:NH Court 4
CATEGORIES:QuickScores; Basketball - Youth Game
TRANSP:0
DALARM:20260221T090000;PT10M;2;Lakers vs. Jazz
END:VEVENT
END:VCALENDAR
