BEGIN:VCALENDAR
VERSION:1.0
BEGIN:VEVENT
DTSTART:20251112T191500
DTEND:20251112T201500
SUMMARY:Predator Pack vs. Score Navigator
DESCRIPTION:Men's - Warner Robins Parks and Recreation 
LOCATION:Tanner 3
CATEGORIES:QuickScores; Flag Football Game
TRANSP:0
DALARM:20251112T171500;PT10M;2;Predator Pack vs. Score Navigator
END:VEVENT
BEGIN:VEVENT
DTSTART:20251113T201500
DTEND:20251113T211500
SUMMARY:Predator Pack vs. Bulldogs
DESCRIPTION:Men's - Warner Robins Parks and Recreation 
LOCATION:Tanner 3
CATEGORIES:QuickScores; Flag Football Game
TRANSP:0
DALARM:20251113T181500;PT10M;2;Predator Pack vs. Bulldogs
END:VEVENT
BEGIN:VEVENT
DTSTART:20251118T181500
DTEND:20251118T191500
SUMMARY:Predator Pack vs. Bandits
DESCRIPTION:Men's - Warner Robins Parks and Recreation 
LOCATION:Tanner 3
CATEGORIES:QuickScores; Flag Football Game
TRANSP:0
DALARM:20251118T161500;PT10M;2;Predator Pack vs. Bandits
END:VEVENT
BEGIN:VEVENT
DTSTART:20251124T181500
DTEND:20251124T191500
SUMMARY:Space Jam vs. Predator Pack
DESCRIPTION:Men's - Warner Robins Parks and Recreation 
LOCATION:Tanner 3
CATEGORIES:QuickScores; Flag Football Game
TRANSP:0
DALARM:20251124T161500;PT10M;2;Space Jam vs. Predator Pack
END:VEVENT
BEGIN:VEVENT
DTSTART:20251125T201500
DTEND:20251125T211500
SUMMARY:Da Gridiron Reaperz vs. Predator Pack
DESCRIPTION:Men's - Warner Robins Parks and Recreation 
LOCATION:Tanner 3
CATEGORIES:QuickScores; Flag Football Game
TRANSP:0
DALARM:20251125T181500;PT10M;2;Da Gridiron Reaperz vs. Predator Pack
END:VEVENT
BEGIN:VEVENT
DTSTART:20251202T201500
DTEND:20251202T211500
SUMMARY:Predator Pack vs. Neighborhood Heros
DESCRIPTION:Men's - Warner Robins Parks and Recreation 
LOCATION:Tanner 3
CATEGORIES:QuickScores; Flag Football Game
TRANSP:0
DALARM:20251202T181500;PT10M;2;Predator Pack vs. Neighborhood Heros
END:VEVENT
BEGIN:VEVENT
DTSTART:20251209T181500
DTEND:20251209T191500
SUMMARY:Bulldogs vs. Predator Pack
DESCRIPTION:Men's - Warner Robins Parks and Recreation 
LOCATION:Tanner 3
CATEGORIES:QuickScores; Flag Football Game
TRANSP:0
DALARM:20251209T161500;PT10M;2;Bulldogs vs. Predator Pack
END:VEVENT
BEGIN:VEVENT
DTSTART:20251215T191500
DTEND:20251215T201500
SUMMARY:Score Navigator vs. Predator Pack
DESCRIPTION:Rescheduled from 12/4; Score Navigator forfeit --- Men's - Warner Robins Parks and Recreation 
LOCATION:Tanner 3
CATEGORIES:QuickScores; Flag Football Game
TRANSP:0
DALARM:20251215T171500;PT10M;2;Score Navigator vs. Predator Pack
END:VEVENT
BEGIN:VEVENT
DTSTART:20251216T181500
DTEND:20251216T191500
SUMMARY:[2] Neighborhood Heros vs. [3] Predator Pack
DESCRIPTION:Men's - Warner Robins Parks and Recreation 
LOCATION:Tanner 3
CATEGORIES:QuickScores; Flag Football Game
TRANSP:0
DALARM:20251216T161500;PT10M;2;[2] Neighborhood Heros vs. [3] Predator Pack
END:VEVENT
END:VCALENDAR
