BEGIN:VCALENDAR
VERSION:1.0
BEGIN:VEVENT
DTSTART:20250826T190000
DTEND:20250826T200000
SUMMARY:Buccaneers (P) vs. Vikings (P)
DESCRIPTION:12U - Warner Robins Parks and Recreation 
LOCATION:Creekwood
CATEGORIES:QuickScores; Football Game
TRANSP:0
DALARM:20250826T170000;PT10M;2;Buccaneers (P) vs. Vikings (P)
END:VEVENT
BEGIN:VEVENT
DTSTART:20250902T180000
DTEND:20250902T190000
SUMMARY:Steelers (P) vs. Buccaneers (P)
DESCRIPTION:12U - Warner Robins Parks and Recreation 
LOCATION:Creekwood
CATEGORIES:QuickScores; Football Game
TRANSP:0
DALARM:20250902T160000;PT10M;2;Steelers (P) vs. Buccaneers (P)
END:VEVENT
BEGIN:VEVENT
DTSTART:20250906T133000
DTEND:20250906T143000
SUMMARY:Buccaneers (P) vs. Titans
DESCRIPTION:12U - Warner Robins Parks and Recreation 
LOCATION:Creekwood
CATEGORIES:QuickScores; Football Game
TRANSP:0
DALARM:20250906T113000;PT10M;2;Buccaneers (P) vs. Titans
END:VEVENT
BEGIN:VEVENT
DTSTART:20250915T193000
DTEND:20250915T203000
SUMMARY:Buccaneers (P) vs. Texans
DESCRIPTION:12U - Warner Robins Parks and Recreation 
LOCATION:Creekwood
CATEGORIES:QuickScores; Football Game
TRANSP:0
DALARM:20250915T173000;PT10M;2;Buccaneers (P) vs. Texans
END:VEVENT
BEGIN:VEVENT
DTSTART:20250920T103000
DTEND:20250920T113000
SUMMARY:Cardinals vs. Buccaneers (P)
DESCRIPTION:12U - Warner Robins Parks and Recreation 
LOCATION:Tanner 1
CATEGORIES:QuickScores; Football Game
TRANSP:0
DALARM:20250920T083000;PT10M;2;Cardinals vs. Buccaneers (P)
END:VEVENT
BEGIN:VEVENT
DTSTART:20250930T193000
DTEND:20250930T203000
SUMMARY:Chiefs vs. Buccaneers (P)
DESCRIPTION:12U - Warner Robins Parks and Recreation 
LOCATION:Tanner 1
CATEGORIES:QuickScores; Football Game
TRANSP:0
DALARM:20250930T173000;PT10M;2;Chiefs vs. Buccaneers (P)
END:VEVENT
BEGIN:VEVENT
DTSTART:20251014T180000
DTEND:20251014T190000
SUMMARY:Vikings (P) vs. Buccaneers (P)
DESCRIPTION:12U - Warner Robins Parks and Recreation 
LOCATION:Creekwood
CATEGORIES:QuickScores; Football Game
TRANSP:0
DALARM:20251014T160000;PT10M;2;Vikings (P) vs. Buccaneers (P)
END:VEVENT
BEGIN:VEVENT
DTSTART:20251018T090000
DTEND:20251018T100000
SUMMARY:Buccaneers (P) vs. Chiefs
DESCRIPTION:12U - Warner Robins Parks and Recreation 
LOCATION:Creekwood
CATEGORIES:QuickScores; Football Game
TRANSP:0
DALARM:20251018T070000;PT10M;2;Buccaneers (P) vs. Chiefs
END:VEVENT
END:VCALENDAR
