BEGIN:VCALENDAR
VERSION:1.0
BEGIN:VEVENT
DTSTART:20250823T103000
DTEND:20250823T113000
SUMMARY:Chiefs vs. Texans
DESCRIPTION:12U - Warner Robins Parks and Recreation 
LOCATION:Tanner 1
CATEGORIES:QuickScores; Football Game
TRANSP:0
DALARM:20250823T083000;PT10M;2;Chiefs vs. Texans
END:VEVENT
BEGIN:VEVENT
DTSTART:20250909T193000
DTEND:20250909T203000
SUMMARY:Vikings (P) vs. Texans
DESCRIPTION:12U - Warner Robins Parks and Recreation 
LOCATION:Creekwood
CATEGORIES:QuickScores; Football Game
TRANSP:0
DALARM:20250909T173000;PT10M;2;Vikings (P) vs. Texans
END:VEVENT
BEGIN:VEVENT
DTSTART:20250915T193000
DTEND:20250915T203000
SUMMARY:Buccaneers (P) vs. Texans
DESCRIPTION:12U - Warner Robins Parks and Recreation 
LOCATION:Creekwood
CATEGORIES:QuickScores; Football Game
TRANSP:0
DALARM:20250915T173000;PT10M;2;Buccaneers (P) vs. Texans
END:VEVENT
BEGIN:VEVENT
DTSTART:20250920T090000
DTEND:20250920T100000
SUMMARY:Texans vs. Titans
DESCRIPTION:12U - Warner Robins Parks and Recreation 
LOCATION:Tanner 1
CATEGORIES:QuickScores; Football Game
TRANSP:0
DALARM:20250920T070000;PT10M;2;Texans vs. Titans
END:VEVENT
BEGIN:VEVENT
DTSTART:20250927T103000
DTEND:20250927T113000
SUMMARY:Texans vs. Cardinals
DESCRIPTION:12U - Warner Robins Parks and Recreation 
LOCATION:Tanner 2
CATEGORIES:QuickScores; Football Game
TRANSP:0
DALARM:20250927T083000;PT10M;2;Texans vs. Cardinals
END:VEVENT
BEGIN:VEVENT
DTSTART:20250930T193000
DTEND:20250930T203000
SUMMARY:Steelers (P) vs. Texans
DESCRIPTION:12U - Warner Robins Parks and Recreation 
LOCATION:Creekwood
CATEGORIES:QuickScores; Football Game
TRANSP:0
DALARM:20250930T173000;PT10M;2;Steelers (P) vs. Texans
END:VEVENT
BEGIN:VEVENT
DTSTART:20251014T190000
DTEND:20251014T200000
SUMMARY:Texans vs. Chiefs
DESCRIPTION:12U - Warner Robins Parks and Recreation 
LOCATION:Tanner 2
CATEGORIES:QuickScores; Football Game
TRANSP:0
DALARM:20251014T170000;PT10M;2;Texans vs. Chiefs
END:VEVENT
BEGIN:VEVENT
DTSTART:20251018T090000
DTEND:20251018T100000
SUMMARY:Texans vs. Steelers (P)
DESCRIPTION:12U - Warner Robins Parks and Recreation 
LOCATION:Tanner 2
CATEGORIES:QuickScores; Football Game
TRANSP:0
DALARM:20251018T070000;PT10M;2;Texans vs. Steelers (P)
END:VEVENT
BEGIN:VEVENT
DTSTART:20251023T180000
DTEND:20251023T193000
SUMMARY:Titans vs. Texans
DESCRIPTION:12U - Warner Robins Parks and Recreation 
LOCATION:Tanner 1
CATEGORIES:QuickScores; Football Game
TRANSP:0
DALARM:20251023T160000;PT10M;2;Titans vs. Texans
END:VEVENT
BEGIN:VEVENT
DTSTART:20251101T115000
DTEND:20251101T130500
SUMMARY:Cardinals vs. Texans
DESCRIPTION:12U - Warner Robins Parks and Recreation 
LOCATION:The Mac
CATEGORIES:QuickScores; Football Game
TRANSP:0
DALARM:20251101T095000;PT10M;2;Cardinals vs. Texans
END:VEVENT
END:VCALENDAR
