BEGIN:VCALENDAR
VERSION:1.0
BEGIN:VEVENT
DTSTART:20250415T180000
DTEND:20250415T191500
SUMMARY:Mariners (PC) vs. Rockies
DESCRIPTION:8U Boys - Warner Robins Parks and Recreation 
LOCATION:North Peach - Field 3
CATEGORIES:QuickScores; Baseball - Youth Game
TRANSP:0
DALARM:20250415T160000;PT10M;2;Mariners (PC) vs. Rockies
END:VEVENT
BEGIN:VEVENT
DTSTART:20250417T180000
DTEND:20250417T191500
SUMMARY:Astros (PC) vs. Mariners (PC)
DESCRIPTION:8U Boys - Warner Robins Parks and Recreation 
LOCATION:South Peach 1
CATEGORIES:QuickScores; Baseball - Youth Game
TRANSP:0
DALARM:20250417T160000;PT10M;2;Astros (PC) vs. Mariners (PC)
END:VEVENT
BEGIN:VEVENT
DTSTART:20250419T090000
DTEND:20250419T101500
SUMMARY:Giants vs. Mariners (PC)
DESCRIPTION:8U Boys - Warner Robins Parks and Recreation 
LOCATION:Simpson - Field 4
CATEGORIES:QuickScores; Baseball - Youth Game
TRANSP:0
DALARM:20250419T070000;PT10M;2;Giants vs. Mariners (PC)
END:VEVENT
BEGIN:VEVENT
DTSTART:20250428T181500
DTEND:20250428T193000
SUMMARY:Mariners (PC) vs. Pirates (PC)
DESCRIPTION:8U Boys - Warner Robins Parks and Recreation 
LOCATION:South Peach 1
CATEGORIES:QuickScores; Baseball - Youth Game
TRANSP:0
DALARM:20250428T161500;PT10M;2;Mariners (PC) vs. Pirates (PC)
END:VEVENT
BEGIN:VEVENT
DTSTART:20250508T180000
DTEND:20250508T191500
SUMMARY:Mariners (PC) vs. Astros
DESCRIPTION:8U Boys - Warner Robins Parks and Recreation 
LOCATION:North Peach - Field B
CATEGORIES:QuickScores; Baseball - Youth Game
TRANSP:0
DALARM:20250508T160000;PT10M;2;Mariners (PC) vs. Astros
END:VEVENT
BEGIN:VEVENT
DTSTART:20250510T101500
DTEND:20250510T113000
SUMMARY:Giants vs. Mariners (PC)
DESCRIPTION:8U Boys - Warner Robins Parks and Recreation 
LOCATION:Simpson - Field 4
CATEGORIES:QuickScores; Baseball - Youth Game
TRANSP:0
DALARM:20250510T081500;PT10M;2;Giants vs. Mariners (PC)
END:VEVENT
BEGIN:VEVENT
DTSTART:20250515T191500
DTEND:20250515T203000
SUMMARY:Mariners (PC) vs. Braves
DESCRIPTION:8U Boys - Warner Robins Parks and Recreation 
LOCATION:South Peach 1
CATEGORIES:QuickScores; Baseball - Youth Game
TRANSP:0
DALARM:20250515T171500;PT10M;2;Mariners (PC) vs. Braves
END:VEVENT
BEGIN:VEVENT
DTSTART:20250519T191500
DTEND:20250519T203000
SUMMARY:Rockies vs. Mariners (PC)
DESCRIPTION:Mariners Forfeit --- 8U Boys - Warner Robins Parks and Recreation 
LOCATION:Simpson - Field 4
CATEGORIES:QuickScores; Baseball - Youth Game
TRANSP:0
DALARM:20250519T171500;PT10M;2;Rockies vs. Mariners (PC)
END:VEVENT
END:VCALENDAR
