BEGIN:VCALENDAR
VERSION:1.0
BEGIN:VEVENT
DTSTART:20250111T100000
DTEND:20250111T110000
SUMMARY:Hornets vs. Mavericks
DESCRIPTION:6U - Warner Robins Parks and Recreation 
LOCATION:Deloris Toliver
CATEGORIES:QuickScores; Basketball - Youth Game
TRANSP:0
DALARM:20250111T080000;PT10M;2;Hornets vs. Mavericks
END:VEVENT
BEGIN:VEVENT
DTSTART:20250115T190000
DTEND:20250115T200000
SUMMARY:Hornets vs. Timberwolves
DESCRIPTION:6U - Warner Robins Parks and Recreation 
LOCATION:NH Court 4
CATEGORIES:QuickScores; Basketball - Youth Game
TRANSP:0
DALARM:20250115T170000;PT10M;2;Hornets vs. Timberwolves
END:VEVENT
BEGIN:VEVENT
DTSTART:20250118T120000
DTEND:20250118T130000
SUMMARY:Bucks vs. Hornets
DESCRIPTION:6U - Warner Robins Parks and Recreation 
LOCATION:Deloris Toliver
CATEGORIES:QuickScores; Basketball - Youth Game
TRANSP:0
DALARM:20250118T100000;PT10M;2;Bucks vs. Hornets
END:VEVENT
BEGIN:VEVENT
DTSTART:20250130T180000
DTEND:20250130T190000
SUMMARY:Hawks vs. Hornets
DESCRIPTION:6U - Warner Robins Parks and Recreation 
LOCATION:NH Court 4
CATEGORIES:QuickScores; Basketball - Youth Game
TRANSP:0
DALARM:20250130T160000;PT10M;2;Hawks vs. Hornets
END:VEVENT
BEGIN:VEVENT
DTSTART:20250201T090000
DTEND:20250201T100000
SUMMARY:Celtics vs. Hornets
DESCRIPTION:6U - Warner Robins Parks and Recreation 
LOCATION:Deloris Toliver
CATEGORIES:QuickScores; Basketball - Youth Game
TRANSP:0
DALARM:20250201T070000;PT10M;2;Celtics vs. Hornets
END:VEVENT
BEGIN:VEVENT
DTSTART:20250207T190000
DTEND:20250207T200000
SUMMARY:Hornets vs. Knicks
DESCRIPTION:6U - Warner Robins Parks and Recreation 
LOCATION:NH Court 4
CATEGORIES:QuickScores; Basketball - Youth Game
TRANSP:0
DALARM:20250207T170000;PT10M;2;Hornets vs. Knicks
END:VEVENT
BEGIN:VEVENT
DTSTART:20250208T110000
DTEND:20250208T120000
SUMMARY:Hornets vs. Bucks
DESCRIPTION:6U - Warner Robins Parks and Recreation 
LOCATION:Deloris Toliver
CATEGORIES:QuickScores; Basketball - Youth Game
TRANSP:0
DALARM:20250208T090000;PT10M;2;Hornets vs. Bucks
END:VEVENT
BEGIN:VEVENT
DTSTART:20250215T130000
DTEND:20250215T140000
SUMMARY:Mavericks vs. Hornets
DESCRIPTION:6U - Warner Robins Parks and Recreation 
LOCATION:Deloris Toliver
CATEGORIES:QuickScores; Basketball - Youth Game
TRANSP:0
DALARM:20250215T110000;PT10M;2;Mavericks vs. Hornets
END:VEVENT
END:VCALENDAR
