BEGIN:VCALENDAR
VERSION:1.0
BEGIN:VEVENT
DTSTART:20250108T180000
DTEND:20250108T190000
SUMMARY:Mavericks vs. Hawks
DESCRIPTION:6U - Warner Robins Parks and Recreation 
LOCATION:NH Court 4
CATEGORIES:QuickScores; Basketball - Youth Game
TRANSP:0
DALARM:20250108T160000;PT10M;2;Mavericks vs. Hawks
END:VEVENT
BEGIN:VEVENT
DTSTART:20250113T190000
DTEND:20250113T200000
SUMMARY:Hawks vs. Timberwolves
DESCRIPTION:6U - Warner Robins Parks and Recreation 
LOCATION:NH Court 4
CATEGORIES:QuickScores; Basketball - Youth Game
TRANSP:0
DALARM:20250113T170000;PT10M;2;Hawks vs. Timberwolves
END:VEVENT
BEGIN:VEVENT
DTSTART:20250118T110000
DTEND:20250118T120000
SUMMARY:Knicks vs. Hawks
DESCRIPTION:6U - Warner Robins Parks and Recreation 
LOCATION:Deloris Toliver
CATEGORIES:QuickScores; Basketball - Youth Game
TRANSP:0
DALARM:20250118T090000;PT10M;2;Knicks vs. Hawks
END:VEVENT
BEGIN:VEVENT
DTSTART:20250130T180000
DTEND:20250130T190000
SUMMARY:Hawks vs. Hornets
DESCRIPTION:6U - Warner Robins Parks and Recreation 
LOCATION:NH Court 4
CATEGORIES:QuickScores; Basketball - Youth Game
TRANSP:0
DALARM:20250130T160000;PT10M;2;Hawks vs. Hornets
END:VEVENT
BEGIN:VEVENT
DTSTART:20250201T130000
DTEND:20250201T140000
SUMMARY:Timberwolves vs. Hawks
DESCRIPTION:6U - Warner Robins Parks and Recreation 
LOCATION:Deloris Toliver
CATEGORIES:QuickScores; Basketball - Youth Game
TRANSP:0
DALARM:20250201T110000;PT10M;2;Timberwolves vs. Hawks
END:VEVENT
BEGIN:VEVENT
DTSTART:20250214T180000
DTEND:20250214T190000
SUMMARY:Hawks vs. Celtics
DESCRIPTION:6U - Warner Robins Parks and Recreation 
LOCATION:NH Court 4
CATEGORIES:QuickScores; Basketball - Youth Game
TRANSP:0
DALARM:20250214T160000;PT10M;2;Hawks vs. Celtics
END:VEVENT
BEGIN:VEVENT
DTSTART:20250215T100000
DTEND:20250215T110000
SUMMARY:Hawks vs. Bucks
DESCRIPTION:6U - Warner Robins Parks and Recreation 
LOCATION:Deloris Toliver
CATEGORIES:QuickScores; Basketball - Youth Game
TRANSP:0
DALARM:20250215T080000;PT10M;2;Hawks vs. Bucks
END:VEVENT
BEGIN:VEVENT
DTSTART:20250222T090000
DTEND:20250222T100000
SUMMARY:Bucks vs. Hawks
DESCRIPTION:6U - Warner Robins Parks and Recreation 
LOCATION:Deloris Toliver
CATEGORIES:QuickScores; Basketball - Youth Game
TRANSP:0
DALARM:20250222T070000;PT10M;2;Bucks vs. Hawks
END:VEVENT
END:VCALENDAR
