BEGIN:VCALENDAR
VERSION:1.0
BEGIN:VEVENT
DTSTART:20250111T090000
DTEND:20250111T100000
SUMMARY:Heat vs. Suns
DESCRIPTION:6U - Warner Robins Parks and Recreation 
LOCATION:Deloris Toliver
CATEGORIES:QuickScores; Basketball - Youth Game
TRANSP:0
DALARM:20250111T070000;PT10M;2;Heat vs. Suns
END:VEVENT
BEGIN:VEVENT
DTSTART:20250118T130000
DTEND:20250118T140000
SUMMARY:Suns vs. Grizzlies
DESCRIPTION:6U - Warner Robins Parks and Recreation 
LOCATION:Deloris Toliver
CATEGORIES:QuickScores; Basketball - Youth Game
TRANSP:0
DALARM:20250118T110000;PT10M;2;Suns vs. Grizzlies
END:VEVENT
BEGIN:VEVENT
DTSTART:20250125T090000
DTEND:20250125T100000
SUMMARY:Bulls vs. Suns
DESCRIPTION:6U - Warner Robins Parks and Recreation 
LOCATION:Deloris Toliver
CATEGORIES:QuickScores; Basketball - Youth Game
TRANSP:0
DALARM:20250125T070000;PT10M;2;Bulls vs. Suns
END:VEVENT
BEGIN:VEVENT
DTSTART:20250129T180000
DTEND:20250129T190000
SUMMARY:Suns vs. 76ers
DESCRIPTION:6U - Warner Robins Parks and Recreation 
LOCATION:NH Court 3
CATEGORIES:QuickScores; Basketball - Youth Game
TRANSP:0
DALARM:20250129T160000;PT10M;2;Suns vs. 76ers
END:VEVENT
BEGIN:VEVENT
DTSTART:20250201T110000
DTEND:20250201T120000
SUMMARY:Suns vs. Lakers
DESCRIPTION:6U - Warner Robins Parks and Recreation 
LOCATION:Deloris Toliver
CATEGORIES:QuickScores; Basketball - Youth Game
TRANSP:0
DALARM:20250201T090000;PT10M;2;Suns vs. Lakers
END:VEVENT
BEGIN:VEVENT
DTSTART:20250210T180000
DTEND:20250210T190000
SUMMARY:76ers vs. Suns
DESCRIPTION:6U - Warner Robins Parks and Recreation 
LOCATION:NH Court 4
CATEGORIES:QuickScores; Basketball - Youth Game
TRANSP:0
DALARM:20250210T160000;PT10M;2;76ers vs. Suns
END:VEVENT
BEGIN:VEVENT
DTSTART:20250215T120000
DTEND:20250215T130000
SUMMARY:Jazz vs. Suns
DESCRIPTION:6U - Warner Robins Parks and Recreation 
LOCATION:Deloris Toliver
CATEGORIES:QuickScores; Basketball - Youth Game
TRANSP:0
DALARM:20250215T100000;PT10M;2;Jazz vs. Suns
END:VEVENT
BEGIN:VEVENT
DTSTART:20250222T100000
DTEND:20250222T110000
SUMMARY:Suns vs. Jazz
DESCRIPTION:6U - Warner Robins Parks and Recreation 
LOCATION:Deloris Toliver
CATEGORIES:QuickScores; Basketball - Youth Game
TRANSP:0
DALARM:20250222T080000;PT10M;2;Suns vs. Jazz
END:VEVENT
END:VCALENDAR
