BEGIN:VCALENDAR
VERSION:1.0
BEGIN:VEVENT
DTSTART:20250111T120000
DTEND:20250111T130000
SUMMARY:Bulls vs. Grizzlies
DESCRIPTION:6U - Warner Robins Parks and Recreation 
LOCATION:Deloris Toliver
CATEGORIES:QuickScores; Basketball - Youth Game
TRANSP:0
DALARM:20250111T100000;PT10M;2;Bulls vs. Grizzlies
END:VEVENT
BEGIN:VEVENT
DTSTART:20250115T180000
DTEND:20250115T190000
SUMMARY:Grizzlies vs. Lakers
DESCRIPTION:6U - Warner Robins Parks and Recreation 
LOCATION:NH Court 4
CATEGORIES:QuickScores; Basketball - Youth Game
TRANSP:0
DALARM:20250115T160000;PT10M;2;Grizzlies vs. Lakers
END:VEVENT
BEGIN:VEVENT
DTSTART:20250118T130000
DTEND:20250118T140000
SUMMARY:Suns vs. Grizzlies
DESCRIPTION:6U - Warner Robins Parks and Recreation 
LOCATION:Deloris Toliver
CATEGORIES:QuickScores; Basketball - Youth Game
TRANSP:0
DALARM:20250118T110000;PT10M;2;Suns vs. Grizzlies
END:VEVENT
BEGIN:VEVENT
DTSTART:20250124T190000
DTEND:20250124T200000
SUMMARY:Grizzlies vs. Heat
DESCRIPTION:6U - Warner Robins Parks and Recreation 
LOCATION:NH Court 4
CATEGORIES:QuickScores; Basketball - Youth Game
TRANSP:0
DALARM:20250124T170000;PT10M;2;Grizzlies vs. Heat
END:VEVENT
BEGIN:VEVENT
DTSTART:20250125T120000
DTEND:20250125T130000
SUMMARY:Lakers vs. Grizzlies
DESCRIPTION:6U - Warner Robins Parks and Recreation 
LOCATION:Deloris Toliver
CATEGORIES:QuickScores; Basketball - Youth Game
TRANSP:0
DALARM:20250125T100000;PT10M;2;Lakers vs. Grizzlies
END:VEVENT
BEGIN:VEVENT
DTSTART:20250201T100000
DTEND:20250201T110000
SUMMARY:Grizzlies vs. Jazz
DESCRIPTION:6U - Warner Robins Parks and Recreation 
LOCATION:Deloris Toliver
CATEGORIES:QuickScores; Basketball - Youth Game
TRANSP:0
DALARM:20250201T080000;PT10M;2;Grizzlies vs. Jazz
END:VEVENT
BEGIN:VEVENT
DTSTART:20250210T190000
DTEND:20250210T200000
SUMMARY:Heat vs. Grizzlies
DESCRIPTION:6U - Warner Robins Parks and Recreation 
LOCATION:NH Court 4
CATEGORIES:QuickScores; Basketball - Youth Game
TRANSP:0
DALARM:20250210T170000;PT10M;2;Heat vs. Grizzlies
END:VEVENT
BEGIN:VEVENT
DTSTART:20250215T090000
DTEND:20250215T100000
SUMMARY:Grizzlies vs. 76ers
DESCRIPTION:6U - Warner Robins Parks and Recreation 
LOCATION:Deloris Toliver
CATEGORIES:QuickScores; Basketball - Youth Game
TRANSP:0
DALARM:20250215T070000;PT10M;2;Grizzlies vs. 76ers
END:VEVENT
END:VCALENDAR
