BEGIN:VCALENDAR
VERSION:1.0
BEGIN:VEVENT
DTSTART:20250106T190000
DTEND:20250106T200000
SUMMARY:Bulls vs. 76ers
DESCRIPTION:6U - Warner Robins Parks and Recreation 
LOCATION:NH Court 4
CATEGORIES:QuickScores; Basketball - Youth Game
TRANSP:0
DALARM:20250106T170000;PT10M;2;Bulls vs. 76ers
END:VEVENT
BEGIN:VEVENT
DTSTART:20250111T120000
DTEND:20250111T130000
SUMMARY:Bulls vs. Grizzlies
DESCRIPTION:6U - Warner Robins Parks and Recreation 
LOCATION:Deloris Toliver
CATEGORIES:QuickScores; Basketball - Youth Game
TRANSP:0
DALARM:20250111T100000;PT10M;2;Bulls vs. Grizzlies
END:VEVENT
BEGIN:VEVENT
DTSTART:20250124T180000
DTEND:20250124T190000
SUMMARY:Jazz vs. Bulls
DESCRIPTION:6U - Warner Robins Parks and Recreation 
LOCATION:NH Court 4
CATEGORIES:QuickScores; Basketball - Youth Game
TRANSP:0
DALARM:20250124T160000;PT10M;2;Jazz vs. Bulls
END:VEVENT
BEGIN:VEVENT
DTSTART:20250125T090000
DTEND:20250125T100000
SUMMARY:Bulls vs. Suns
DESCRIPTION:6U - Warner Robins Parks and Recreation 
LOCATION:Deloris Toliver
CATEGORIES:QuickScores; Basketball - Youth Game
TRANSP:0
DALARM:20250125T070000;PT10M;2;Bulls vs. Suns
END:VEVENT
BEGIN:VEVENT
DTSTART:20250203T180000
DTEND:20250203T190000
SUMMARY:Bulls vs. Heat
DESCRIPTION:6U - Warner Robins Parks and Recreation 
LOCATION:NH Court 4
CATEGORIES:QuickScores; Basketball - Youth Game
TRANSP:0
DALARM:20250203T160000;PT10M;2;Bulls vs. Heat
END:VEVENT
BEGIN:VEVENT
DTSTART:20250208T130000
DTEND:20250208T140000
SUMMARY:76ers vs. Bulls
DESCRIPTION:6U - Warner Robins Parks and Recreation 
LOCATION:Deloris Toliver
CATEGORIES:QuickScores; Basketball - Youth Game
TRANSP:0
DALARM:20250208T110000;PT10M;2;76ers vs. Bulls
END:VEVENT
BEGIN:VEVENT
DTSTART:20250215T110000
DTEND:20250215T120000
SUMMARY:Heat vs. Bulls
DESCRIPTION:6U - Warner Robins Parks and Recreation 
LOCATION:Deloris Toliver
CATEGORIES:QuickScores; Basketball - Youth Game
TRANSP:0
DALARM:20250215T090000;PT10M;2;Heat vs. Bulls
END:VEVENT
BEGIN:VEVENT
DTSTART:20250222T110000
DTEND:20250222T120000
SUMMARY:Lakers vs. Bulls
DESCRIPTION:6U - Warner Robins Parks and Recreation 
LOCATION:Deloris Toliver
CATEGORIES:QuickScores; Basketball - Youth Game
TRANSP:0
DALARM:20250222T090000;PT10M;2;Lakers vs. Bulls
END:VEVENT
END:VCALENDAR
