BEGIN:VCALENDAR
VERSION:1.0
BEGIN:VEVENT
DTSTART:20230820T090000
DTEND:20230820T100000
SUMMARY:John's Bombers vs. Wheeling Fire
DESCRIPTION:Fall 2023 Adult League Softball - 
LOCATION:35th Street, South Wheeling
CATEGORIES:QuickScores; Softball - Adult Game
TRANSP:0
DALARM:20230820T070000;PT10M;2;John's Bombers vs. Wheeling Fire
END:VEVENT
BEGIN:VEVENT
DTSTART:20230820T100000
DTEND:20230820T110000
SUMMARY:Wheeling Fire vs. John's Bombers
DESCRIPTION:Fall 2023 Adult League Softball - 
LOCATION:35th Street, South Wheeling
CATEGORIES:QuickScores; Softball - Adult Game
TRANSP:0
DALARM:20230820T080000;PT10M;2;Wheeling Fire vs. John's Bombers
END:VEVENT
BEGIN:VEVENT
DTSTART:20230827T110000
DTEND:20230827T120000
SUMMARY:John's Bombers vs. PAP Club
DESCRIPTION:Fall 2023 Adult League Softball - 
LOCATION:35th Street, South Wheeling
CATEGORIES:QuickScores; Softball - Adult Game
TRANSP:0
DALARM:20230827T090000;PT10M;2;John's Bombers vs. PAP Club
END:VEVENT
BEGIN:VEVENT
DTSTART:20230827T120000
DTEND:20230827T130000
SUMMARY:PAP Club vs. John's Bombers
DESCRIPTION:Fall 2023 Adult League Softball - 
LOCATION:35th Street, South Wheeling
CATEGORIES:QuickScores; Softball - Adult Game
TRANSP:0
DALARM:20230827T100000;PT10M;2;PAP Club vs. John's Bombers
END:VEVENT
BEGIN:VEVENT
DTSTART:20230910T130000
DTEND:20230910T140000
SUMMARY:Jokers vs. John's Bombers
DESCRIPTION:Fall 2023 Adult League Softball - 
LOCATION:35th Street, South Wheeling
CATEGORIES:QuickScores; Softball - Adult Game
TRANSP:0
DALARM:20230910T110000;PT10M;2;Jokers vs. John's Bombers
END:VEVENT
BEGIN:VEVENT
DTSTART:20230910T140000
DTEND:20230910T150000
SUMMARY:John's Bombers vs. Jokers
DESCRIPTION:Fall 2023 Adult League Softball - 
LOCATION:35th Street, South Wheeling
CATEGORIES:QuickScores; Softball - Adult Game
TRANSP:0
DALARM:20230910T120000;PT10M;2;John's Bombers vs. Jokers
END:VEVENT
BEGIN:VEVENT
DTSTART:20230917T090000
DTEND:20230917T100000
SUMMARY:The Voo Doo Lounge vs. John's Bombers
DESCRIPTION:Fall 2023 Adult League Softball - 
LOCATION:35th Street, South Wheeling
CATEGORIES:QuickScores; Softball - Adult Game
TRANSP:0
DALARM:20230917T070000;PT10M;2;The Voo Doo Lounge vs. John's Bombers
END:VEVENT
BEGIN:VEVENT
DTSTART:20230917T100000
DTEND:20230917T110000
SUMMARY:John's Bombers vs. The Voo Doo Lounge
DESCRIPTION:Fall 2023 Adult League Softball - 
LOCATION:35th Street, South Wheeling
CATEGORIES:QuickScores; Softball - Adult Game
TRANSP:0
DALARM:20230917T080000;PT10M;2;John's Bombers vs. The Voo Doo Lounge
END:VEVENT
BEGIN:VEVENT
DTSTART:20230924T130000
DTEND:20230924T140000
SUMMARY:Chaos vs. John's Bombers
DESCRIPTION:Fall 2023 Adult League Softball - 
LOCATION:35th Street, South Wheeling
CATEGORIES:QuickScores; Softball - Adult Game
TRANSP:0
DALARM:20230924T110000;PT10M;2;Chaos vs. John's Bombers
END:VEVENT
BEGIN:VEVENT
DTSTART:20230924T140000
DTEND:20230924T150000
SUMMARY:John's Bombers vs. Chaos
DESCRIPTION:Fall 2023 Adult League Softball - 
LOCATION:35th Street, South Wheeling
CATEGORIES:QuickScores; Softball - Adult Game
TRANSP:0
DALARM:20230924T120000;PT10M;2;John's Bombers vs. Chaos
END:VEVENT
BEGIN:VEVENT
DTSTART:20231001T110000
DTEND:20231001T120000
SUMMARY:John's Bombers vs. Taylor's Preowned Autos
DESCRIPTION:Fall 2023 Adult League Softball - 
LOCATION:35th Street, South Wheeling
CATEGORIES:QuickScores; Softball - Adult Game
TRANSP:0
DALARM:20231001T090000;PT10M;2;John's Bombers vs. Taylor's Preowned Autos
END:VEVENT
BEGIN:VEVENT
DTSTART:20231001T120000
DTEND:20231001T130000
SUMMARY:Taylor's Preowned Autos vs. John's Bombers
DESCRIPTION:Fall 2023 Adult League Softball - 
LOCATION:35th Street, South Wheeling
CATEGORIES:QuickScores; Softball - Adult Game
TRANSP:0
DALARM:20231001T100000;PT10M;2;Taylor's Preowned Autos vs. John's Bombers
END:VEVENT
END:VCALENDAR
