BEGIN:VCALENDAR
VERSION:1.0
BEGIN:VEVENT
DTSTART:20220515T090000
DTEND:20220515T100000
SUMMARY:Energizers vs. Shalepro
DESCRIPTION:Jose Caban --- Adult Softball League - 
LOCATION:Whg Island-Bridge Park (Big Field)
CATEGORIES:QuickScores; Softball - Adult Game
TRANSP:0
DALARM:20220515T070000;PT10M;2;Energizers vs. Shalepro
END:VEVENT
BEGIN:VEVENT
DTSTART:20220515T100000
DTEND:20220515T110000
SUMMARY:Shalepro vs. Energizers
DESCRIPTION:Jose Caban --- Adult Softball League - 
LOCATION:Whg Island-Bridge Park (Big Field)
CATEGORIES:QuickScores; Softball - Adult Game
TRANSP:0
DALARM:20220515T080000;PT10M;2;Shalepro vs. Energizers
END:VEVENT
BEGIN:VEVENT
DTSTART:20220522T130000
DTEND:20220522T140000
SUMMARY:Carin's Hitters vs. Energizers
DESCRIPTION:Jose Caban --- Adult Softball League - 
LOCATION:Whg Island-Bridge Park (Big Field)
CATEGORIES:QuickScores; Softball - Adult Game
TRANSP:0
DALARM:20220522T110000;PT10M;2;Carin's Hitters vs. Energizers
END:VEVENT
BEGIN:VEVENT
DTSTART:20220522T140000
DTEND:20220522T150000
SUMMARY:Energizers vs. Carin's Hitters
DESCRIPTION:Jose Caban --- Adult Softball League - 
LOCATION:Whg Island-Bridge Park (Big Field)
CATEGORIES:QuickScores; Softball - Adult Game
TRANSP:0
DALARM:20220522T120000;PT10M;2;Energizers vs. Carin's Hitters
END:VEVENT
BEGIN:VEVENT
DTSTART:20220605T090000
DTEND:20220605T100000
SUMMARY:PAP Club vs. Energizers
DESCRIPTION:Jose Caban --- Adult Softball League - 
LOCATION:Whg Island-Bridge Park (Big Field)
CATEGORIES:QuickScores; Softball - Adult Game
TRANSP:0
DALARM:20220605T070000;PT10M;2;PAP Club vs. Energizers
END:VEVENT
BEGIN:VEVENT
DTSTART:20220605T100000
DTEND:20220605T110000
SUMMARY:Energizers vs. PAP Club
DESCRIPTION:Jose Caban --- Adult Softball League - 
LOCATION:Whg Island-Bridge Park (Big Field)
CATEGORIES:QuickScores; Softball - Adult Game
TRANSP:0
DALARM:20220605T080000;PT10M;2;Energizers vs. PAP Club
END:VEVENT
BEGIN:VEVENT
DTSTART:20220612T130000
DTEND:20220612T140000
SUMMARY:The Voo Doo Lounge vs. Energizers
DESCRIPTION:Brianna Johnson --- Adult Softball League - 
LOCATION:35th Street, South Wheeling
CATEGORIES:QuickScores; Softball - Adult Game
TRANSP:0
DALARM:20220612T110000;PT10M;2;The Voo Doo Lounge vs. Energizers
END:VEVENT
BEGIN:VEVENT
DTSTART:20220612T140000
DTEND:20220612T150000
SUMMARY:Energizers vs. The Voo Doo Lounge
DESCRIPTION:Brianna Johnson --- Adult Softball League - 
LOCATION:35th Street, South Wheeling
CATEGORIES:QuickScores; Softball - Adult Game
TRANSP:0
DALARM:20220612T120000;PT10M;2;Energizers vs. The Voo Doo Lounge
END:VEVENT
BEGIN:VEVENT
DTSTART:20220626T110000
DTEND:20220626T120000
SUMMARY:Chaos vs. Energizers
DESCRIPTION:Brianna Johnson --- Adult Softball League - 
LOCATION:35th Street, South Wheeling
CATEGORIES:QuickScores; Softball - Adult Game
TRANSP:0
DALARM:20220626T090000;PT10M;2;Chaos vs. Energizers
END:VEVENT
BEGIN:VEVENT
DTSTART:20220626T120000
DTEND:20220626T130000
SUMMARY:Energizers vs. Chaos
DESCRIPTION:Brianna Johnson --- Adult Softball League - 
LOCATION:35th Street, South Wheeling
CATEGORIES:QuickScores; Softball - Adult Game
TRANSP:0
DALARM:20220626T100000;PT10M;2;Energizers vs. Chaos
END:VEVENT
BEGIN:VEVENT
DTSTART:20220710T110000
DTEND:20220710T120000
SUMMARY:Energizers vs. C & H Building Contractors
DESCRIPTION:Adult Softball League - 
LOCATION:Whg Island-Bridge Park (Big Field)
CATEGORIES:QuickScores; Softball - Adult Game
TRANSP:0
DALARM:20220710T090000;PT10M;2;Energizers vs. C & H Building Contractors
END:VEVENT
BEGIN:VEVENT
DTSTART:20220710T120000
DTEND:20220710T130000
SUMMARY:C & H Building Contractors vs. Energizers
DESCRIPTION:Adult Softball League - 
LOCATION:Whg Island-Bridge Park (Big Field)
CATEGORIES:QuickScores; Softball - Adult Game
TRANSP:0
DALARM:20220710T100000;PT10M;2;C & H Building Contractors vs. Energizers
END:VEVENT
BEGIN:VEVENT
DTSTART:20220717T130000
DTEND:20220717T140000
SUMMARY:Energizers vs. LaRoche Tree Service
DESCRIPTION:Adult Softball League - 
LOCATION:35th Street, South Wheeling
CATEGORIES:QuickScores; Softball - Adult Game
TRANSP:0
DALARM:20220717T110000;PT10M;2;Energizers vs. LaRoche Tree Service
END:VEVENT
BEGIN:VEVENT
DTSTART:20220717T140000
DTEND:20220717T150000
SUMMARY:LaRoche Tree Service vs. Energizers
DESCRIPTION:Adult Softball League - 
LOCATION:35th Street, South Wheeling
CATEGORIES:QuickScores; Softball - Adult Game
TRANSP:0
DALARM:20220717T120000;PT10M;2;LaRoche Tree Service vs. Energizers
END:VEVENT
BEGIN:VEVENT
DTSTART:20220724T130000
DTEND:20220724T140000
SUMMARY:Energizers vs. Taylor's Preowned Autos
DESCRIPTION:Adult Softball League - 
LOCATION:Whg Island-Bridge Park (Big Field)
CATEGORIES:QuickScores; Softball - Adult Game
TRANSP:0
DALARM:20220724T110000;PT10M;2;Energizers vs. Taylor's Preowned Autos
END:VEVENT
BEGIN:VEVENT
DTSTART:20220724T140000
DTEND:20220724T150000
SUMMARY:Taylor's Preowned Autos vs. Energizers
DESCRIPTION:Adult Softball League - 
LOCATION:Whg Island-Bridge Park (Big Field)
CATEGORIES:QuickScores; Softball - Adult Game
TRANSP:0
DALARM:20220724T120000;PT10M;2;Taylor's Preowned Autos vs. Energizers
END:VEVENT
BEGIN:VEVENT
DTSTART:20220731T110000
DTEND:20220731T120000
SUMMARY:RC Rentals vs. Energizers
DESCRIPTION:Adult Softball League - 
LOCATION:Whg Island-Bridge Park (Big Field)
CATEGORIES:QuickScores; Softball - Adult Game
TRANSP:0
DALARM:20220731T090000;PT10M;2;RC Rentals vs. Energizers
END:VEVENT
BEGIN:VEVENT
DTSTART:20220731T120000
DTEND:20220731T130000
SUMMARY:Energizers vs. RC Rentals
DESCRIPTION:Adult Softball League - 
LOCATION:Whg Island-Bridge Park (Big Field)
CATEGORIES:QuickScores; Softball - Adult Game
TRANSP:0
DALARM:20220731T100000;PT10M;2;Energizers vs. RC Rentals
END:VEVENT
BEGIN:VEVENT
DTSTART:20220814T110000
DTEND:20220814T120000
SUMMARY:Energizers vs. Jokers
DESCRIPTION:Brianna Johnson --- Adult Softball League - 
LOCATION:35th Street, South Wheeling
CATEGORIES:QuickScores; Softball - Adult Game
TRANSP:0
DALARM:20220814T090000;PT10M;2;Energizers vs. Jokers
END:VEVENT
BEGIN:VEVENT
DTSTART:20220814T120000
DTEND:20220814T130000
SUMMARY:Jokers vs. Energizers
DESCRIPTION:Brianna Johnson --- Adult Softball League - 
LOCATION:35th Street, South Wheeling
CATEGORIES:QuickScores; Softball - Adult Game
TRANSP:0
DALARM:20220814T100000;PT10M;2;Jokers vs. Energizers
END:VEVENT
BEGIN:VEVENT
DTSTART:20220828T090000
DTEND:20220828T100000
SUMMARY:Energizers vs. Uncle Pete's
DESCRIPTION:Brianna Johnson --- Adult Softball League - 
LOCATION:35th Street, South Wheeling
CATEGORIES:QuickScores; Softball - Adult Game
TRANSP:0
DALARM:20220828T070000;PT10M;2;Energizers vs. Uncle Pete's
END:VEVENT
BEGIN:VEVENT
DTSTART:20220828T100000
DTEND:20220828T110000
SUMMARY:Uncle Pete's vs. Energizers
DESCRIPTION:Brianna Johnson --- Adult Softball League - 
LOCATION:35th Street, South Wheeling
CATEGORIES:QuickScores; Softball - Adult Game
TRANSP:0
DALARM:20220828T080000;PT10M;2;Uncle Pete's vs. Energizers
END:VEVENT
BEGIN:VEVENT
DTSTART:20220904T100000
DTEND:20220904T110000
SUMMARY:[#3 ] PAP Club vs. [#6 ] Energizers
DESCRIPTION:Adult Softball League - 
LOCATION:35th Street, South Wheeling
CATEGORIES:QuickScores; Softball - Adult Game
TRANSP:0
DALARM:20220904T080000;PT10M;2;[#3 ] PAP Club vs. [#6 ] Energizers
END:VEVENT
BEGIN:VEVENT
DTSTART:20220904T120000
DTEND:20220904T130000
SUMMARY:[#6 ] Energizers vs. [#9 ] Chaos
DESCRIPTION:Adult Softball League - 
LOCATION:Whg Island-Bridge Park (Big Field)
CATEGORIES:QuickScores; Softball - Adult Game
TRANSP:0
DALARM:20220904T100000;PT10M;2;[#6 ] Energizers vs. [#9 ] Chaos
END:VEVENT
BEGIN:VEVENT
DTSTART:20220904T140000
DTEND:20220904T150000
SUMMARY:[#6 ] Energizers vs. [#2 ] Shalepro
DESCRIPTION:Adult Softball League - 
LOCATION:Whg Island-Bridge Park (Big Field)
CATEGORIES:QuickScores; Softball - Adult Game
TRANSP:0
DALARM:20220904T120000;PT10M;2;[#6 ] Energizers vs. [#2 ] Shalepro
END:VEVENT
BEGIN:VEVENT
DTSTART:20220911T090000
DTEND:20220911T100000
SUMMARY:[#4 ] Taylor's Preowned Autos vs. [#6 ] Energizers
DESCRIPTION:Adult Softball League - 
LOCATION:Whg Island-Bridge Park (Big Field)
CATEGORIES:QuickScores; Softball - Adult Game
TRANSP:0
DALARM:20220911T070000;PT10M;2;[#4 ] Taylor's Preowned Autos vs. [#6 ] Energizers
END:VEVENT
END:VCALENDAR
