BEGIN:VCALENDAR
VERSION:1.0
BEGIN:VEVENT
DTSTART:20220515T130000
DTEND:20220515T140000
SUMMARY:C & H Building Contractors vs. RC Rentals
DESCRIPTION:Jose Caban --- Adult Softball League - 
LOCATION:Whg Island-Bridge Park (Big Field)
CATEGORIES:QuickScores; Softball - Adult Game
TRANSP:0
DALARM:20220515T110000;PT10M;2;C & H Building Contractors vs. RC Rentals
END:VEVENT
BEGIN:VEVENT
DTSTART:20220515T140000
DTEND:20220515T150000
SUMMARY:RC Rentals vs. C & H Building Contractors
DESCRIPTION:Jose Caban --- Adult Softball League - 
LOCATION:Whg Island-Bridge Park (Big Field)
CATEGORIES:QuickScores; Softball - Adult Game
TRANSP:0
DALARM:20220515T120000;PT10M;2;RC Rentals vs. C & H Building Contractors
END:VEVENT
BEGIN:VEVENT
DTSTART:20220522T090000
DTEND:20220522T100000
SUMMARY:C & H Building Contractors vs. Taylor's Preowned Autos
DESCRIPTION:Jose Caban --- Adult Softball League - 
LOCATION:Whg Island-Bridge Park (Big Field)
CATEGORIES:QuickScores; Softball - Adult Game
TRANSP:0
DALARM:20220522T070000;PT10M;2;C & H Building Contractors vs. Taylor's Preowned Autos
END:VEVENT
BEGIN:VEVENT
DTSTART:20220522T100000
DTEND:20220522T110000
SUMMARY:Taylor's Preowned Autos vs. C & H Building Contractors
DESCRIPTION:Jose Caban --- Adult Softball League - 
LOCATION:Whg Island-Bridge Park (Big Field)
CATEGORIES:QuickScores; Softball - Adult Game
TRANSP:0
DALARM:20220522T080000;PT10M;2;Taylor's Preowned Autos vs. C & H Building Contractors
END:VEVENT
BEGIN:VEVENT
DTSTART:20220605T130000
DTEND:20220605T140000
SUMMARY:C & H Building Contractors vs. Chaos
DESCRIPTION:Jose Caban --- Adult Softball League - 
LOCATION:Whg Island-Bridge Park (Big Field)
CATEGORIES:QuickScores; Softball - Adult Game
TRANSP:0
DALARM:20220605T110000;PT10M;2;C & H Building Contractors vs. Chaos
END:VEVENT
BEGIN:VEVENT
DTSTART:20220605T140000
DTEND:20220605T150000
SUMMARY:Chaos vs. C & H Building Contractors
DESCRIPTION:Jose Caban --- Adult Softball League - 
LOCATION:Whg Island-Bridge Park (Big Field)
CATEGORIES:QuickScores; Softball - Adult Game
TRANSP:0
DALARM:20220605T120000;PT10M;2;Chaos vs. C & H Building Contractors
END:VEVENT
BEGIN:VEVENT
DTSTART:20220612T110000
DTEND:20220612T120000
SUMMARY:Shalepro vs. C & H Building Contractors
DESCRIPTION:Brianna Johnson --- Adult Softball League - 
LOCATION:35th Street, South Wheeling
CATEGORIES:QuickScores; Softball - Adult Game
TRANSP:0
DALARM:20220612T090000;PT10M;2;Shalepro vs. C & H Building Contractors
END:VEVENT
BEGIN:VEVENT
DTSTART:20220612T120000
DTEND:20220612T130000
SUMMARY:C & H Building Contractors vs. Shalepro
DESCRIPTION:Brianna Johnson --- Adult Softball League - 
LOCATION:35th Street, South Wheeling
CATEGORIES:QuickScores; Softball - Adult Game
TRANSP:0
DALARM:20220612T100000;PT10M;2;C & H Building Contractors vs. Shalepro
END:VEVENT
BEGIN:VEVENT
DTSTART:20220626T090000
DTEND:20220626T100000
SUMMARY:C & H Building Contractors vs. The Voo Doo Lounge
DESCRIPTION:Brianna Johnson --- Adult Softball League - 
LOCATION:35th Street, South Wheeling
CATEGORIES:QuickScores; Softball - Adult Game
TRANSP:0
DALARM:20220626T070000;PT10M;2;C & H Building Contractors vs. The Voo Doo Lounge
END:VEVENT
BEGIN:VEVENT
DTSTART:20220626T100000
DTEND:20220626T110000
SUMMARY:The Voo Doo Lounge vs. C & H Building Contractors
DESCRIPTION:Brianna Johnson --- Adult Softball League - 
LOCATION:35th Street, South Wheeling
CATEGORIES:QuickScores; Softball - Adult Game
TRANSP:0
DALARM:20220626T080000;PT10M;2;The Voo Doo Lounge vs. C & H Building Contractors
END:VEVENT
BEGIN:VEVENT
DTSTART:20220710T110000
DTEND:20220710T120000
SUMMARY:Energizers vs. C & H Building Contractors
DESCRIPTION:Adult Softball League - 
LOCATION:Whg Island-Bridge Park (Big Field)
CATEGORIES:QuickScores; Softball - Adult Game
TRANSP:0
DALARM:20220710T090000;PT10M;2;Energizers vs. C & H Building Contractors
END:VEVENT
BEGIN:VEVENT
DTSTART:20220710T120000
DTEND:20220710T130000
SUMMARY:C & H Building Contractors vs. Energizers
DESCRIPTION:Adult Softball League - 
LOCATION:Whg Island-Bridge Park (Big Field)
CATEGORIES:QuickScores; Softball - Adult Game
TRANSP:0
DALARM:20220710T100000;PT10M;2;C & H Building Contractors vs. Energizers
END:VEVENT
BEGIN:VEVENT
DTSTART:20220717T090000
DTEND:20220717T100000
SUMMARY:C & H Building Contractors vs. Jokers
DESCRIPTION:Adult Softball League - 
LOCATION:Whg Island-Bridge Park (Big Field)
CATEGORIES:QuickScores; Softball - Adult Game
TRANSP:0
DALARM:20220717T070000;PT10M;2;C & H Building Contractors vs. Jokers
END:VEVENT
BEGIN:VEVENT
DTSTART:20220717T100000
DTEND:20220717T110000
SUMMARY:Jokers vs. C & H Building Contractors
DESCRIPTION:Adult Softball League - 
LOCATION:Whg Island-Bridge Park (Big Field)
CATEGORIES:QuickScores; Softball - Adult Game
TRANSP:0
DALARM:20220717T080000;PT10M;2;Jokers vs. C & H Building Contractors
END:VEVENT
BEGIN:VEVENT
DTSTART:20220724T090000
DTEND:20220724T100000
SUMMARY:LaRoche Tree Service vs. C & H Building Contractors
DESCRIPTION:Brianna Johnson --- Adult Softball League - 
LOCATION:35th Street, South Wheeling
CATEGORIES:QuickScores; Softball - Adult Game
TRANSP:0
DALARM:20220724T070000;PT10M;2;LaRoche Tree Service vs. C & H Building Contractors
END:VEVENT
BEGIN:VEVENT
DTSTART:20220724T100000
DTEND:20220724T110000
SUMMARY:C & H Building Contractors vs. LaRoche Tree Service
DESCRIPTION:Brianna Johnson --- Adult Softball League - 
LOCATION:35th Street, South Wheeling
CATEGORIES:QuickScores; Softball - Adult Game
TRANSP:0
DALARM:20220724T080000;PT10M;2;C & H Building Contractors vs. LaRoche Tree Service
END:VEVENT
BEGIN:VEVENT
DTSTART:20220731T110000
DTEND:20220731T120000
SUMMARY:Carin's Hitters vs. C & H Building Contractors
DESCRIPTION:Brianna Johnson --- Adult Softball League - 
LOCATION:35th Street, South Wheeling
CATEGORIES:QuickScores; Softball - Adult Game
TRANSP:0
DALARM:20220731T090000;PT10M;2;Carin's Hitters vs. C & H Building Contractors
END:VEVENT
BEGIN:VEVENT
DTSTART:20220731T120000
DTEND:20220731T130000
SUMMARY:C & H Building Contractors vs. Carin's Hitters
DESCRIPTION:Brianna Johnson --- Adult Softball League - 
LOCATION:35th Street, South Wheeling
CATEGORIES:QuickScores; Softball - Adult Game
TRANSP:0
DALARM:20220731T100000;PT10M;2;C & H Building Contractors vs. Carin's Hitters
END:VEVENT
BEGIN:VEVENT
DTSTART:20220814T130000
DTEND:20220814T140000
SUMMARY:Uncle Pete's vs. C & H Building Contractors
DESCRIPTION:Brianna Johnson --- Adult Softball League - 
LOCATION:35th Street, South Wheeling
CATEGORIES:QuickScores; Softball - Adult Game
TRANSP:0
DALARM:20220814T110000;PT10M;2;Uncle Pete's vs. C & H Building Contractors
END:VEVENT
BEGIN:VEVENT
DTSTART:20220814T140000
DTEND:20220814T150000
SUMMARY:C & H Building Contractors vs. Uncle Pete's
DESCRIPTION:Brianna Johnson --- Adult Softball League - 
LOCATION:35th Street, South Wheeling
CATEGORIES:QuickScores; Softball - Adult Game
TRANSP:0
DALARM:20220814T120000;PT10M;2;C & H Building Contractors vs. Uncle Pete's
END:VEVENT
BEGIN:VEVENT
DTSTART:20220828T110000
DTEND:20220828T120000
SUMMARY:C & H Building Contractors vs. PAP Club
DESCRIPTION:Adult Softball League - 
LOCATION:Whg Island-Bridge Park (Big Field)
CATEGORIES:QuickScores; Softball - Adult Game
TRANSP:0
DALARM:20220828T090000;PT10M;2;C & H Building Contractors vs. PAP Club
END:VEVENT
BEGIN:VEVENT
DTSTART:20220828T120000
DTEND:20220828T130000
SUMMARY:PAP Club vs. C & H Building Contractors
DESCRIPTION:Adult Softball League - 
LOCATION:Whg Island-Bridge Park (Big Field)
CATEGORIES:QuickScores; Softball - Adult Game
TRANSP:0
DALARM:20220828T100000;PT10M;2;PAP Club vs. C & H Building Contractors
END:VEVENT
BEGIN:VEVENT
DTSTART:20220904T090000
DTEND:20220904T100000
SUMMARY:[#8 ] C & H Building Contractors vs. [#9 ] Chaos
DESCRIPTION:Adult Softball League - 
LOCATION:Whg Island-Bridge Park (Big Field)
CATEGORIES:QuickScores; Softball - Adult Game
TRANSP:0
DALARM:20220904T070000;PT10M;2;[#8 ] C & H Building Contractors vs. [#9 ] Chaos
END:VEVENT
BEGIN:VEVENT
DTSTART:20220904T110000
DTEND:20220904T120000
SUMMARY:[#1 ] The Voo Doo Lounge vs. [#8 ] C & H Building Contractors
DESCRIPTION:Adult Softball League - 
LOCATION:Whg Island-Bridge Park (Big Field)
CATEGORIES:QuickScores; Softball - Adult Game
TRANSP:0
DALARM:20220904T090000;PT10M;2;[#1 ] The Voo Doo Lounge vs. [#8 ] C & H Building Contractors
END:VEVENT
BEGIN:VEVENT
DTSTART:20220904T140000
DTEND:20220904T150000
SUMMARY:[#10 ] Carin's Hitters vs. [#8 ] C & H Building Contractors
DESCRIPTION:Adult Softball League - 
LOCATION:35th Street, South Wheeling
CATEGORIES:QuickScores; Softball - Adult Game
TRANSP:0
DALARM:20220904T120000;PT10M;2;[#10 ] Carin's Hitters vs. [#8 ] C & H Building Contractors
END:VEVENT
END:VCALENDAR
