BEGIN:VCALENDAR
VERSION:1.0
BEGIN:VEVENT
DTSTART:20220430T110000
DTEND:20220430T130000
SUMMARY:M&M Red Raptors vs. Bethlehem Black
DESCRIPTION:Pinto National - 
LOCATION:Bopp Field
CATEGORIES:QuickScores; Baseball - Youth Game
TRANSP:0
DALARM:20220430T090000;PT10M;2;M&M Red Raptors vs. Bethlehem Black
END:VEVENT
BEGIN:VEVENT
DTSTART:20220504T180000
DTEND:20220504T200000
SUMMARY:Warwood Redbirds West vs. Bethlehem Black
DESCRIPTION:Pinto National - 
LOCATION:Bopp Field
CATEGORIES:QuickScores; Baseball - Youth Game
TRANSP:0
DALARM:20220504T160000;PT10M;2;Warwood Redbirds West vs. Bethlehem Black
END:VEVENT
BEGIN:VEVENT
DTSTART:20220507T110000
DTEND:20220507T130000
SUMMARY:Bethlehem Black vs. M&M Mavericks
DESCRIPTION:Pinto National - 
LOCATION:Mt Olivet Field
CATEGORIES:QuickScores; Baseball - Youth Game
TRANSP:0
DALARM:20220507T090000;PT10M;2;Bethlehem Black vs. M&M Mavericks
END:VEVENT
BEGIN:VEVENT
DTSTART:20220511T180000
DTEND:20220511T200000
SUMMARY:Bethlehem Black vs. Warwood Redbirds North
DESCRIPTION:Pinto National - 
LOCATION:N. 24th Street - Field #2
CATEGORIES:QuickScores; Baseball - Youth Game
TRANSP:0
DALARM:20220511T160000;PT10M;2;Bethlehem Black vs. Warwood Redbirds North
END:VEVENT
BEGIN:VEVENT
DTSTART:20220514T110000
DTEND:20220514T130000
SUMMARY:Pike Royal Blue vs. Bethlehem Black
DESCRIPTION:Pinto National - 
LOCATION:Bopp Field
CATEGORIES:QuickScores; Baseball - Youth Game
TRANSP:0
DALARM:20220514T090000;PT10M;2;Pike Royal Blue vs. Bethlehem Black
END:VEVENT
BEGIN:VEVENT
DTSTART:20220518T180000
DTEND:20220518T200000
SUMMARY:Bethlehem Black vs. Pike Royal Blue
DESCRIPTION:Pinto National - 
LOCATION:Dimmeydale #1
CATEGORIES:QuickScores; Baseball - Youth Game
TRANSP:0
DALARM:20220518T160000;PT10M;2;Bethlehem Black vs. Pike Royal Blue
END:VEVENT
BEGIN:VEVENT
DTSTART:20220521T110000
DTEND:20220521T130000
SUMMARY:M&M Mavericks vs. Bethlehem Black
DESCRIPTION:Pinto National - 
LOCATION:Bopp Field
CATEGORIES:QuickScores; Baseball - Youth Game
TRANSP:0
DALARM:20220521T090000;PT10M;2;M&M Mavericks vs. Bethlehem Black
END:VEVENT
BEGIN:VEVENT
DTSTART:20220525T180000
DTEND:20220525T200000
SUMMARY:Woodsdale Lions vs. Bethlehem Black
DESCRIPTION:Pinto National - 
LOCATION:Bopp Field
CATEGORIES:QuickScores; Baseball - Youth Game
TRANSP:0
DALARM:20220525T160000;PT10M;2;Woodsdale Lions vs. Bethlehem Black
END:VEVENT
BEGIN:VEVENT
DTSTART:20220528T110000
DTEND:20220528T130000
SUMMARY:Bethlehem Black vs. Woodsdale Lions
DESCRIPTION:Pinto National - 
LOCATION:Greggsville Field
CATEGORIES:QuickScores; Baseball - Youth Game
TRANSP:0
DALARM:20220528T090000;PT10M;2;Bethlehem Black vs. Woodsdale Lions
END:VEVENT
BEGIN:VEVENT
DTSTART:20220601T180000
DTEND:20220601T200000
SUMMARY:Bethlehem Black vs. M&M Red Raptors
DESCRIPTION:Pinto National - 
LOCATION:Mt Olivet Field
CATEGORIES:QuickScores; Baseball - Youth Game
TRANSP:0
DALARM:20220601T160000;PT10M;2;Bethlehem Black vs. M&M Red Raptors
END:VEVENT
BEGIN:VEVENT
DTSTART:20220604T130000
DTEND:20220604T150000
SUMMARY:Warwood Redbirds North vs. Bethlehem Black
DESCRIPTION:Pinto National - 
LOCATION:Bopp Field
CATEGORIES:QuickScores; Baseball - Youth Game
TRANSP:0
DALARM:20220604T110000;PT10M;2;Warwood Redbirds North vs. Bethlehem Black
END:VEVENT
BEGIN:VEVENT
DTSTART:20220611T110000
DTEND:20220611T130000
SUMMARY:Bethlehem Black vs. Warwood Redbirds West
DESCRIPTION:Pinto National - 
LOCATION:N. 24th Street - Field #2
CATEGORIES:QuickScores; Baseball - Youth Game
TRANSP:0
DALARM:20220611T090000;PT10M;2;Bethlehem Black vs. Warwood Redbirds West
END:VEVENT
BEGIN:VEVENT
DTSTART:20220618T110000
DTEND:20220618T130000
SUMMARY:Warwood Redbirds South vs. Bethlehem Black
DESCRIPTION:Pinto National - 
LOCATION:Bopp Field
CATEGORIES:QuickScores; Baseball - Youth Game
TRANSP:0
DALARM:20220618T090000;PT10M;2;Warwood Redbirds South vs. Bethlehem Black
END:VEVENT
BEGIN:VEVENT
DTSTART:20220619T170000
DTEND:20220619T190000
SUMMARY:Bethlehem Black vs. Cameron Blue
DESCRIPTION:Pinto National - 
LOCATION:Cameron
CATEGORIES:QuickScores; Baseball - Youth Game
TRANSP:0
DALARM:20220619T150000;PT10M;2;Bethlehem Black vs. Cameron Blue
END:VEVENT
END:VCALENDAR
