BEGIN:VCALENDAR
VERSION:1.0
BEGIN:VEVENT
DTSTART:20260413T183000
DTEND:20260413T193000
SUMMARY:Jefferson 1 vs. NAE/O.Grove/Wav/Peri - Durling
DESCRIPTION:2/3rd Girls - Valley League Sports
LOCATION:BGC Albany Les Schwab Ct.
CATEGORIES:QuickScores; Basketball Game
TRANSP:0
DALARM:20260413T163000;PT10M;2;Jefferson 1 vs. NAE/O.Grove/Wav/Peri - Durling
END:VEVENT
BEGIN:VEVENT
DTSTART:20260415T173000
DTEND:20260415T183000
SUMMARY:ACS/Lib/Home - Duran vs. NAE/O.Grove/Wav/Peri - Durling
DESCRIPTION:2/3rd Girls - Valley League Sports
LOCATION:BGC Albany Les Schwab Ct.
CATEGORIES:QuickScores; Basketball Game
TRANSP:0
DALARM:20260415T153000;PT10M;2;ACS/Lib/Home - Duran vs. NAE/O.Grove/Wav/Peri - Durling
END:VEVENT
BEGIN:VEVENT
DTSTART:20260420T183000
DTEND:20260420T193000
SUMMARY:NAE/O.Grove/Wav/Peri - Durling vs. Jefferson 2
DESCRIPTION:2/3rd Girls - Valley League Sports
LOCATION:Jefferson Middle School (New Gym)
CATEGORIES:QuickScores; Basketball Game
TRANSP:0
DALARM:20260420T163000;PT10M;2;NAE/O.Grove/Wav/Peri - Durling vs. Jefferson 2
END:VEVENT
BEGIN:VEVENT
DTSTART:20260427T183000
DTEND:20260427T193000
SUMMARY:Rivers/Katz vs. NAE/O.Grove/Wav/Peri - Durling
DESCRIPTION:2/3rd Girls - Valley League Sports
LOCATION:BGC Albany Les Schwab Ct.
CATEGORIES:QuickScores; Basketball Game
TRANSP:0
DALARM:20260427T163000;PT10M;2;Rivers/Katz vs. NAE/O.Grove/Wav/Peri - Durling
END:VEVENT
BEGIN:VEVENT
DTSTART:20260429T171500
DTEND:20260429T181500
SUMMARY:NAE/O.Grove/Wav/Peri - Durling vs. MRidge/Sun/S.Shore - Winn
DESCRIPTION:2/3rd Girls - Valley League Sports
LOCATION:BGC Albany Les Schwab Ct.
CATEGORIES:QuickScores; Basketball Game
TRANSP:0
DALARM:20260429T151500;PT10M;2;NAE/O.Grove/Wav/Peri - Durling vs. MRidge/Sun/S.Shore - Winn
END:VEVENT
BEGIN:VEVENT
DTSTART:20260505T173000
DTEND:20260505T183000
SUMMARY:NAE/O.Grove/Wav/Peri - Durling vs. Jefferson 1
DESCRIPTION:2/3rd Girls - Valley League Sports
LOCATION:Jefferson Old Middle School Gym
CATEGORIES:QuickScores; Basketball Game
TRANSP:0
DALARM:20260505T153000;PT10M;2;NAE/O.Grove/Wav/Peri - Durling vs. Jefferson 1
END:VEVENT
BEGIN:VEVENT
DTSTART:20260511T173000
DTEND:20260511T183000
SUMMARY:Jefferson 2 vs. NAE/O.Grove/Wav/Peri - Durling
DESCRIPTION:2/3rd Girls - Valley League Sports
LOCATION:BGC Albany Les Schwab Ct.
CATEGORIES:QuickScores; Basketball Game
TRANSP:0
DALARM:20260511T153000;PT10M;2;Jefferson 2 vs. NAE/O.Grove/Wav/Peri - Durling
END:VEVENT
BEGIN:VEVENT
DTSTART:20260513T173000
DTEND:20260513T183000
SUMMARY:NAE/O.Grove/Wav/Peri - Durling vs. ACS/Lib/Home - Duran
DESCRIPTION:2/3rd Girls - Valley League Sports
LOCATION:BGC Albany Les Schwab Ct.
CATEGORIES:QuickScores; Basketball Game
TRANSP:0
DALARM:20260513T153000;PT10M;2;NAE/O.Grove/Wav/Peri - Durling vs. ACS/Lib/Home - Duran
END:VEVENT
END:VCALENDAR
