BEGIN:VCALENDAR
VERSION:1.0
BEGIN:VEVENT
DTSTART:20260413T183000
DTEND:20260413T193000
SUMMARY:MRidge/Sun/S.Shore - Winn vs. Jefferson 2
DESCRIPTION:2/3rd Girls - Valley League Sports
LOCATION:Jefferson Middle School (New Gym)
CATEGORIES:QuickScores; Basketball Game
TRANSP:0
DALARM:20260413T163000;PT10M;2;MRidge/Sun/S.Shore - Winn vs. Jefferson 2
END:VEVENT
BEGIN:VEVENT
DTSTART:20260415T173000
DTEND:20260415T183000
SUMMARY:MRidge/Sun/S.Shore - Winn vs. Jefferson 1
DESCRIPTION:2/3rd Girls - Valley League Sports
LOCATION:Jefferson Old Middle School Gym
CATEGORIES:QuickScores; Basketball Game
TRANSP:0
DALARM:20260415T153000;PT10M;2;MRidge/Sun/S.Shore - Winn vs. Jefferson 1
END:VEVENT
BEGIN:VEVENT
DTSTART:20260421T171500
DTEND:20260421T181500
SUMMARY:MRidge/Sun/S.Shore - Winn vs. Rivers/Katz
DESCRIPTION:2/3rd Girls - Valley League Sports
LOCATION:BGC Albany Les Schwab Ct.
CATEGORIES:QuickScores; Basketball Game
TRANSP:0
DALARM:20260421T151500;PT10M;2;MRidge/Sun/S.Shore - Winn vs. Rivers/Katz
END:VEVENT
BEGIN:VEVENT
DTSTART:20260427T173000
DTEND:20260427T183000
SUMMARY:MRidge/Sun/S.Shore - Winn vs. ACS/Lib/Home - Duran
DESCRIPTION:2/3rd Girls - Valley League Sports
LOCATION:BGC Albany Les Schwab Ct.
CATEGORIES:QuickScores; Basketball Game
TRANSP:0
DALARM:20260427T153000;PT10M;2;MRidge/Sun/S.Shore - Winn vs. ACS/Lib/Home - Duran
END:VEVENT
BEGIN:VEVENT
DTSTART:20260429T171500
DTEND:20260429T181500
SUMMARY:NAE/O.Grove/Wav/Peri - Durling vs. MRidge/Sun/S.Shore - Winn
DESCRIPTION:2/3rd Girls - Valley League Sports
LOCATION:BGC Albany Les Schwab Ct.
CATEGORIES:QuickScores; Basketball Game
TRANSP:0
DALARM:20260429T151500;PT10M;2;NAE/O.Grove/Wav/Peri - Durling vs. MRidge/Sun/S.Shore - Winn
END:VEVENT
BEGIN:VEVENT
DTSTART:20260506T183000
DTEND:20260506T193000
SUMMARY:Jefferson 2 vs. MRidge/Sun/S.Shore - Winn
DESCRIPTION:2/3rd Girls - Valley League Sports
LOCATION:BGC Albany Les Schwab Ct.
CATEGORIES:QuickScores; Basketball Game
TRANSP:0
DALARM:20260506T163000;PT10M;2;Jefferson 2 vs. MRidge/Sun/S.Shore - Winn
END:VEVENT
BEGIN:VEVENT
DTSTART:20260507T171500
DTEND:20260507T181500
SUMMARY:Jefferson 1 vs. MRidge/Sun/S.Shore - Winn
DESCRIPTION:2/3rd Girls - Valley League Sports
LOCATION:BGC Albany Les Schwab Ct.
CATEGORIES:QuickScores; Basketball Game
TRANSP:0
DALARM:20260507T151500;PT10M;2;Jefferson 1 vs. MRidge/Sun/S.Shore - Winn
END:VEVENT
BEGIN:VEVENT
DTSTART:20260512T173000
DTEND:20260512T183000
SUMMARY:Rivers/Katz vs. MRidge/Sun/S.Shore - Winn
DESCRIPTION:2/3rd Girls - Valley League Sports
LOCATION:BGC Albany Les Schwab Ct.
CATEGORIES:QuickScores; Basketball Game
TRANSP:0
DALARM:20260512T153000;PT10M;2;Rivers/Katz vs. MRidge/Sun/S.Shore - Winn
END:VEVENT
END:VCALENDAR
