BEGIN:VCALENDAR
VERSION:1.0
BEGIN:VEVENT
DTSTART:20260414T181500
DTEND:20260414T190000
SUMMARY:Lib/Tak/Wav - Schueller vs. Jefferson
DESCRIPTION:K-1st Girls - Valley League Sports
LOCATION:BGC Albany H3O court
CATEGORIES:QuickScores; Basketball Game
TRANSP:0
DALARM:20260414T161500;PT10M;2;Lib/Tak/Wav - Schueller vs. Jefferson
END:VEVENT
BEGIN:VEVENT
DTSTART:20260416T173000
DTEND:20260416T181500
SUMMARY:MRidge/Peri/Oak/Other - Wallace vs. Jefferson
DESCRIPTION:K-1st Girls - Valley League Sports
LOCATION:BGC Albany H3O court
CATEGORIES:QuickScores; Basketball Game
TRANSP:0
DALARM:20260416T153000;PT10M;2;MRidge/Peri/Oak/Other - Wallace vs. Jefferson
END:VEVENT
BEGIN:VEVENT
DTSTART:20260421T181500
DTEND:20260421T190000
SUMMARY:NAE/O.Grove/SC - Huber vs. Jefferson
DESCRIPTION:K-1st Girls - Valley League Sports
LOCATION:BGC Albany H3O court
CATEGORIES:QuickScores; Basketball Game
TRANSP:0
DALARM:20260421T161500;PT10M;2;NAE/O.Grove/SC - Huber vs. Jefferson
END:VEVENT
BEGIN:VEVENT
DTSTART:20260428T173000
DTEND:20260428T181500
SUMMARY:Jefferson vs. Lib/Tak/Wav - Schueller
DESCRIPTION:K-1st Girls - Valley League Sports
LOCATION:BGC Albany H3O court
CATEGORIES:QuickScores; Basketball Game
TRANSP:0
DALARM:20260428T153000;PT10M;2;Jefferson vs. Lib/Tak/Wav - Schueller
END:VEVENT
BEGIN:VEVENT
DTSTART:20260430T181500
DTEND:20260430T190000
SUMMARY:Jefferson vs. MRidge/Peri/Oak/Other - Wallace
DESCRIPTION:K-1st Girls - Valley League Sports
LOCATION:BGC Albany H3O court
CATEGORIES:QuickScores; Basketball Game
TRANSP:0
DALARM:20260430T161500;PT10M;2;Jefferson vs. MRidge/Peri/Oak/Other - Wallace
END:VEVENT
BEGIN:VEVENT
DTSTART:20260505T173000
DTEND:20260505T181500
SUMMARY:Jefferson vs. Lib/Tak/Wav - Schueller
DESCRIPTION:K-1st Girls - Valley League Sports
LOCATION:BGC Albany H3O court
CATEGORIES:QuickScores; Basketball Game
TRANSP:0
DALARM:20260505T153000;PT10M;2;Jefferson vs. Lib/Tak/Wav - Schueller
END:VEVENT
BEGIN:VEVENT
DTSTART:20260507T173000
DTEND:20260507T181500
SUMMARY:Jefferson vs. NAE/O.Grove/SC - Huber
DESCRIPTION:K-1st Girls - Valley League Sports
LOCATION:BGC Albany H3O court
CATEGORIES:QuickScores; Basketball Game
TRANSP:0
DALARM:20260507T153000;PT10M;2;Jefferson vs. NAE/O.Grove/SC - Huber
END:VEVENT
BEGIN:VEVENT
DTSTART:20260512T181500
DTEND:20260512T190000
SUMMARY:MRidge/Peri/Oak/Other - Wallace vs. Jefferson
DESCRIPTION:K-1st Girls - Valley League Sports
LOCATION:BGC Albany H3O court
CATEGORIES:QuickScores; Basketball Game
TRANSP:0
DALARM:20260512T161500;PT10M;2;MRidge/Peri/Oak/Other - Wallace vs. Jefferson
END:VEVENT
END:VCALENDAR
