BEGIN:VCALENDAR
VERSION:1.0
BEGIN:VEVENT
DTSTART:20260408T170000
DTEND:20260408T180000
SUMMARY:SH - A+ Roofing vs. SH - McGovern Maintainence
DESCRIPTION:7th/8th Volleyball - Valley League Sports
LOCATION:Sweet Home Jr. High Gym
CATEGORIES:QuickScores; Volleyball Game
TRANSP:0
DALARM:20260408T150000;PT10M;2;SH - A+ Roofing vs. SH - McGovern Maintainence
END:VEVENT
BEGIN:VEVENT
DTSTART:20260408T190000
DTEND:20260408T200000
SUMMARY:SH - A+ Roofing vs. TiSquared Technologies Inc
DESCRIPTION:7th/8th Volleyball - Valley League Sports
LOCATION:Sweet Home Jr. High Gym
CATEGORIES:QuickScores; Volleyball Game
TRANSP:0
DALARM:20260408T170000;PT10M;2;SH - A+ Roofing vs. TiSquared Technologies Inc
END:VEVENT
BEGIN:VEVENT
DTSTART:20260414T173000
DTEND:20260414T183000
SUMMARY:SH - A+ Roofing vs. Valley Fire Control
DESCRIPTION:7th/8th Volleyball - Valley League Sports
LOCATION:BGC Albany Coastal Farm Ct.
CATEGORIES:QuickScores; Volleyball Game
TRANSP:0
DALARM:20260414T153000;PT10M;2;SH - A+ Roofing vs. Valley Fire Control
END:VEVENT
BEGIN:VEVENT
DTSTART:20260414T183000
DTEND:20260414T193000
SUMMARY:Corvallis Ironhead Roofing vs. SH - A+ Roofing
DESCRIPTION:7th/8th Volleyball - Valley League Sports
LOCATION:BGC Albany Coastal Farm Ct.
CATEGORIES:QuickScores; Volleyball Game
TRANSP:0
DALARM:20260414T163000;PT10M;2;Corvallis Ironhead Roofing vs. SH - A+ Roofing
END:VEVENT
BEGIN:VEVENT
DTSTART:20260420T173000
DTEND:20260420T183000
SUMMARY:SH - McGovern Maintainence vs. SH - A+ Roofing
DESCRIPTION:7th/8th Volleyball - Valley League Sports
LOCATION:Sweet Home Jr. High Gym
CATEGORIES:QuickScores; Volleyball Game
TRANSP:0
DALARM:20260420T153000;PT10M;2;SH - McGovern Maintainence vs. SH - A+ Roofing
END:VEVENT
BEGIN:VEVENT
DTSTART:20260421T170000
DTEND:20260421T180000
SUMMARY:Leb 1- North Santiam Coffee vs. SH - A+ Roofing
DESCRIPTION:7th/8th Volleyball - Valley League Sports
LOCATION:BGC Lebanon #2
CATEGORIES:QuickScores; Volleyball Game
TRANSP:0
DALARM:20260421T150000;PT10M;2;Leb 1- North Santiam Coffee vs. SH - A+ Roofing
END:VEVENT
BEGIN:VEVENT
DTSTART:20260428T193000
DTEND:20260428T203000
SUMMARY:Papa Murphy's vs. SH - A+ Roofing
DESCRIPTION:7th/8th Volleyball - Valley League Sports
LOCATION:BGC Corvallis IHR,  Mick's Glass Court #1
CATEGORIES:QuickScores; Volleyball Game
TRANSP:0
DALARM:20260428T173000;PT10M;2;Papa Murphy's vs. SH - A+ Roofing
END:VEVENT
BEGIN:VEVENT
DTSTART:20260428T203000
DTEND:20260428T213000
SUMMARY:Corvallis Jiffy Lube vs. SH - A+ Roofing
DESCRIPTION:7th/8th Volleyball - Valley League Sports
LOCATION:BGC Corvallis IHR,  Mick's Glass Court #1
CATEGORIES:QuickScores; Volleyball Game
TRANSP:0
DALARM:20260428T183000;PT10M;2;Corvallis Jiffy Lube vs. SH - A+ Roofing
END:VEVENT
BEGIN:VEVENT
DTSTART:20260505T173000
DTEND:20260505T183000
SUMMARY:SH - A+ Roofing vs. TiSquared Technologies Inc
DESCRIPTION:7th/8th Volleyball - Valley League Sports
LOCATION:BGC Albany Coastal Farm Ct.
CATEGORIES:QuickScores; Volleyball Game
TRANSP:0
DALARM:20260505T153000;PT10M;2;SH - A+ Roofing vs. TiSquared Technologies Inc
END:VEVENT
BEGIN:VEVENT
DTSTART:20260505T193000
DTEND:20260505T203000
SUMMARY:Leb 2 - Lebanon Volleyball Club vs. SH - A+ Roofing
DESCRIPTION:7th/8th Volleyball - Valley League Sports
LOCATION:BGC Albany Coastal Farm Ct.
CATEGORIES:QuickScores; Volleyball Game
TRANSP:0
DALARM:20260505T173000;PT10M;2;Leb 2 - Lebanon Volleyball Club vs. SH - A+ Roofing
END:VEVENT
END:VCALENDAR
