BEGIN:VCALENDAR
VERSION:1.0
BEGIN:VEVENT
DTSTART:20260115T180000
DTEND:20260115T190000
SUMMARY:Scio 3 vs. BRC Game Fowl
DESCRIPTION:3/4th Girls Rec - Valley League Sports
LOCATION:Centennial Elementary
CATEGORIES:QuickScores; Basketball Game
TRANSP:0
DALARM:20260115T160000;PT10M;2;Scio 3 vs. BRC Game Fowl
END:VEVENT
BEGIN:VEVENT
DTSTART:20260122T181500
DTEND:20260122T191500
SUMMARY:Oak Grove/Lib - Duncan vs. BRC Game Fowl
DESCRIPTION:GYM OPENS AT 5:45 --- 3/4th Girls Rec - Valley League Sports
LOCATION:Centennial Elementary
CATEGORIES:QuickScores; Basketball Game
TRANSP:0
DALARM:20260122T161500;PT10M;2;Oak Grove/Lib - Duncan vs. BRC Game Fowl
END:VEVENT
BEGIN:VEVENT
DTSTART:20260128T181500
DTEND:20260128T191500
SUMMARY:Jefferson- White vs. BRC Game Fowl
DESCRIPTION:GYM OPENS AT 5:45 --- 3/4th Girls Rec - Valley League Sports
LOCATION:Centennial Elementary
CATEGORIES:QuickScores; Basketball Game
TRANSP:0
DALARM:20260128T161500;PT10M;2;Jefferson- White vs. BRC Game Fowl
END:VEVENT
BEGIN:VEVENT
DTSTART:20260203T184000
DTEND:20260203T194000
SUMMARY:BRC Game Fowl vs. NAE/Central - O'Kaine
DESCRIPTION:3/4th Girls Rec - Valley League Sports
LOCATION:BGC Albany Les Schwab Ct.
CATEGORIES:QuickScores; Basketball Game
TRANSP:0
DALARM:20260203T164000;PT10M;2;BRC Game Fowl vs. NAE/Central - O'Kaine
END:VEVENT
BEGIN:VEVENT
DTSTART:20260206T193000
DTEND:20260206T203000
SUMMARY:BRC Game Fowl vs. MRidge/AC/Other - Roberts
DESCRIPTION:3/4th Girls Rec - Valley League Sports
LOCATION:BGC Albany Les Schwab Ct.
CATEGORIES:QuickScores; Basketball Game
TRANSP:0
DALARM:20260206T173000;PT10M;2;BRC Game Fowl vs. MRidge/AC/Other - Roberts
END:VEVENT
BEGIN:VEVENT
DTSTART:20260209T180000
DTEND:20260209T190000
SUMMARY:BRC Game Fowl vs. Jefferson- Purple
DESCRIPTION:3/4th Girls Rec - Valley League Sports
LOCATION:Jefferson Middle School (New Gym)
CATEGORIES:QuickScores; Basketball Game
TRANSP:0
DALARM:20260209T160000;PT10M;2;BRC Game Fowl vs. Jefferson- Purple
END:VEVENT
BEGIN:VEVENT
DTSTART:20260210T193000
DTEND:20260210T203000
SUMMARY:BRC Game Fowl vs. MRidge/TRidge/Other - Parten
DESCRIPTION:This game needs rescheduled. Our team plays at home this night --- 3/4th Girls Rec - Valley League Sports
LOCATION:BGC Albany Les Schwab Ct.
CATEGORIES:QuickScores; Basketball Game
TRANSP:0
DALARM:20260210T173000;PT10M;2;BRC Game Fowl vs. MRidge/TRidge/Other - Parten
END:VEVENT
BEGIN:VEVENT
DTSTART:20260216T193000
DTEND:20260216T203000
SUMMARY:Pacific Excavation vs. BRC Game Fowl
DESCRIPTION:3/4th Girls Rec - Valley League Sports
LOCATION:Centennial Elementary
CATEGORIES:QuickScores; Basketball Game
TRANSP:0
DALARM:20260216T173000;PT10M;2;Pacific Excavation vs. BRC Game Fowl
END:VEVENT
BEGIN:VEVENT
DTSTART:20260218T190000
DTEND:20260218T200000
SUMMARY:BRC Game Fowl vs. Tang/Peri/Oak - Gilchrist
DESCRIPTION:3/4th Girls Rec - Valley League Sports
LOCATION:BGC Albany Rex Casey Gym
CATEGORIES:QuickScores; Basketball Game
TRANSP:0
DALARM:20260218T170000;PT10M;2;BRC Game Fowl vs. Tang/Peri/Oak - Gilchrist
END:VEVENT
BEGIN:VEVENT
DTSTART:20260220T193000
DTEND:20260220T203000
SUMMARY:BRC Game Fowl vs. Santiam Christian - Vanorder
DESCRIPTION:3/4th Girls Rec - Valley League Sports
LOCATION:BGC Albany McLagan Gym
CATEGORIES:QuickScores; Basketball Game
TRANSP:0
DALARM:20260220T173000;PT10M;2;BRC Game Fowl vs. Santiam Christian - Vanorder
END:VEVENT
BEGIN:VEVENT
DTSTART:20260224T174500
DTEND:20260224T184500
SUMMARY:Santiam Christian-Martinez vs. BRC Game Fowl
DESCRIPTION:GYM OPENS AT 5:15 --- 3/4th Girls Rec - Valley League Sports
LOCATION:Centennial Elementary
CATEGORIES:QuickScores; Basketball Game
TRANSP:0
DALARM:20260224T154500;PT10M;2;Santiam Christian-Martinez vs. BRC Game Fowl
END:VEVENT
BEGIN:VEVENT
DTSTART:20260226T174500
DTEND:20260226T184500
SUMMARY:Albany Christian/Other - Hostetler vs. BRC Game Fowl
DESCRIPTION:GYM OPENS AT 5:15 --- 3/4th Girls Rec - Valley League Sports
LOCATION:Centennial Elementary
CATEGORIES:QuickScores; Basketball Game
TRANSP:0
DALARM:20260226T154500;PT10M;2;Albany Christian/Other - Hostetler vs. BRC Game Fowl
END:VEVENT
END:VCALENDAR
