BEGIN:VCALENDAR
VERSION:1.0
BEGIN:VEVENT
DTSTART:20260124T114500
DTEND:20260124T124500
SUMMARY:Oak Grove/Lib - Duncan vs. Santiam Christian-Martinez
DESCRIPTION:3/4th Girls Rec - Valley League Sports
LOCATION:BGC Albany McLagan Gym
CATEGORIES:QuickScores; Basketball Game
TRANSP:0
DALARM:20260124T094500;PT10M;2;Oak Grove/Lib - Duncan vs. Santiam Christian-Martinez
END:VEVENT
BEGIN:VEVENT
DTSTART:20260127T181500
DTEND:20260127T191500
SUMMARY:Santiam Christian-Martinez vs. Scio 3
DESCRIPTION:GYM OPENS AT 5:45 --- 3/4th Girls Rec - Valley League Sports
LOCATION:Centennial Elementary
CATEGORIES:QuickScores; Basketball Game
TRANSP:0
DALARM:20260127T161500;PT10M;2;Santiam Christian-Martinez vs. Scio 3
END:VEVENT
BEGIN:VEVENT
DTSTART:20260205T182500
DTEND:20260205T192500
SUMMARY:Jefferson- Purple vs. Santiam Christian-Martinez
DESCRIPTION:3/4th Girls Rec - Valley League Sports
LOCATION:BGC Albany McLagan Gym
CATEGORIES:QuickScores; Basketball Game
TRANSP:0
DALARM:20260205T162500;PT10M;2;Jefferson- Purple vs. Santiam Christian-Martinez
END:VEVENT
BEGIN:VEVENT
DTSTART:20260206T181500
DTEND:20260206T191500
SUMMARY:Santiam Christian-Martinez vs. Pacific Excavation
DESCRIPTION:GYM OPENS AT 5:45 --- 3/4th Girls Rec - Valley League Sports
LOCATION:Centennial Elementary
CATEGORIES:QuickScores; Basketball Game
TRANSP:0
DALARM:20260206T161500;PT10M;2;Santiam Christian-Martinez vs. Pacific Excavation
END:VEVENT
BEGIN:VEVENT
DTSTART:20260213T180000
DTEND:20260213T190000
SUMMARY:Santiam Christian-Martinez vs. Jefferson- White
DESCRIPTION:SC Coach says this is too late for 3/4 girls. Can we move it earlier? --- 3/4th Girls Rec - Valley League Sports
LOCATION:Jefferson Middle School (New Gym)
CATEGORIES:QuickScores; Basketball Game
TRANSP:0
DALARM:20260213T160000;PT10M;2;Santiam Christian-Martinez vs. Jefferson- White
END:VEVENT
BEGIN:VEVENT
DTSTART:20260214T103000
DTEND:20260214T113000
SUMMARY:Santiam Christian - Vanorder vs. Santiam Christian-Martinez
DESCRIPTION:3/4th Girls Rec - Valley League Sports
LOCATION:BGC Albany McLagan Gym
CATEGORIES:QuickScores; Basketball Game
TRANSP:0
DALARM:20260214T083000;PT10M;2;Santiam Christian - Vanorder vs. Santiam Christian-Martinez
END:VEVENT
BEGIN:VEVENT
DTSTART:20260217T174500
DTEND:20260217T184500
SUMMARY:Santiam Christian-Martinez vs. MRidge/TRidge/Other - Parten
DESCRIPTION:3/4th Girls Rec - Valley League Sports
LOCATION:BGC Albany Rex Casey Gym
CATEGORIES:QuickScores; Basketball Game
TRANSP:0
DALARM:20260217T154500;PT10M;2;Santiam Christian-Martinez vs. MRidge/TRidge/Other - Parten
END:VEVENT
BEGIN:VEVENT
DTSTART:20260219T190000
DTEND:20260219T200000
SUMMARY:Albany Christian/Other - Hostetler vs. Santiam Christian-Martinez
DESCRIPTION:3/4th Girls Rec - Valley League Sports
LOCATION:BGC Albany Rex Casey Gym
CATEGORIES:QuickScores; Basketball Game
TRANSP:0
DALARM:20260219T170000;PT10M;2;Albany Christian/Other - Hostetler vs. Santiam Christian-Martinez
END:VEVENT
BEGIN:VEVENT
DTSTART:20260224T174500
DTEND:20260224T184500
SUMMARY:Santiam Christian-Martinez vs. BRC Game Fowl
DESCRIPTION:GYM OPENS AT 5:15 --- 3/4th Girls Rec - Valley League Sports
LOCATION:Centennial Elementary
CATEGORIES:QuickScores; Basketball Game
TRANSP:0
DALARM:20260224T154500;PT10M;2;Santiam Christian-Martinez vs. BRC Game Fowl
END:VEVENT
BEGIN:VEVENT
DTSTART:20260226T182500
DTEND:20260226T192500
SUMMARY:Liberty/NAE - Weekly vs. Santiam Christian-Martinez
DESCRIPTION:3/4th Girls Rec - Valley League Sports
LOCATION:BGC Albany McLagan Gym
CATEGORIES:QuickScores; Basketball Game
TRANSP:0
DALARM:20260226T162500;PT10M;2;Liberty/NAE - Weekly vs. Santiam Christian-Martinez
END:VEVENT
BEGIN:VEVENT
DTSTART:20260303T180000
DTEND:20260303T190000
SUMMARY:NAE/Central - O'Kaine vs. Santiam Christian-Martinez
DESCRIPTION:3/4th Girls Rec - Valley League Sports
LOCATION:BGC Albany Rex Casey Gym
CATEGORIES:QuickScores; Basketball Game
TRANSP:0
DALARM:20260303T160000;PT10M;2;NAE/Central - O'Kaine vs. Santiam Christian-Martinez
END:VEVENT
BEGIN:VEVENT
DTSTART:20260305T173000
DTEND:20260305T183000
SUMMARY:Santiam Christian-Martinez vs. MRidge/AC/Other - Roberts
DESCRIPTION:3/4th Girls Rec - Valley League Sports
LOCATION:BGC Albany Sullivan Gym
CATEGORIES:QuickScores; Basketball Game
TRANSP:0
DALARM:20260305T153000;PT10M;2;Santiam Christian-Martinez vs. MRidge/AC/Other - Roberts
END:VEVENT
END:VCALENDAR
