BEGIN:VCALENDAR
VERSION:1.0
BEGIN:VEVENT
DTSTART:20250506T180000
DTEND:20250506T190000
SUMMARY:Lincoln City vs. Crescent Valley
DESCRIPTION:LC weiss#9-77, Tolan#99-40 Crescent Valley Davenport#44-41, dover#7-42, Silbernagl#22-26, Johnson#34-8 --- Senior American West - Valley League Sports
LOCATION:Williams Field Corvallis #2
CATEGORIES:QuickScores; Baseball Game
TRANSP:0
DALARM:20250506T160000;PT10M;2;Lincoln City vs. Crescent Valley
END:VEVENT
BEGIN:VEVENT
DTSTART:20250513T180000
DTEND:20250513T190000
SUMMARY:Lincoln City vs. Corvallis
DESCRIPTION:Lincoln City- #24 Seals-66, #9 Weiss-33Corvallis- #21 Tucknott-67, #11Kosoff-47 --- Senior American West - Valley League Sports
LOCATION:Williams Field Corvallis #1
CATEGORIES:QuickScores; Baseball Game
TRANSP:0
DALARM:20250513T160000;PT10M;2;Lincoln City vs. Corvallis
END:VEVENT
BEGIN:VEVENT
DTSTART:20250516T180000
DTEND:20250516T190000
SUMMARY:Corvallis vs. Lincoln City
DESCRIPTION:Corvallis- #1 Geren-45, #25 Jones-45, #8 Gulledge-31Lincoln City- #99 Tolan-90, #7 Garrison-14, #9 Weiss-8 --- Senior American West - Valley League Sports
LOCATION:Lincoln City- Kirtsis Park
CATEGORIES:QuickScores; Baseball Game
TRANSP:0
DALARM:20250516T160000;PT10M;2;Corvallis vs. Lincoln City
END:VEVENT
BEGIN:VEVENT
DTSTART:20250520T180000
DTEND:20250520T190000
SUMMARY:Lincoln City vs. S.E.T
DESCRIPTION:SET #3 Socha-51, #13 Henarie-32, #23 Coxen-23, #21 Short- 42Lincoln City #9 Weiss-90, #24 Seals-36 --- Senior American West - Valley League Sports
LOCATION:Toledo High School Field
CATEGORIES:QuickScores; Baseball Game
TRANSP:0
DALARM:20250520T160000;PT10M;2;Lincoln City vs. S.E.T
END:VEVENT
BEGIN:VEVENT
DTSTART:20250523T180000
DTEND:20250523T190000
SUMMARY:S.E.T vs. Lincoln City
DESCRIPTION:Lincoln City ##99 J. Tolan 91, #24 M. Seals 21SET #3 J. Socha 51, #13 G. Henarie 52 --- Senior American West - Valley League Sports
LOCATION:Lincoln City- Kirtsis Park
CATEGORIES:QuickScores; Baseball Game
TRANSP:0
DALARM:20250523T160000;PT10M;2;S.E.T vs. Lincoln City
END:VEVENT
BEGIN:VEVENT
DTSTART:20250531T120000
DTEND:20250531T130000
SUMMARY:Lincoln City vs. Monroe
DESCRIPTION:Lincoln City #9 Weiss-73, #24 Seals-61Monroe #15 Rutherford-46, #13 Nash-75, #9 Oakes-30, #14 Cisnerous-27, #16 McClaughry-11 --- Senior American West - Valley League Sports
LOCATION:Lincoln City- Taft High School Baseball Field (The Pit)
CATEGORIES:QuickScores; Baseball Game
TRANSP:0
DALARM:20250531T100000;PT10M;2;Lincoln City vs. Monroe
END:VEVENT
BEGIN:VEVENT
DTSTART:20250531T140000
DTEND:20250531T150000
SUMMARY:Monroe vs. Lincoln City
DESCRIPTION:(Monroe) #00 A. Ellsworth-95, #1 D. Lager-36, #9 G. Oaks-17(Lincoln City) #99 J. Tolan-92, #7 J. Garrison-58 --- Senior American West - Valley League Sports
LOCATION:Lincoln City- Taft High School Baseball Field (The Pit)
CATEGORIES:QuickScores; Baseball Game
TRANSP:0
DALARM:20250531T120000;PT10M;2;Monroe vs. Lincoln City
END:VEVENT
BEGIN:VEVENT
DTSTART:20250608T120000
DTEND:20250608T130000
SUMMARY:Crescent Valley vs. Lincoln City
DESCRIPTION:Crescent Valley- #44 Davenport-18, #8 Courtney-#35, #34 Johnson-28, #12 Pierce-26, #15 Officer-10Lincoln City- #24 Seals-95, #7 Garrison-25, #9 Weiss-7 --- Senior American West - Valley League Sports
LOCATION:Lincoln City- Kirtsis Park
CATEGORIES:QuickScores; Baseball Game
TRANSP:0
DALARM:20250608T100000;PT10M;2;Crescent Valley vs. Lincoln City
END:VEVENT
BEGIN:VEVENT
DTSTART:20250608T150000
DTEND:20250608T160000
SUMMARY:Crescent Valley vs. Lincoln City
DESCRIPTION:Crescent Valley- #32 Kane-65, #34 Johnson- 21, #44 Davenport- 38Lincoln City- #4 Wilson- 94 --- Senior American West - Valley League Sports
LOCATION:Lincoln City- Kirtsis Park
CATEGORIES:QuickScores; Baseball Game
TRANSP:0
DALARM:20250608T130000;PT10M;2;Crescent Valley vs. Lincoln City
END:VEVENT
BEGIN:VEVENT
DTSTART:20250609T180000
DTEND:20250609T190000
SUMMARY:Lincoln City vs. Newport
DESCRIPTION:Lincoln City- #9 Weiss-83Newport- #35 Thomas-65, #23 Scarberry-27, #15 Dorantes-40 --- Senior American West - Valley League Sports
LOCATION:Newport Middle School
CATEGORIES:QuickScores; Baseball Game
TRANSP:0
DALARM:20250609T160000;PT10M;2;Lincoln City vs. Newport
END:VEVENT
BEGIN:VEVENT
DTSTART:20250612T180000
DTEND:20250612T190000
SUMMARY:Newport vs. Lincoln City
DESCRIPTION:Newport- #11 Bancroft-92, #35 Thomas-33Lincoln City- #99 Tolan-93, #24 Seals-50 --- Senior American West - Valley League Sports
LOCATION:Lincoln City- Taft High School Baseball Field (The Pit)
CATEGORIES:QuickScores; Baseball Game
TRANSP:0
DALARM:20250612T160000;PT10M;2;Newport vs. Lincoln City
END:VEVENT
BEGIN:VEVENT
DTSTART:20250617T180000
DTEND:20250617T190000
SUMMARY:Lincoln City vs. Timber Supply
DESCRIPTION:Lincoln city- #4 Wilson-37, #24 Seals-59, #99 Tolan-49Timber supply- #3 Banda-54, #5 Digiovannangelo-55, #0 Dwyer-44, #11 Bennett-12 --- Senior American West - Valley League Sports
LOCATION:Finn Construction Field (PHS JV BB)
CATEGORIES:QuickScores; Baseball Game
TRANSP:0
DALARM:20250617T160000;PT10M;2;Lincoln City vs. Timber Supply
END:VEVENT
BEGIN:VEVENT
DTSTART:20250620T180000
DTEND:20250620T190000
SUMMARY:Timber Supply vs. Lincoln City
DESCRIPTION:Timber Supply- #5 Digiovannanglio-42, #11 Bennett-66, #3 Baffa-22, #21 Davis-42Lincoln City- #9 Weiss-81, #99 Tolan-62 --- Senior American West - Valley League Sports
LOCATION:Lincoln City- Taft High School Baseball Field (The Pit)
CATEGORIES:QuickScores; Baseball Game
TRANSP:0
DALARM:20250620T160000;PT10M;2;Timber Supply vs. Lincoln City
END:VEVENT
BEGIN:VEVENT
DTSTART:20250624T180000
DTEND:20250624T190000
SUMMARY:Lincoln City vs. S.E.T
DESCRIPTION:Lincoln City-#9 Weiss-67SET- #23 Coxen-68, #3 Socha-27, #20 Correia-17 --- Senior American West - Valley League Sports
LOCATION:Toledo High School Field
CATEGORIES:QuickScores; Baseball Game
TRANSP:0
DALARM:20250624T160000;PT10M;2;Lincoln City vs. S.E.T
END:VEVENT
BEGIN:VEVENT
DTSTART:20250630T180000
DTEND:20250630T190000
SUMMARY:Lincoln City vs. Corvallis
DESCRIPTION:Lincoln City; #9 Weiss - 14,  #99 Tolan, #24 Seals 75;   Corvallis: #8 Gulledge 76, #25 Jones 43,  #11 Kosoff 23 --- Senior American West - Valley League Sports
LOCATION:Williams Field Corvallis #1
CATEGORIES:QuickScores; Baseball Game
TRANSP:0
DALARM:20250630T160000;PT10M;2;Lincoln City vs. Corvallis
END:VEVENT
BEGIN:VEVENT
DTSTART:20250703T180000
DTEND:20250703T190000
SUMMARY:Lincoln City vs. Monroe
DESCRIPTION:(Lincoln City) #9 H. Weiss-80

(Monroe) #00 A. Ellsworth-91, #01 D. Lager-11 --- Senior American West - Valley League Sports
LOCATION:Monroe City Park
CATEGORIES:QuickScores; Baseball Game
TRANSP:0
DALARM:20250703T160000;PT10M;2;Lincoln City vs. Monroe
END:VEVENT
END:VCALENDAR
