BEGIN:VCALENDAR
VERSION:1.0
BEGIN:VEVENT
DTSTART:20250507T180000
DTEND:20250507T190000
SUMMARY:M & W Electric vs. South Albany Grey
DESCRIPTION:(M & W Electric): #12 B. Barton-75, #8 J. Skaggs-56. (South Albany Grey): #5 R. Pierce-28, #8 K. Umphress-43, #9 J.Vankempen-54, #36 H. Chew-51 --- Senior National West - Valley League Sports
LOCATION:South Albany JV Baseball Field
CATEGORIES:QuickScores; Baseball Game
TRANSP:0
DALARM:20250507T160000;PT10M;2;M & W Electric vs. South Albany Grey
END:VEVENT
BEGIN:VEVENT
DTSTART:20250509T180000
DTEND:20250509T190000
SUMMARY:M & W Electric vs. Crescent Valley
DESCRIPTION:(Crescent Valley) #2 G. Campbell-62, #42 A.Delgado-85 (M & W Electric) #7 Williams-38 #4 Clendenin-71 #0 Pindell-30 --- Senior National West - Valley League Sports
LOCATION:Williams Field Corvallis #2
CATEGORIES:QuickScores; Baseball Game
TRANSP:0
DALARM:20250509T160000;PT10M;2;M & W Electric vs. Crescent Valley
END:VEVENT
BEGIN:VEVENT
DTSTART:20250512T180000
DTEND:20250512T190000
SUMMARY:M & W Electric vs. S.E.T
DESCRIPTION:SET #21 t.marthaller 42# 3 e. case 44# 10 t. pearson 44m&w#12 brock 46# 8 jaxon 67 --- Senior National West - Valley League Sports
LOCATION:Siletz Valley School
CATEGORIES:QuickScores; Baseball Game
TRANSP:0
DALARM:20250512T160000;PT10M;2;M & W Electric vs. S.E.T
END:VEVENT
BEGIN:VEVENT
DTSTART:20250515T180000
DTEND:20250515T190000
SUMMARY:M & W Electric vs. Central #1
DESCRIPTION:(M&W Electric) #0 Pindell-80, #7 Williams-30, #12 Barton-1; (Central #1) #50 Martinez-41, #16 Cross-52, #0 Clift-51 --- Senior National West - Valley League Sports
LOCATION:S Curves - Seniors Field
CATEGORIES:QuickScores; Baseball Game
TRANSP:0
DALARM:20250515T160000;PT10M;2;M & W Electric vs. Central #1
END:VEVENT
BEGIN:VEVENT
DTSTART:20250516T180000
DTEND:20250516T190000
SUMMARY:M & W Electric vs. Central Linn
DESCRIPTION:Home #10 C. Carter-31 #2 K. Hahn 55 #25 D. Hostetler Visitor #12 Barton-68 #4 Clendenin-35 #8 Skaggs-26 --- Senior National West - Valley League Sports
LOCATION:Central Linn JH/HS (Halsey)
CATEGORIES:QuickScores; Baseball Game
TRANSP:0
DALARM:20250516T160000;PT10M;2;M & W Electric vs. Central Linn
END:VEVENT
BEGIN:VEVENT
DTSTART:20250520T180000
DTEND:20250520T190000
SUMMARY:Cole Surveying vs. M & W Electric
DESCRIPTION:(Cole Surveying) #32 A. Evans-41, #9 H. Bennett-41, #1 C. Black-18, #44 D. Johnson-13, #23 A. Sailor-50.(M&W Electric) #22 S. Schiminsky-39, #0 D. Pindell-37, #12 B. Barton-23, #8 J. Skaggs-31 --- Senior National West - Valley League Sports
LOCATION:Finn Construction Field (PHS JV BB)
CATEGORIES:QuickScores; Baseball Game
TRANSP:0
DALARM:20250520T160000;PT10M;2;Cole Surveying vs. M & W Electric
END:VEVENT
BEGIN:VEVENT
DTSTART:20250522T180000
DTEND:20250522T190000
SUMMARY:South Albany Red vs. M & W Electric
DESCRIPTION:(South Albany Red) #8 Conroy-30, #14 Gill-30, #27 Kibbey-49, #7 Allard-16, #5 Pape-4.(M&W Electric) #22 Schiminsky-38, #4 Clendenin- 48, #8 Skaggs-36. --- Senior National West - Valley League Sports
LOCATION:Finn Construction Field (PHS JV BB)
CATEGORIES:QuickScores; Baseball Game
TRANSP:0
DALARM:20250522T160000;PT10M;2;South Albany Red vs. M & W Electric
END:VEVENT
BEGIN:VEVENT
DTSTART:20250527T180000
DTEND:20250527T190000
SUMMARY:Central #2 vs. M & W Electric
DESCRIPTION:(Central #2) #11 Perkins-36, #23 Williams-61 #33 Melendez-36. (M&W Electric) #12 B. Barton-36, #4 L. Clendenin-53, #0 B. Pindell-39, #8 J. Skaggs-29 --- Senior National West - Valley League Sports
LOCATION:Patrick Lumber Co. Field (PMS #1)
CATEGORIES:QuickScores; Baseball Game
TRANSP:0
DALARM:20250527T160000;PT10M;2;Central #2 vs. M & W Electric
END:VEVENT
BEGIN:VEVENT
DTSTART:20250602T180000
DTEND:20250602T190000
SUMMARY:Crescent Valley vs. M & W Electric
DESCRIPTION:(Crescent Valley) #3 D. Rardin-65 #2 G. Campbell-42  (M &W Electric) #8 J. Skaggs-89 #4 L. Clenendin-29 #12 B. Barton-29 #26 W. Smart-11 --- Senior National West - Valley League Sports
LOCATION:Patrick Lumber Co. Field (PMS #1)
CATEGORIES:QuickScores; Baseball Game
TRANSP:0
DALARM:20250602T160000;PT10M;2;Crescent Valley vs. M & W Electric
END:VEVENT
BEGIN:VEVENT
DTSTART:20250603T180000
DTEND:20250603T190000
SUMMARY:South Albany Grey vs. M & W Electric
DESCRIPTION:M&W: #22 S. Schminsky-73, #0 D. Pindell-43.  SA Grey: #16 R. Johnson-19, #23 S. Jordan-26, #9 J. Vankempen-48 --- Senior National West - Valley League Sports
LOCATION:Finn Construction Field (PHS JV BB)
CATEGORIES:QuickScores; Baseball Game
TRANSP:0
DALARM:20250603T160000;PT10M;2;South Albany Grey vs. M & W Electric
END:VEVENT
BEGIN:VEVENT
DTSTART:20250609T180000
DTEND:20250609T190000
SUMMARY:S.E.T vs. M & W Electric
DESCRIPTION:SET: #3 EZ-58, #11 Romeo-30, #10 Travis-28.
M&W: #4 Langston-55, # 12 Brock-48, #8 Jaxon-35 --- Senior National West - Valley League Sports
LOCATION:Finn Construction Field (PHS JV BB)
CATEGORIES:QuickScores; Baseball Game
TRANSP:0
DALARM:20250609T160000;PT10M;2;S.E.T vs. M & W Electric
END:VEVENT
BEGIN:VEVENT
DTSTART:20250612T180000
DTEND:20250612T190000
SUMMARY:Central #1 vs. M & W Electric
DESCRIPTION:Central: #24 L. Beasly-59, #16 H. Cross-48, #14 K. Boaz-30.
M&W: #4 L. Clendenin-29, #26 W. Smart-27, #22 S. Schiminsky-28, #12 B. Barton-29, #8 J. Skaggs-7 --- Senior National West - Valley League Sports
LOCATION:Finn Construction Field (PHS JV BB)
CATEGORIES:QuickScores; Baseball Game
TRANSP:0
DALARM:20250612T160000;PT10M;2;Central #1 vs. M & W Electric
END:VEVENT
BEGIN:VEVENT
DTSTART:20250613T180000
DTEND:20250613T190000
SUMMARY:M & W Electric vs. Central #2
DESCRIPTION:M&W: #4 L. Clendenin-48, #7 O. Williams- 46, #22 S. Schiminsky-25, #8 J. Skaggs-30.
Central: #33 Melendez-47, #17 Bosvert-57, #11 Perkins-64, #34 Radke-26. --- Senior National West - Valley League Sports
LOCATION:S Curves - Seniors Field
CATEGORIES:QuickScores; Baseball Game
TRANSP:0
DALARM:20250613T160000;PT10M;2;M & W Electric vs. Central #2
END:VEVENT
BEGIN:VEVENT
DTSTART:20250616T180000
DTEND:20250616T190000
SUMMARY:M & W Electric vs. Cole Surveying
DESCRIPTION:M&W: #26 W. Smart-29, #22 S. Schiminsky-49, #4 L. Clendenin-41
Cole Surveying: #23 A. Sailor-40, #9 H. Bennett-44, #32 A. Evans-48 --- Senior National West - Valley League Sports
LOCATION:Finn Construction Field (PHS JV BB)
CATEGORIES:QuickScores; Baseball Game
TRANSP:0
DALARM:20250616T160000;PT10M;2;M & W Electric vs. Cole Surveying
END:VEVENT
BEGIN:VEVENT
DTSTART:20250619T180000
DTEND:20250619T190000
SUMMARY:M & W Electric vs. South Albany Red
DESCRIPTION:SA: #8 J. Conroy 60, # R. Taplin 30, #14 J. Gill 27, #7 Z. Allard 13; M/W: 27 N. Dill 27, #0 D. Pindall 57, #4 L. Clenderia 32 --- Senior National West - Valley League Sports
LOCATION:South Albany JV Baseball Field
CATEGORIES:QuickScores; Baseball Game
TRANSP:0
DALARM:20250619T160000;PT10M;2;M & W Electric vs. South Albany Red
END:VEVENT
BEGIN:VEVENT
DTSTART:20250624T180000
DTEND:20250624T190000
SUMMARY:Central Linn vs. M & W Electric
DESCRIPTION:Rescheduled from 5/29, please note field change

Central Linn: K. Hahn #2- 56, C. Carter #10- 38
M&W Electric: N. Dill #27- 34, L. Clewdenin #4- 45, B. Barton #12- 29 --- Senior National West - Valley League Sports
LOCATION:Finn Construction Field (PHS JV BB)
CATEGORIES:QuickScores; Baseball Game
TRANSP:0
DALARM:20250624T160000;PT10M;2;Central Linn vs. M & W Electric
END:VEVENT
END:VCALENDAR
