BEGIN:VCALENDAR
VERSION:1.0
BEGIN:VEVENT
DTSTART:20250120T190000
DTEND:20250120T200000
SUMMARY:West 4 - Webster/Pritt vs. Scio
DESCRIPTION:5/6th Boys Rec - East - Valley League Sports
LOCATION:Centennial Elementary
CATEGORIES:QuickScores; Basketball Game
TRANSP:0
DALARM:20250120T170000;PT10M;2;West 4 - Webster/Pritt vs. Scio
END:VEVENT
BEGIN:VEVENT
DTSTART:20250121T172000
DTEND:20250121T182000
SUMMARY:Scio vs. West 1 - Morse
DESCRIPTION:5/6th Boys Rec - East - Valley League Sports
LOCATION:BGC Albany Sullivan Gym
CATEGORIES:QuickScores; Basketball Game
TRANSP:0
DALARM:20250121T152000;PT10M;2;Scio vs. West 1 - Morse
END:VEVENT
BEGIN:VEVENT
DTSTART:20250129T183000
DTEND:20250129T193000
SUMMARY:Scio vs. Jefferson
DESCRIPTION:5/6th Boys Rec - East - Valley League Sports
LOCATION:Jefferson Middle School (New Gym)
CATEGORIES:QuickScores; Basketball Game
TRANSP:0
DALARM:20250129T163000;PT10M;2;Scio vs. Jefferson
END:VEVENT
BEGIN:VEVENT
DTSTART:20250204T174500
DTEND:20250204T184500
SUMMARY:West 2 - O'Kain vs. Scio
DESCRIPTION:5/6th Boys Rec - East - Valley League Sports
LOCATION:Centennial Elementary
CATEGORIES:QuickScores; Basketball Game
TRANSP:0
DALARM:20250204T154500;PT10M;2;West 2 - O'Kain vs. Scio
END:VEVENT
BEGIN:VEVENT
DTSTART:20250206T190000
DTEND:20250206T200000
SUMMARY:South 1 - White vs. Scio
DESCRIPTION:5/6th Boys Rec - East - Valley League Sports
LOCATION:Centennial Elementary
CATEGORIES:QuickScores; Basketball Game
TRANSP:0
DALARM:20250206T170000;PT10M;2;South 1 - White vs. Scio
END:VEVENT
BEGIN:VEVENT
DTSTART:20250207T174500
DTEND:20250207T184500
SUMMARY:South 2 - Floro vs. Scio
DESCRIPTION:5/6th Boys Rec - East - Valley League Sports
LOCATION:Centennial Elementary
CATEGORIES:QuickScores; Basketball Game
TRANSP:0
DALARM:20250207T154500;PT10M;2;South 2 - Floro vs. Scio
END:VEVENT
BEGIN:VEVENT
DTSTART:20250212T190000
DTEND:20250212T200000
SUMMARY:Scio vs. West 3 - Reich
DESCRIPTION:5/6th Boys Rec - East - Valley League Sports
LOCATION:BGC Albany Rex Casey Gym
CATEGORIES:QuickScores; Basketball Game
TRANSP:0
DALARM:20250212T170000;PT10M;2;Scio vs. West 3 - Reich
END:VEVENT
BEGIN:VEVENT
DTSTART:20250219T190000
DTEND:20250219T200000
SUMMARY:West 1 - Morse vs. Scio
DESCRIPTION:5/6th Boys Rec - East - Valley League Sports
LOCATION:Centennial Elementary
CATEGORIES:QuickScores; Basketball Game
TRANSP:0
DALARM:20250219T170000;PT10M;2;West 1 - Morse vs. Scio
END:VEVENT
BEGIN:VEVENT
DTSTART:20250220T183000
DTEND:20250220T193000
SUMMARY:Scio vs. Santiam Christian
DESCRIPTION:Rescheduled --- 5/6th Boys Rec - East - Valley League Sports
LOCATION:Santiam Christian Schools - West Gym
CATEGORIES:QuickScores; Basketball Game
TRANSP:0
DALARM:20250220T163000;PT10M;2;Scio vs. Santiam Christian
END:VEVENT
BEGIN:VEVENT
DTSTART:20250221T173000
DTEND:20250221T183000
SUMMARY:Scio vs. West 4 - Webster/Pritt
DESCRIPTION:5/6th Boys Rec - East - Valley League Sports
LOCATION:BGC Albany Sullivan Gym
CATEGORIES:QuickScores; Basketball Game
TRANSP:0
DALARM:20250221T153000;PT10M;2;Scio vs. West 4 - Webster/Pritt
END:VEVENT
BEGIN:VEVENT
DTSTART:20250224T184500
DTEND:20250224T194500
SUMMARY:Scio vs. South 1 - White
DESCRIPTION:5/6th Boys Rec - East - Valley League Sports
LOCATION:BGC Albany Sullivan Gym
CATEGORIES:QuickScores; Basketball Game
TRANSP:0
DALARM:20250224T164500;PT10M;2;Scio vs. South 1 - White
END:VEVENT
BEGIN:VEVENT
DTSTART:20250225T174500
DTEND:20250225T184500
SUMMARY:Jefferson vs. Scio
DESCRIPTION:TIME CHANGE --- 5/6th Boys Rec - East - Valley League Sports
LOCATION:Centennial Elementary
CATEGORIES:QuickScores; Basketball Game
TRANSP:0
DALARM:20250225T154500;PT10M;2;Jefferson vs. Scio
END:VEVENT
END:VCALENDAR
