BEGIN:VCALENDAR
VERSION:1.0
BEGIN:VEVENT
DTSTART:20240422T170000
DTEND:20240422T180000
SUMMARY:SH Hindman vs. Gandee
DESCRIPTION:BGCGS Indoor Soccer 1st/2nd - Valley League Sports
LOCATION:Foster Elementary - Sweet Home
CATEGORIES:QuickScores; Soccer - Indoor Game
TRANSP:0
DALARM:20240422T150000;PT10M;2;SH Hindman vs. Gandee
END:VEVENT
BEGIN:VEVENT
DTSTART:20240424T170000
DTEND:20240424T180000
SUMMARY:Staten vs. Gandee
DESCRIPTION:BGCGS Indoor Soccer 1st/2nd - Valley League Sports
LOCATION:Pioneer Elementary Lebanon
CATEGORIES:QuickScores; Soccer - Indoor Game
TRANSP:0
DALARM:20240424T150000;PT10M;2;Staten vs. Gandee
END:VEVENT
BEGIN:VEVENT
DTSTART:20240429T190000
DTEND:20240429T200000
SUMMARY:Alaina vs. Gandee
DESCRIPTION:BGCGS Indoor Soccer 1st/2nd - Valley League Sports
LOCATION:Pioneer Elementary Lebanon
CATEGORIES:QuickScores; Soccer - Indoor Game
TRANSP:0
DALARM:20240429T170000;PT10M;2;Alaina vs. Gandee
END:VEVENT
BEGIN:VEVENT
DTSTART:20240501T170000
DTEND:20240501T180000
SUMMARY:SH Samson vs. Gandee
DESCRIPTION:BGCGS Indoor Soccer 1st/2nd - Valley League Sports
LOCATION:Foster Elementary - Sweet Home
CATEGORIES:QuickScores; Soccer - Indoor Game
TRANSP:0
DALARM:20240501T150000;PT10M;2;SH Samson vs. Gandee
END:VEVENT
BEGIN:VEVENT
DTSTART:20240506T170000
DTEND:20240506T180000
SUMMARY:Gandee vs. SH Johnston
DESCRIPTION:BGCGS Indoor Soccer 1st/2nd - Valley League Sports
LOCATION:Pioneer Elementary Lebanon
CATEGORIES:QuickScores; Soccer - Indoor Game
TRANSP:0
DALARM:20240506T150000;PT10M;2;Gandee vs. SH Johnston
END:VEVENT
BEGIN:VEVENT
DTSTART:20240509T170000
DTEND:20240509T180000
SUMMARY:Staten vs. Gandee
DESCRIPTION:BGCGS Indoor Soccer 1st/2nd - Valley League Sports
LOCATION:Pioneer Elementary Lebanon
CATEGORIES:QuickScores; Soccer - Indoor Game
TRANSP:0
DALARM:20240509T150000;PT10M;2;Staten vs. Gandee
END:VEVENT
BEGIN:VEVENT
DTSTART:20240513T170000
DTEND:20240513T180000
SUMMARY:Gandee vs. SH Greyling
DESCRIPTION:BGCGS Indoor Soccer 1st/2nd - Valley League Sports
LOCATION:Pioneer Elementary Lebanon
CATEGORIES:QuickScores; Soccer - Indoor Game
TRANSP:0
DALARM:20240513T150000;PT10M;2;Gandee vs. SH Greyling
END:VEVENT
BEGIN:VEVENT
DTSTART:20240515T170000
DTEND:20240515T180000
SUMMARY:Gandee vs. SH Hindman
DESCRIPTION:BGCGS Indoor Soccer 1st/2nd - Valley League Sports
LOCATION:Pioneer Elementary Lebanon
CATEGORIES:QuickScores; Soccer - Indoor Game
TRANSP:0
DALARM:20240515T150000;PT10M;2;Gandee vs. SH Hindman
END:VEVENT
BEGIN:VEVENT
DTSTART:20240520T190000
DTEND:20240520T200000
SUMMARY:Taylor vs. Gandee
DESCRIPTION:BGCGS Indoor Soccer 1st/2nd - Valley League Sports
LOCATION:Pioneer Elementary Lebanon
CATEGORIES:QuickScores; Soccer - Indoor Game
TRANSP:0
DALARM:20240520T170000;PT10M;2;Taylor vs. Gandee
END:VEVENT
BEGIN:VEVENT
DTSTART:20240522T170000
DTEND:20240522T180000
SUMMARY:Gandee vs. SH Samson
DESCRIPTION:BGCGS Indoor Soccer 1st/2nd - Valley League Sports
LOCATION:Pioneer Elementary Lebanon
CATEGORIES:QuickScores; Soccer - Indoor Game
TRANSP:0
DALARM:20240522T150000;PT10M;2;Gandee vs. SH Samson
END:VEVENT
END:VCALENDAR
