BEGIN:VCALENDAR
VERSION:1.0
BEGIN:VEVENT
DTSTART:20240422T180000
DTEND:20240422T190000
SUMMARY:Staten vs. Taylor
DESCRIPTION:BGCGS Indoor Soccer 1st/2nd - Valley League Sports
LOCATION:Pioneer Elementary Lebanon
CATEGORIES:QuickScores; Soccer - Indoor Game
TRANSP:0
DALARM:20240422T160000;PT10M;2;Staten vs. Taylor
END:VEVENT
BEGIN:VEVENT
DTSTART:20240424T180000
DTEND:20240424T190000
SUMMARY:Taylor vs. Alaina
DESCRIPTION:BGCGS Indoor Soccer 1st/2nd - Valley League Sports
LOCATION:Pioneer Elementary Lebanon
CATEGORIES:QuickScores; Soccer - Indoor Game
TRANSP:0
DALARM:20240424T160000;PT10M;2;Taylor vs. Alaina
END:VEVENT
BEGIN:VEVENT
DTSTART:20240429T180000
DTEND:20240429T190000
SUMMARY:SH Hindman vs. Taylor
DESCRIPTION:BGCGS Indoor Soccer 1st/2nd - Valley League Sports
LOCATION:Foster Elementary - Sweet Home
CATEGORIES:QuickScores; Soccer - Indoor Game
TRANSP:0
DALARM:20240429T160000;PT10M;2;SH Hindman vs. Taylor
END:VEVENT
BEGIN:VEVENT
DTSTART:20240501T190000
DTEND:20240501T200000
SUMMARY:Taylor vs. SH Johnston
DESCRIPTION:BGCGS Indoor Soccer 1st/2nd - Valley League Sports
LOCATION:Pioneer Elementary Lebanon
CATEGORIES:QuickScores; Soccer - Indoor Game
TRANSP:0
DALARM:20240501T170000;PT10M;2;Taylor vs. SH Johnston
END:VEVENT
BEGIN:VEVENT
DTSTART:20240506T180000
DTEND:20240506T190000
SUMMARY:SH Greyling vs. Taylor
DESCRIPTION:BGCGS Indoor Soccer 1st/2nd - Valley League Sports
LOCATION:Foster Elementary - Sweet Home
CATEGORIES:QuickScores; Soccer - Indoor Game
TRANSP:0
DALARM:20240506T160000;PT10M;2;SH Greyling vs. Taylor
END:VEVENT
BEGIN:VEVENT
DTSTART:20240508T180000
DTEND:20240508T190000
SUMMARY:SH Samson vs. Taylor
DESCRIPTION:BGCGS Indoor Soccer 1st/2nd - Valley League Sports
LOCATION:Pioneer Elementary Lebanon
CATEGORIES:QuickScores; Soccer - Indoor Game
TRANSP:0
DALARM:20240508T160000;PT10M;2;SH Samson vs. Taylor
END:VEVENT
BEGIN:VEVENT
DTSTART:20240513T180000
DTEND:20240513T190000
SUMMARY:Taylor vs. SH Hindman
DESCRIPTION:BGCGS Indoor Soccer 1st/2nd - Valley League Sports
LOCATION:Pioneer Elementary Lebanon
CATEGORIES:QuickScores; Soccer - Indoor Game
TRANSP:0
DALARM:20240513T160000;PT10M;2;Taylor vs. SH Hindman
END:VEVENT
BEGIN:VEVENT
DTSTART:20240515T180000
DTEND:20240515T190000
SUMMARY:Taylor vs. Staten
DESCRIPTION:BGCGS Indoor Soccer 1st/2nd - Valley League Sports
LOCATION:Pioneer Elementary Lebanon
CATEGORIES:QuickScores; Soccer - Indoor Game
TRANSP:0
DALARM:20240515T160000;PT10M;2;Taylor vs. Staten
END:VEVENT
BEGIN:VEVENT
DTSTART:20240520T190000
DTEND:20240520T200000
SUMMARY:Taylor vs. Gandee
DESCRIPTION:BGCGS Indoor Soccer 1st/2nd - Valley League Sports
LOCATION:Pioneer Elementary Lebanon
CATEGORIES:QuickScores; Soccer - Indoor Game
TRANSP:0
DALARM:20240520T170000;PT10M;2;Taylor vs. Gandee
END:VEVENT
BEGIN:VEVENT
DTSTART:20240522T180000
DTEND:20240522T190000
SUMMARY:Taylor vs. Alaina
DESCRIPTION:BGCGS Indoor Soccer 1st/2nd - Valley League Sports
LOCATION:Pioneer Elementary Lebanon
CATEGORIES:QuickScores; Soccer - Indoor Game
TRANSP:0
DALARM:20240522T160000;PT10M;2;Taylor vs. Alaina
END:VEVENT
END:VCALENDAR
