BEGIN:VCALENDAR
VERSION:1.0
BEGIN:VEVENT
DTSTART:20240422T180000
DTEND:20240422T190000
SUMMARY:SH Samson vs. SH Johnston
DESCRIPTION:BGCGS Indoor Soccer 1st/2nd - Valley League Sports
LOCATION:Foster Elementary - Sweet Home
CATEGORIES:QuickScores; Soccer - Indoor Game
TRANSP:0
DALARM:20240422T160000;PT10M;2;SH Samson vs. SH Johnston
END:VEVENT
BEGIN:VEVENT
DTSTART:20240424T170000
DTEND:20240424T180000
SUMMARY:SH Greyling vs. SH Samson
DESCRIPTION:BGCGS Indoor Soccer 1st/2nd - Valley League Sports
LOCATION:Foster Elementary - Sweet Home
CATEGORIES:QuickScores; Soccer - Indoor Game
TRANSP:0
DALARM:20240424T150000;PT10M;2;SH Greyling vs. SH Samson
END:VEVENT
BEGIN:VEVENT
DTSTART:20240429T170000
DTEND:20240429T180000
SUMMARY:Staten vs. SH Samson
DESCRIPTION:BGCGS Indoor Soccer 1st/2nd - Valley League Sports
LOCATION:Pioneer Elementary Lebanon
CATEGORIES:QuickScores; Soccer - Indoor Game
TRANSP:0
DALARM:20240429T150000;PT10M;2;Staten vs. SH Samson
END:VEVENT
BEGIN:VEVENT
DTSTART:20240501T170000
DTEND:20240501T180000
SUMMARY:SH Samson vs. Gandee
DESCRIPTION:BGCGS Indoor Soccer 1st/2nd - Valley League Sports
LOCATION:Foster Elementary - Sweet Home
CATEGORIES:QuickScores; Soccer - Indoor Game
TRANSP:0
DALARM:20240501T150000;PT10M;2;SH Samson vs. Gandee
END:VEVENT
BEGIN:VEVENT
DTSTART:20240506T170000
DTEND:20240506T180000
SUMMARY:SH Samson vs. Staten
DESCRIPTION:BGCGS Indoor Soccer 1st/2nd - Valley League Sports
LOCATION:Foster Elementary - Sweet Home
CATEGORIES:QuickScores; Soccer - Indoor Game
TRANSP:0
DALARM:20240506T150000;PT10M;2;SH Samson vs. Staten
END:VEVENT
BEGIN:VEVENT
DTSTART:20240508T180000
DTEND:20240508T190000
SUMMARY:SH Samson vs. Taylor
DESCRIPTION:BGCGS Indoor Soccer 1st/2nd - Valley League Sports
LOCATION:Pioneer Elementary Lebanon
CATEGORIES:QuickScores; Soccer - Indoor Game
TRANSP:0
DALARM:20240508T160000;PT10M;2;SH Samson vs. Taylor
END:VEVENT
BEGIN:VEVENT
DTSTART:20240513T190000
DTEND:20240513T200000
SUMMARY:Alaina vs. SH Samson
DESCRIPTION:BGCGS Indoor Soccer 1st/2nd - Valley League Sports
LOCATION:Pioneer Elementary Lebanon
CATEGORIES:QuickScores; Soccer - Indoor Game
TRANSP:0
DALARM:20240513T170000;PT10M;2;Alaina vs. SH Samson
END:VEVENT
BEGIN:VEVENT
DTSTART:20240515T170000
DTEND:20240515T180000
SUMMARY:SH Johnston vs. SH Samson
DESCRIPTION:BGCGS Indoor Soccer 1st/2nd - Valley League Sports
LOCATION:Foster Elementary - Sweet Home
CATEGORIES:QuickScores; Soccer - Indoor Game
TRANSP:0
DALARM:20240515T150000;PT10M;2;SH Johnston vs. SH Samson
END:VEVENT
BEGIN:VEVENT
DTSTART:20240520T170000
DTEND:20240520T180000
SUMMARY:SH Samson vs. SH Greyling
DESCRIPTION:BGCGS Indoor Soccer 1st/2nd - Valley League Sports
LOCATION:Foster Elementary - Sweet Home
CATEGORIES:QuickScores; Soccer - Indoor Game
TRANSP:0
DALARM:20240520T150000;PT10M;2;SH Samson vs. SH Greyling
END:VEVENT
BEGIN:VEVENT
DTSTART:20240522T170000
DTEND:20240522T180000
SUMMARY:Gandee vs. SH Samson
DESCRIPTION:BGCGS Indoor Soccer 1st/2nd - Valley League Sports
LOCATION:Pioneer Elementary Lebanon
CATEGORIES:QuickScores; Soccer - Indoor Game
TRANSP:0
DALARM:20240522T150000;PT10M;2;Gandee vs. SH Samson
END:VEVENT
END:VCALENDAR
