BEGIN:VCALENDAR
VERSION:1.0
BEGIN:VEVENT
DTSTART:20230923T090000
DTEND:20230923T100000
SUMMARY:Thatcher Construction (SYC Team 1) vs. Lebanon - Seahawks
DESCRIPTION:5th/6th Grade - Valley League Sports
LOCATION:Century Park 1 - Lebanon
CATEGORIES:QuickScores; Flag Football Game
TRANSP:0
DALARM:20230923T070000;PT10M;2;Thatcher Construction (SYC Team 1) vs. Lebanon - Seahawks
END:VEVENT
BEGIN:VEVENT
DTSTART:20230923T100000
DTEND:20230923T110000
SUMMARY:Lebanon - Seahawks vs. NSYA-Bills
DESCRIPTION:5th/6th Grade - Valley League Sports
LOCATION:Century Park 2 - Lebanon
CATEGORIES:QuickScores; Flag Football Game
TRANSP:0
DALARM:20230923T080000;PT10M;2;Lebanon - Seahawks vs. NSYA-Bills
END:VEVENT
BEGIN:VEVENT
DTSTART:20230930T120000
DTEND:20230930T130000
SUMMARY:Best Heating & cooling (SYC Team 2) vs. Lebanon - Seahawks
DESCRIPTION:5th/6th Grade - Valley League Sports
LOCATION:Century Park 2 - Lebanon
CATEGORIES:QuickScores; Flag Football Game
TRANSP:0
DALARM:20230930T100000;PT10M;2;Best Heating & cooling (SYC Team 2) vs. Lebanon - Seahawks
END:VEVENT
BEGIN:VEVENT
DTSTART:20230930T140000
DTEND:20230930T150000
SUMMARY:Lebanon - Seahawks vs. Lebanon - Commanders
DESCRIPTION:5th/6th Grade - Valley League Sports
LOCATION:Century Park 1 - Lebanon
CATEGORIES:QuickScores; Flag Football Game
TRANSP:0
DALARM:20230930T120000;PT10M;2;Lebanon - Seahawks vs. Lebanon - Commanders
END:VEVENT
BEGIN:VEVENT
DTSTART:20231007T100000
DTEND:20231007T110000
SUMMARY:Lebanon - Seahawks vs. NSYA-Bills
DESCRIPTION:5th/6th Grade - Valley League Sports
LOCATION:Stayton Highschool Field 3
CATEGORIES:QuickScores; Flag Football Game
TRANSP:0
DALARM:20231007T080000;PT10M;2;Lebanon - Seahawks vs. NSYA-Bills
END:VEVENT
BEGIN:VEVENT
DTSTART:20231007T110000
DTEND:20231007T120000
SUMMARY:NSYA - Seahawks vs. Lebanon - Seahawks
DESCRIPTION:5th/6th Grade - Valley League Sports
LOCATION:Stayton High School Field 2
CATEGORIES:QuickScores; Flag Football Game
TRANSP:0
DALARM:20231007T090000;PT10M;2;NSYA - Seahawks vs. Lebanon - Seahawks
END:VEVENT
BEGIN:VEVENT
DTSTART:20231014T093000
DTEND:20231014T103000
SUMMARY:Lebanon - Seahawks vs. Jefferson- Steelers
DESCRIPTION:5th/6th Grade - Valley League Sports
LOCATION:Jefferson HS Football Field
CATEGORIES:QuickScores; Flag Football Game
TRANSP:0
DALARM:20231014T073000;PT10M;2;Lebanon - Seahawks vs. Jefferson- Steelers
END:VEVENT
BEGIN:VEVENT
DTSTART:20231014T123000
DTEND:20231014T133000
SUMMARY:Lebanon - Seahawks vs. Lebanon - 49ers
DESCRIPTION:5th/6th Grade - Valley League Sports
LOCATION:Jefferson HS Football Field
CATEGORIES:QuickScores; Flag Football Game
TRANSP:0
DALARM:20231014T103000;PT10M;2;Lebanon - Seahawks vs. Lebanon - 49ers
END:VEVENT
BEGIN:VEVENT
DTSTART:20231021T131500
DTEND:20231021T141500
SUMMARY:Thatcher Construction (SYC Team 1) vs. Lebanon - Seahawks
DESCRIPTION:5th/6th Grade - Valley League Sports
LOCATION:Scio HS Football Field
CATEGORIES:QuickScores; Flag Football Game
TRANSP:0
DALARM:20231021T111500;PT10M;2;Thatcher Construction (SYC Team 1) vs. Lebanon - Seahawks
END:VEVENT
BEGIN:VEVENT
DTSTART:20231021T152500
DTEND:20231021T162500
SUMMARY:Lebanon - Seahawks vs. Sweet Home - Packers
DESCRIPTION:5th/6th Grade - Valley League Sports
LOCATION:Scio HS Football Field
CATEGORIES:QuickScores; Flag Football Game
TRANSP:0
DALARM:20231021T132500;PT10M;2;Lebanon - Seahawks vs. Sweet Home - Packers
END:VEVENT
END:VCALENDAR
