BEGIN:VCALENDAR
VERSION:1.0
BEGIN:VEVENT
DTSTART:20230923T123000
DTEND:20230923T133000
SUMMARY:CYS Eagles vs. Pacific Power -- Eagles
DESCRIPTION:5th/6th Grade - Valley League Sports
LOCATION:Williams Field Corvallis #1
CATEGORIES:QuickScores; Flag Football Game
TRANSP:0
DALARM:20230923T103000;PT10M;2;CYS Eagles vs. Pacific Power -- Eagles
END:VEVENT
BEGIN:VEVENT
DTSTART:20230923T133000
DTEND:20230923T143000
SUMMARY:Valley Eye Care -- Falcons vs. CYS Eagles
DESCRIPTION:5th/6th Grade - Valley League Sports
LOCATION:Williams Field Corvallis #1
CATEGORIES:QuickScores; Flag Football Game
TRANSP:0
DALARM:20230923T113000;PT10M;2;Valley Eye Care -- Falcons vs. CYS Eagles
END:VEVENT
BEGIN:VEVENT
DTSTART:20230930T103000
DTEND:20230930T113000
SUMMARY:CYS Eagles vs. CYS Seahawks
DESCRIPTION:5th/6th Grade - Valley League Sports
LOCATION:Williams Field Corvallis #2
CATEGORIES:QuickScores; Flag Football Game
TRANSP:0
DALARM:20230930T083000;PT10M;2;CYS Eagles vs. CYS Seahawks
END:VEVENT
BEGIN:VEVENT
DTSTART:20230930T123000
DTEND:20230930T133000
SUMMARY:Hendrix Heating -- Ravens vs. CYS Eagles
DESCRIPTION:5th/6th Grade - Valley League Sports
LOCATION:Williams Field Corvallis #2
CATEGORIES:QuickScores; Flag Football Game
TRANSP:0
DALARM:20230930T103000;PT10M;2;Hendrix Heating -- Ravens vs. CYS Eagles
END:VEVENT
BEGIN:VEVENT
DTSTART:20231007T110000
DTEND:20231007T120000
SUMMARY:CYS Eagles vs. Hendrix Heating -- Ravens
DESCRIPTION:5th/6th Grade - Valley League Sports
LOCATION:Central High School
CATEGORIES:QuickScores; Flag Football Game
TRANSP:0
DALARM:20231007T090000;PT10M;2;CYS Eagles vs. Hendrix Heating -- Ravens
END:VEVENT
BEGIN:VEVENT
DTSTART:20231007T130000
DTEND:20231007T140000
SUMMARY:Pacific Power -- Eagles vs. CYS Eagles
DESCRIPTION:5th/6th Grade - Valley League Sports
LOCATION:Central High School
CATEGORIES:QuickScores; Flag Football Game
TRANSP:0
DALARM:20231007T110000;PT10M;2;Pacific Power -- Eagles vs. CYS Eagles
END:VEVENT
BEGIN:VEVENT
DTSTART:20231014T110000
DTEND:20231014T120000
SUMMARY:CYS Eagles vs. Broncos -- Fielder
DESCRIPTION:5th/6th Grade - Valley League Sports
LOCATION:Central High School
CATEGORIES:QuickScores; Flag Football Game
TRANSP:0
DALARM:20231014T090000;PT10M;2;CYS Eagles vs. Broncos -- Fielder
END:VEVENT
BEGIN:VEVENT
DTSTART:20231014T130000
DTEND:20231014T140000
SUMMARY:Raiders -- Young vs. CYS Eagles
DESCRIPTION:5th/6th Grade - Valley League Sports
LOCATION:Central High School
CATEGORIES:QuickScores; Flag Football Game
TRANSP:0
DALARM:20231014T110000;PT10M;2;Raiders -- Young vs. CYS Eagles
END:VEVENT
BEGIN:VEVENT
DTSTART:20231021T113000
DTEND:20231021T123000
SUMMARY:CYS Eagles vs. Wilson Motors -- Cardinals
DESCRIPTION:5th/6th Grade - Valley League Sports
LOCATION:Williams Field Corvallis #2
CATEGORIES:QuickScores; Flag Football Game
TRANSP:0
DALARM:20231021T093000;PT10M;2;CYS Eagles vs. Wilson Motors -- Cardinals
END:VEVENT
BEGIN:VEVENT
DTSTART:20231021T123000
DTEND:20231021T133000
SUMMARY:CYS Seahawks vs. CYS Eagles
DESCRIPTION:5th/6th Grade - Valley League Sports
LOCATION:Williams Field Corvallis #1
CATEGORIES:QuickScores; Flag Football Game
TRANSP:0
DALARM:20231021T103000;PT10M;2;CYS Seahawks vs. CYS Eagles
END:VEVENT
END:VCALENDAR
