BEGIN:VCALENDAR
VERSION:1.0
BEGIN:VEVENT
DTSTART:20230916T103000
DTEND:20230916T110000
SUMMARY:Wilson Motors -- Cardinals vs. Raiders -- Young
DESCRIPTION:Jamboree!! 1 20 minute half --- 5th/6th Grade - Valley League Sports
LOCATION:Williams Field Corvallis #1
CATEGORIES:QuickScores; Flag Football Game
TRANSP:0
DALARM:20230916T083000;PT10M;2;Wilson Motors -- Cardinals vs. Raiders -- Young
END:VEVENT
BEGIN:VEVENT
DTSTART:20230916T110000
DTEND:20230916T113000
SUMMARY:Raiders -- Young vs. Pacific Power -- Eagles
DESCRIPTION:Jamboree!! 1 20 minute half --- 5th/6th Grade - Valley League Sports
LOCATION:Williams Field Corvallis #1
CATEGORIES:QuickScores; Flag Football Game
TRANSP:0
DALARM:20230916T090000;PT10M;2;Raiders -- Young vs. Pacific Power -- Eagles
END:VEVENT
BEGIN:VEVENT
DTSTART:20230930T113000
DTEND:20230930T123000
SUMMARY:Raiders -- Young vs. Hendrix Heating -- Ravens
DESCRIPTION:5th/6th Grade - Valley League Sports
LOCATION:Williams Field Corvallis #1
CATEGORIES:QuickScores; Flag Football Game
TRANSP:0
DALARM:20230930T093000;PT10M;2;Raiders -- Young vs. Hendrix Heating -- Ravens
END:VEVENT
BEGIN:VEVENT
DTSTART:20230930T133000
DTEND:20230930T143000
SUMMARY:Pacific Power -- Eagles vs. Raiders -- Young
DESCRIPTION:5th/6th Grade - Valley League Sports
LOCATION:Williams Field Corvallis #1
CATEGORIES:QuickScores; Flag Football Game
TRANSP:0
DALARM:20230930T113000;PT10M;2;Pacific Power -- Eagles vs. Raiders -- Young
END:VEVENT
BEGIN:VEVENT
DTSTART:20231007T133000
DTEND:20231007T143000
SUMMARY:Raiders -- Young vs. Sweet Home - Packers
DESCRIPTION:5th/6th Grade - Valley League Sports
LOCATION:Williams Field Corvallis #2
CATEGORIES:QuickScores; Flag Football Game
TRANSP:0
DALARM:20231007T113000;PT10M;2;Raiders -- Young vs. Sweet Home - Packers
END:VEVENT
BEGIN:VEVENT
DTSTART:20231007T153000
DTEND:20231007T163000
SUMMARY:Wilson Motors -- Cardinals vs. Raiders -- Young
DESCRIPTION:5th/6th Grade - Valley League Sports
LOCATION:Williams Field Corvallis #2
CATEGORIES:QuickScores; Flag Football Game
TRANSP:0
DALARM:20231007T133000;PT10M;2;Wilson Motors -- Cardinals vs. Raiders -- Young
END:VEVENT
BEGIN:VEVENT
DTSTART:20231014T130000
DTEND:20231014T140000
SUMMARY:Raiders -- Young vs. CYS Eagles
DESCRIPTION:5th/6th Grade - Valley League Sports
LOCATION:Central High School
CATEGORIES:QuickScores; Flag Football Game
TRANSP:0
DALARM:20231014T110000;PT10M;2;Raiders -- Young vs. CYS Eagles
END:VEVENT
BEGIN:VEVENT
DTSTART:20231014T140000
DTEND:20231014T150000
SUMMARY:CYS Seahawks vs. Raiders -- Young
DESCRIPTION:5th/6th Grade - Valley League Sports
LOCATION:Central High School
CATEGORIES:QuickScores; Flag Football Game
TRANSP:0
DALARM:20231014T120000;PT10M;2;CYS Seahawks vs. Raiders -- Young
END:VEVENT
BEGIN:VEVENT
DTSTART:20231021T113000
DTEND:20231021T123000
SUMMARY:Raiders -- Young vs. Valley Eye Care -- Falcons
DESCRIPTION:5th/6th Grade - Valley League Sports
LOCATION:Williams Field Corvallis #1
CATEGORIES:QuickScores; Flag Football Game
TRANSP:0
DALARM:20231021T093000;PT10M;2;Raiders -- Young vs. Valley Eye Care -- Falcons
END:VEVENT
BEGIN:VEVENT
DTSTART:20231024T173000
DTEND:20231024T183000
SUMMARY:Raiders -- Young vs. Valley Eye Care -- Falcons
DESCRIPTION:5th/6th Grade - Valley League Sports
LOCATION:Williams Field Corvallis #1
CATEGORIES:QuickScores; Flag Football Game
TRANSP:0
DALARM:20231024T153000;PT10M;2;Raiders -- Young vs. Valley Eye Care -- Falcons
END:VEVENT
BEGIN:VEVENT
DTSTART:20231024T183000
DTEND:20231024T193000
SUMMARY:CYS Seahawks vs. Raiders -- Young
DESCRIPTION:DATE CHANGE --- 5th/6th Grade - Valley League Sports
LOCATION:Williams Field Corvallis #1
CATEGORIES:QuickScores; Flag Football Game
TRANSP:0
DALARM:20231024T163000;PT10M;2;CYS Seahawks vs. Raiders -- Young
END:VEVENT
END:VCALENDAR
