BEGIN:VCALENDAR
VERSION:1.0
BEGIN:VEVENT
DTSTART:20230518T174500
DTEND:20230518T184500
SUMMARY:Team Kidd vs. Team Webb
DESCRIPTION:Albany/Jefferson Pitching Machine - Valley League Sports
LOCATION:Kinder (Rookie League #3) Green Field sponsored by Les Schwab
CATEGORIES:QuickScores; Baseball Game
TRANSP:0
DALARM:20230518T154500;PT10M;2;Team Kidd vs. Team Webb
END:VEVENT
BEGIN:VEVENT
DTSTART:20230524T174500
DTEND:20230524T184500
SUMMARY:Team Katzenstein vs. Team Webb
DESCRIPTION:Albany/Jefferson Pitching Machine - Valley League Sports
LOCATION:Kinder (Rookie League #3) Green Field sponsored by Les Schwab
CATEGORIES:QuickScores; Baseball Game
TRANSP:0
DALARM:20230524T154500;PT10M;2;Team Katzenstein vs. Team Webb
END:VEVENT
BEGIN:VEVENT
DTSTART:20230525T171500
DTEND:20230525T181500
SUMMARY:Team Webb vs. Jefferson Blue- Martin
DESCRIPTION:Moved from 5/22- Albany Coach info not available for contact --- Albany/Jefferson Pitching Machine - Valley League Sports
LOCATION:Jefferson MS Field #5
CATEGORIES:QuickScores; Baseball Game
TRANSP:0
DALARM:20230525T151500;PT10M;2;Team Webb vs. Jefferson Blue- Martin
END:VEVENT
BEGIN:VEVENT
DTSTART:20230530T183000
DTEND:20230530T193000
SUMMARY:Team Webb vs. Team Kidd
DESCRIPTION:Albany/Jefferson Pitching Machine - Valley League Sports
LOCATION:Kinder (Rookie League #3) Green Field sponsored by Les Schwab
CATEGORIES:QuickScores; Baseball Game
TRANSP:0
DALARM:20230530T163000;PT10M;2;Team Webb vs. Team Kidd
END:VEVENT
BEGIN:VEVENT
DTSTART:20230601T184500
DTEND:20230601T194500
SUMMARY:Team Webb vs. Jefferson Yellow- Sloan
DESCRIPTION:Albany/Jefferson Pitching Machine - Valley League Sports
LOCATION:Jefferson MS Field #5
CATEGORIES:QuickScores; Baseball Game
TRANSP:0
DALARM:20230601T164500;PT10M;2;Team Webb vs. Jefferson Yellow- Sloan
END:VEVENT
BEGIN:VEVENT
DTSTART:20230606T171500
DTEND:20230606T181500
SUMMARY:Team Webb vs. Team Smith
DESCRIPTION:Albany/Jefferson Pitching Machine - Valley League Sports
LOCATION:Kinder (Rookie League #3) Green Field sponsored by Les Schwab
CATEGORIES:QuickScores; Baseball Game
TRANSP:0
DALARM:20230606T151500;PT10M;2;Team Webb vs. Team Smith
END:VEVENT
BEGIN:VEVENT
DTSTART:20230608T180000
DTEND:20230608T190000
SUMMARY:Team Meekins vs. Team Webb
DESCRIPTION:Albany/Jefferson Pitching Machine - Valley League Sports
LOCATION:Kinder (Rookie League #2) Blue Field sponsored by Jamba Juice
CATEGORIES:QuickScores; Baseball Game
TRANSP:0
DALARM:20230608T160000;PT10M;2;Team Meekins vs. Team Webb
END:VEVENT
BEGIN:VEVENT
DTSTART:20230613T173000
DTEND:20230613T183000
SUMMARY:Jefferson Yellow- Sloan vs. Team Webb
DESCRIPTION:6/14 Game Rescheduled to 6/13 --- Albany/Jefferson Pitching Machine - Valley League Sports
LOCATION:Kinder (Rookie League #2) Blue Field sponsored by Jamba Juice
CATEGORIES:QuickScores; Baseball Game
TRANSP:0
DALARM:20230613T153000;PT10M;2;Jefferson Yellow- Sloan vs. Team Webb
END:VEVENT
END:VCALENDAR
