BEGIN:VCALENDAR
VERSION:1.0
BEGIN:VEVENT
DTSTART:20250906T121500
DTEND:20250906T131500
SUMMARY:Scofield vs. Silva
DESCRIPTION:7-8 Year Olds - 
LOCATION:Field A
CATEGORIES:QuickScores; Flag Football Game
TRANSP:0
DALARM:20250906T101500;PT10M;2;Scofield vs. Silva
END:VEVENT
BEGIN:VEVENT
DTSTART:20250913T110000
DTEND:20250913T120000
SUMMARY:Silva vs. Bullard
DESCRIPTION:7-8 Year Olds - 
LOCATION:Field A
CATEGORIES:QuickScores; Flag Football Game
TRANSP:0
DALARM:20250913T090000;PT10M;2;Silva vs. Bullard
END:VEVENT
BEGIN:VEVENT
DTSTART:20250920T110000
DTEND:20250920T120000
SUMMARY:Lindeman vs. Silva
DESCRIPTION:7-8 Year Olds - 
LOCATION:Field A
CATEGORIES:QuickScores; Flag Football Game
TRANSP:0
DALARM:20250920T090000;PT10M;2;Lindeman vs. Silva
END:VEVENT
BEGIN:VEVENT
DTSTART:20250927T110000
DTEND:20250927T120000
SUMMARY:Silva vs. Scofield
DESCRIPTION:7-8 Year Olds - 
LOCATION:Field A
CATEGORIES:QuickScores; Flag Football Game
TRANSP:0
DALARM:20250927T090000;PT10M;2;Silva vs. Scofield
END:VEVENT
BEGIN:VEVENT
DTSTART:20251004T121500
DTEND:20251004T131500
SUMMARY:Bullard vs. Silva
DESCRIPTION:7-8 Year Olds - 
LOCATION:Field A
CATEGORIES:QuickScores; Flag Football Game
TRANSP:0
DALARM:20251004T101500;PT10M;2;Bullard vs. Silva
END:VEVENT
BEGIN:VEVENT
DTSTART:20251011T121500
DTEND:20251011T131500
SUMMARY:Silva vs. Lindeman
DESCRIPTION:7-8 Year Olds - 
LOCATION:Field A
CATEGORIES:QuickScores; Flag Football Game
TRANSP:0
DALARM:20251011T101500;PT10M;2;Silva vs. Lindeman
END:VEVENT
BEGIN:VEVENT
DTSTART:20251018T110000
DTEND:20251018T120000
SUMMARY:Silva vs. Scofield
DESCRIPTION:7-8 Year Olds - 
LOCATION:Field A
CATEGORIES:QuickScores; Flag Football Game
TRANSP:0
DALARM:20251018T090000;PT10M;2;Silva vs. Scofield
END:VEVENT
BEGIN:VEVENT
DTSTART:20251025T110000
DTEND:20251025T120000
SUMMARY:Bullard vs. Silva
DESCRIPTION:7-8 Year Olds - 
LOCATION:Field A
CATEGORIES:QuickScores; Flag Football Game
TRANSP:0
DALARM:20251025T090000;PT10M;2;Bullard vs. Silva
END:VEVENT
BEGIN:VEVENT
DTSTART:20251101T123000
DTEND:20251101T133000
SUMMARY:Silva vs. Lindeman
DESCRIPTION:7-8 Year Olds - 
LOCATION:Field A
CATEGORIES:QuickScores; Flag Football Game
TRANSP:0
DALARM:20251101T103000;PT10M;2;Silva vs. Lindeman
END:VEVENT
BEGIN:VEVENT
DTSTART:20251104T184500
DTEND:20251104T194500
SUMMARY:[2] Bullard vs. [3] Silva
DESCRIPTION:7-8 Year Olds - 
LOCATION:Field A
CATEGORIES:QuickScores; Flag Football Game
TRANSP:0
DALARM:20251104T164500;PT10M;2;[2] Bullard vs. [3] Silva
END:VEVENT
BEGIN:VEVENT
DTSTART:20251108T103000
DTEND:20251108T113000
SUMMARY:[1] Lindeman vs. [3] Silva
DESCRIPTION:7-8 Year Olds - 
LOCATION:Field A
CATEGORIES:QuickScores; Flag Football Game
TRANSP:0
DALARM:20251108T083000;PT10M;2;[1] Lindeman vs. [3] Silva
END:VEVENT
END:VCALENDAR
