BEGIN:VCALENDAR
VERSION:1.0
BEGIN:VEVENT
DTSTART:20250906T121500
DTEND:20250906T131500
SUMMARY:Scofield vs. Silva
DESCRIPTION:7-8 Year Olds - 
LOCATION:Field A
CATEGORIES:QuickScores; Flag Football Game
TRANSP:0
DALARM:20250906T101500;PT10M;2;Scofield vs. Silva
END:VEVENT
BEGIN:VEVENT
DTSTART:20250913T121500
DTEND:20250913T131500
SUMMARY:Lindeman vs. Scofield
DESCRIPTION:7-8 Year Olds - 
LOCATION:Field A
CATEGORIES:QuickScores; Flag Football Game
TRANSP:0
DALARM:20250913T101500;PT10M;2;Lindeman vs. Scofield
END:VEVENT
BEGIN:VEVENT
DTSTART:20250920T121500
DTEND:20250920T131500
SUMMARY:Bullard vs. Scofield
DESCRIPTION:7-8 Year Olds - 
LOCATION:Field A
CATEGORIES:QuickScores; Flag Football Game
TRANSP:0
DALARM:20250920T101500;PT10M;2;Bullard vs. Scofield
END:VEVENT
BEGIN:VEVENT
DTSTART:20250927T110000
DTEND:20250927T120000
SUMMARY:Silva vs. Scofield
DESCRIPTION:7-8 Year Olds - 
LOCATION:Field A
CATEGORIES:QuickScores; Flag Football Game
TRANSP:0
DALARM:20250927T090000;PT10M;2;Silva vs. Scofield
END:VEVENT
BEGIN:VEVENT
DTSTART:20251004T110000
DTEND:20251004T120000
SUMMARY:Scofield vs. Lindeman
DESCRIPTION:7-8 Year Olds - 
LOCATION:Field A
CATEGORIES:QuickScores; Flag Football Game
TRANSP:0
DALARM:20251004T090000;PT10M;2;Scofield vs. Lindeman
END:VEVENT
BEGIN:VEVENT
DTSTART:20251011T110000
DTEND:20251011T120000
SUMMARY:Scofield vs. Bullard
DESCRIPTION:7-8 Year Olds - 
LOCATION:Field A
CATEGORIES:QuickScores; Flag Football Game
TRANSP:0
DALARM:20251011T090000;PT10M;2;Scofield vs. Bullard
END:VEVENT
BEGIN:VEVENT
DTSTART:20251018T110000
DTEND:20251018T120000
SUMMARY:Silva vs. Scofield
DESCRIPTION:7-8 Year Olds - 
LOCATION:Field A
CATEGORIES:QuickScores; Flag Football Game
TRANSP:0
DALARM:20251018T090000;PT10M;2;Silva vs. Scofield
END:VEVENT
BEGIN:VEVENT
DTSTART:20251025T080000
DTEND:20251025T090000
SUMMARY:Lindeman vs. Scofield
DESCRIPTION:7-8 Year Olds - 
LOCATION:Field A
CATEGORIES:QuickScores; Flag Football Game
TRANSP:0
DALARM:20251025T060000;PT10M;2;Lindeman vs. Scofield
END:VEVENT
BEGIN:VEVENT
DTSTART:20251101T110000
DTEND:20251101T120000
SUMMARY:Scofield vs. Bullard
DESCRIPTION:7-8 Year Olds - 
LOCATION:Field A
CATEGORIES:QuickScores; Flag Football Game
TRANSP:0
DALARM:20251101T090000;PT10M;2;Scofield vs. Bullard
END:VEVENT
BEGIN:VEVENT
DTSTART:20251104T173000
DTEND:20251104T183000
SUMMARY:[1] Lindeman vs. [4] Scofield
DESCRIPTION:7-8 Year Olds - 
LOCATION:Field A
CATEGORIES:QuickScores; Flag Football Game
TRANSP:0
DALARM:20251104T153000;PT10M;2;[1] Lindeman vs. [4] Scofield
END:VEVENT
END:VCALENDAR
