BEGIN:VCALENDAR
VERSION:1.0
BEGIN:VEVENT
DTSTART:20250906T090000
DTEND:20250906T100000
SUMMARY:Sandoval vs. Bumatay
DESCRIPTION:5-6 Year Olds - 
LOCATION:Field A
CATEGORIES:QuickScores; Flag Football Game
TRANSP:0
DALARM:20250906T070000;PT10M;2;Sandoval vs. Bumatay
END:VEVENT
BEGIN:VEVENT
DTSTART:20250913T090000
DTEND:20250913T100000
SUMMARY:Garett vs. Sandoval
DESCRIPTION:5-6 Year Olds - 
LOCATION:Field A
CATEGORIES:QuickScores; Flag Football Game
TRANSP:0
DALARM:20250913T070000;PT10M;2;Garett vs. Sandoval
END:VEVENT
BEGIN:VEVENT
DTSTART:20250920T100000
DTEND:20250920T110000
SUMMARY:Hamilton vs. Sandoval
DESCRIPTION:5-6 Year Olds - 
LOCATION:Field A
CATEGORIES:QuickScores; Flag Football Game
TRANSP:0
DALARM:20250920T080000;PT10M;2;Hamilton vs. Sandoval
END:VEVENT
BEGIN:VEVENT
DTSTART:20250927T090000
DTEND:20250927T100000
SUMMARY:Bumatay vs. Sandoval
DESCRIPTION:5-6 Year Olds - 
LOCATION:Field A
CATEGORIES:QuickScores; Flag Football Game
TRANSP:0
DALARM:20250927T070000;PT10M;2;Bumatay vs. Sandoval
END:VEVENT
BEGIN:VEVENT
DTSTART:20251004T100000
DTEND:20251004T110000
SUMMARY:Sandoval vs. Garett
DESCRIPTION:5-6 Year Olds - 
LOCATION:Field A
CATEGORIES:QuickScores; Flag Football Game
TRANSP:0
DALARM:20251004T080000;PT10M;2;Sandoval vs. Garett
END:VEVENT
BEGIN:VEVENT
DTSTART:20251011T100000
DTEND:20251011T110000
SUMMARY:Sandoval vs. Hamilton
DESCRIPTION:5-6 Year Olds - 
LOCATION:Field A
CATEGORIES:QuickScores; Flag Football Game
TRANSP:0
DALARM:20251011T080000;PT10M;2;Sandoval vs. Hamilton
END:VEVENT
BEGIN:VEVENT
DTSTART:20251018T100000
DTEND:20251018T110000
SUMMARY:Bumatay vs. Sandoval
DESCRIPTION:5-6 Year Olds - 
LOCATION:Field A
CATEGORIES:QuickScores; Flag Football Game
TRANSP:0
DALARM:20251018T080000;PT10M;2;Bumatay vs. Sandoval
END:VEVENT
BEGIN:VEVENT
DTSTART:20251025T100000
DTEND:20251025T110000
SUMMARY:Sandoval vs. Garett
DESCRIPTION:5-6 Year Olds - 
LOCATION:Field A
CATEGORIES:QuickScores; Flag Football Game
TRANSP:0
DALARM:20251025T080000;PT10M;2;Sandoval vs. Garett
END:VEVENT
BEGIN:VEVENT
DTSTART:20251101T090000
DTEND:20251101T100000
SUMMARY:Hamilton vs. Sandoval
DESCRIPTION:5-6 Year Olds - 
LOCATION:Field A
CATEGORIES:QuickScores; Flag Football Game
TRANSP:0
DALARM:20251101T070000;PT10M;2;Hamilton vs. Sandoval
END:VEVENT
BEGIN:VEVENT
DTSTART:20251103T173000
DTEND:20251103T183000
SUMMARY:[1] Garett vs. [4] Sandoval
DESCRIPTION:5-6 Year Olds - 
LOCATION:Field A
CATEGORIES:QuickScores; Flag Football Game
TRANSP:0
DALARM:20251103T153000;PT10M;2;[1] Garett vs. [4] Sandoval
END:VEVENT
END:VCALENDAR
