BEGIN:VCALENDAR
VERSION:1.0
BEGIN:VEVENT
DTSTART:20250906T090000
DTEND:20250906T100000
SUMMARY:Sandoval vs. Bumatay
DESCRIPTION:5-6 Year Olds - 
LOCATION:Field A
CATEGORIES:QuickScores; Flag Football Game
TRANSP:0
DALARM:20250906T070000;PT10M;2;Sandoval vs. Bumatay
END:VEVENT
BEGIN:VEVENT
DTSTART:20250913T100000
DTEND:20250913T110000
SUMMARY:Bumatay vs. Hamilton
DESCRIPTION:5-6 Year Olds - 
LOCATION:Field A
CATEGORIES:QuickScores; Flag Football Game
TRANSP:0
DALARM:20250913T080000;PT10M;2;Bumatay vs. Hamilton
END:VEVENT
BEGIN:VEVENT
DTSTART:20250920T090000
DTEND:20250920T100000
SUMMARY:Garett vs. Bumatay
DESCRIPTION:5-6 Year Olds - 
LOCATION:Field A
CATEGORIES:QuickScores; Flag Football Game
TRANSP:0
DALARM:20250920T070000;PT10M;2;Garett vs. Bumatay
END:VEVENT
BEGIN:VEVENT
DTSTART:20250927T090000
DTEND:20250927T100000
SUMMARY:Bumatay vs. Sandoval
DESCRIPTION:5-6 Year Olds - 
LOCATION:Field A
CATEGORIES:QuickScores; Flag Football Game
TRANSP:0
DALARM:20250927T070000;PT10M;2;Bumatay vs. Sandoval
END:VEVENT
BEGIN:VEVENT
DTSTART:20251004T090000
DTEND:20251004T100000
SUMMARY:Hamilton vs. Bumatay
DESCRIPTION:5-6 Year Olds - 
LOCATION:Field A
CATEGORIES:QuickScores; Flag Football Game
TRANSP:0
DALARM:20251004T070000;PT10M;2;Hamilton vs. Bumatay
END:VEVENT
BEGIN:VEVENT
DTSTART:20251011T090000
DTEND:20251011T100000
SUMMARY:Bumatay vs. Garett
DESCRIPTION:5-6 Year Olds - 
LOCATION:Field A
CATEGORIES:QuickScores; Flag Football Game
TRANSP:0
DALARM:20251011T070000;PT10M;2;Bumatay vs. Garett
END:VEVENT
BEGIN:VEVENT
DTSTART:20251018T100000
DTEND:20251018T110000
SUMMARY:Bumatay vs. Sandoval
DESCRIPTION:5-6 Year Olds - 
LOCATION:Field A
CATEGORIES:QuickScores; Flag Football Game
TRANSP:0
DALARM:20251018T080000;PT10M;2;Bumatay vs. Sandoval
END:VEVENT
BEGIN:VEVENT
DTSTART:20251025T090000
DTEND:20251025T100000
SUMMARY:Hamilton vs. Bumatay
DESCRIPTION:5-6 Year Olds - 
LOCATION:Field A
CATEGORIES:QuickScores; Flag Football Game
TRANSP:0
DALARM:20251025T070000;PT10M;2;Hamilton vs. Bumatay
END:VEVENT
BEGIN:VEVENT
DTSTART:20251101T100000
DTEND:20251101T110000
SUMMARY:Garett vs. Bumatay
DESCRIPTION:5-6 Year Olds - 
LOCATION:Field A
CATEGORIES:QuickScores; Flag Football Game
TRANSP:0
DALARM:20251101T080000;PT10M;2;Garett vs. Bumatay
END:VEVENT
BEGIN:VEVENT
DTSTART:20251103T184500
DTEND:20251103T194500
SUMMARY:[2] Hamilton vs. [3] Bumatay
DESCRIPTION:5-6 Year Olds - 
LOCATION:Field A
CATEGORIES:QuickScores; Flag Football Game
TRANSP:0
DALARM:20251103T164500;PT10M;2;[2] Hamilton vs. [3] Bumatay
END:VEVENT
END:VCALENDAR
