BEGIN:VCALENDAR
VERSION:1.0
BEGIN:VEVENT
DTSTART:20260314T100000
DTEND:20260314T110000
SUMMARY:Team 3 vs. Team 2
DESCRIPTION:T3 White   T2 Blue --- Youth Soccer 3-4 Year Olds - Tuscarawas County YMCA Inc.
LOCATION:Gym - Court 1 (East Side)
CATEGORIES:QuickScores; Soccer - Youth Game
TRANSP:0
DALARM:20260314T080000;PT10M;2;Team 3 vs. Team 2
END:VEVENT
BEGIN:VEVENT
DTSTART:20260321T100000
DTEND:20260321T110000
SUMMARY:Team 2 vs. Team 1
DESCRIPTION:T2 White   T1 Blue --- Youth Soccer 3-4 Year Olds - Tuscarawas County YMCA Inc.
LOCATION:Gym - Court 1 (East Side)
CATEGORIES:QuickScores; Soccer - Youth Game
TRANSP:0
DALARM:20260321T080000;PT10M;2;Team 2 vs. Team 1
END:VEVENT
BEGIN:VEVENT
DTSTART:20260328T100000
DTEND:20260328T110000
SUMMARY:Team 4 vs. Team 2
DESCRIPTION:T4 White   T2 Blue --- Youth Soccer 3-4 Year Olds - Tuscarawas County YMCA Inc.
LOCATION:Gym - Court 2 (West Side)
CATEGORIES:QuickScores; Soccer - Youth Game
TRANSP:0
DALARM:20260328T080000;PT10M;2;Team 4 vs. Team 2
END:VEVENT
BEGIN:VEVENT
DTSTART:20260404T100000
DTEND:20260404T110000
SUMMARY:Team 2 vs. Team 3
DESCRIPTION:T2 White   T3 Blue --- Youth Soccer 3-4 Year Olds - Tuscarawas County YMCA Inc.
LOCATION:Gym - Court 2 (West Side)
CATEGORIES:QuickScores; Soccer - Youth Game
TRANSP:0
DALARM:20260404T080000;PT10M;2;Team 2 vs. Team 3
END:VEVENT
BEGIN:VEVENT
DTSTART:20260411T100000
DTEND:20260411T110000
SUMMARY:Team 1 vs. Team 2
DESCRIPTION:T1 White   T2 Blue --- Youth Soccer 3-4 Year Olds - Tuscarawas County YMCA Inc.
LOCATION:Gym - Court 2 (West Side)
CATEGORIES:QuickScores; Soccer - Youth Game
TRANSP:0
DALARM:20260411T080000;PT10M;2;Team 1 vs. Team 2
END:VEVENT
BEGIN:VEVENT
DTSTART:20260418T100000
DTEND:20260418T110000
SUMMARY:Team 2 vs. Team 4
DESCRIPTION:T2 White   T4 Blue --- Youth Soccer 3-4 Year Olds - Tuscarawas County YMCA Inc.
LOCATION:Gym - Court 1 (East Side)
CATEGORIES:QuickScores; Soccer - Youth Game
TRANSP:0
DALARM:20260418T080000;PT10M;2;Team 2 vs. Team 4
END:VEVENT
BEGIN:VEVENT
DTSTART:20260425T100000
DTEND:20260425T110000
SUMMARY:Team 3 vs. Team 2
DESCRIPTION:T3 White   T2 Blue --- Youth Soccer 3-4 Year Olds - Tuscarawas County YMCA Inc.
LOCATION:Gym - Court 2 (West Side)
CATEGORIES:QuickScores; Soccer - Youth Game
TRANSP:0
DALARM:20260425T080000;PT10M;2;Team 3 vs. Team 2
END:VEVENT
END:VCALENDAR
