BEGIN:VCALENDAR
VERSION:1.0
BEGIN:VEVENT
DTSTART:20260227T192500
DTEND:20260227T202500
SUMMARY:OUTLAWS vs. RICO'S PIZZA
DESCRIPTION:MEN'S B-FRIDAY - Turlock Recreation
LOCATION:Field #5
CATEGORIES:QuickScores; Softball Game
TRANSP:0
DALARM:20260227T172500;PT10M;2;OUTLAWS vs. RICO'S PIZZA
END:VEVENT
BEGIN:VEVENT
DTSTART:20260227T203500
DTEND:20260227T213500
SUMMARY:RICO'S PIZZA vs. BREW S.A.
DESCRIPTION:MEN'S B-FRIDAY - Turlock Recreation
LOCATION:Field #5
CATEGORIES:QuickScores; Softball Game
TRANSP:0
DALARM:20260227T183500;PT10M;2;RICO'S PIZZA vs. BREW S.A.
END:VEVENT
BEGIN:VEVENT
DTSTART:20260306T192500
DTEND:20260306T202500
SUMMARY:RICO'S PIZZA vs. DAYS
DESCRIPTION:MEN'S B-FRIDAY - Turlock Recreation
LOCATION:Field #1
CATEGORIES:QuickScores; Softball Game
TRANSP:0
DALARM:20260306T172500;PT10M;2;RICO'S PIZZA vs. DAYS
END:VEVENT
BEGIN:VEVENT
DTSTART:20260313T214500
DTEND:20260313T224500
SUMMARY:RICO'S PIZZA vs. CALIFORNIA FREIGHT
DESCRIPTION:MEN'S B-FRIDAY - Turlock Recreation
LOCATION:Field #3
CATEGORIES:QuickScores; Softball Game
TRANSP:0
DALARM:20260313T194500;PT10M;2;RICO'S PIZZA vs. CALIFORNIA FREIGHT
END:VEVENT
BEGIN:VEVENT
DTSTART:20260320T181500
DTEND:20260320T191500
SUMMARY:MCNASTY vs. RICO'S PIZZA
DESCRIPTION:MEN'S B-FRIDAY - Turlock Recreation
LOCATION:Field #5
CATEGORIES:QuickScores; Softball Game
TRANSP:0
DALARM:20260320T161500;PT10M;2;MCNASTY vs. RICO'S PIZZA
END:VEVENT
BEGIN:VEVENT
DTSTART:20260327T203500
DTEND:20260327T213500
SUMMARY:BREW S.A. vs. RICO'S PIZZA
DESCRIPTION:MEN'S B-FRIDAY - Turlock Recreation
LOCATION:Field #1
CATEGORIES:QuickScores; Softball Game
TRANSP:0
DALARM:20260327T183500;PT10M;2;BREW S.A. vs. RICO'S PIZZA
END:VEVENT
BEGIN:VEVENT
DTSTART:20260417T194500
DTEND:20260417T204500
SUMMARY:[4] BREW S.A. vs. [1] RICO'S PIZZA
DESCRIPTION:MEN'S B-FRIDAY - Turlock Recreation
LOCATION:Field #5
CATEGORIES:QuickScores; Softball Game
TRANSP:0
DALARM:20260417T174500;PT10M;2;[4] BREW S.A. vs. [1] RICO'S PIZZA
END:VEVENT
BEGIN:VEVENT
DTSTART:20260417T210000
DTEND:20260417T220000
SUMMARY:[2] DAYS vs. [1] RICO'S PIZZA
DESCRIPTION:MEN'S B-FRIDAY - Turlock Recreation
LOCATION:Field #5
CATEGORIES:QuickScores; Softball Game
TRANSP:0
DALARM:20260417T190000;PT10M;2;[2] DAYS vs. [1] RICO'S PIZZA
END:VEVENT
END:VCALENDAR
