BEGIN:VCALENDAR
VERSION:1.0
BEGIN:VEVENT
DTSTART:20180106T080000
DTEND:20180106T090000
SUMMARY:OLS-R vs. POP-K
DESCRIPTION:Flea Girls - 
LOCATION:Our Lady of Sorrows
CATEGORIES:QuickScores; Basketball Game
TRANSP:0
DALARM:20180106T060000;PT10M;2;OLS-R vs. POP-K
END:VEVENT
BEGIN:VEVENT
DTSTART:20180113T100000
DTEND:20180113T110000
SUMMARY:OLS-R vs. OLS-C
DESCRIPTION:Flea Girls - 
LOCATION:Our Lady of Sorrows
CATEGORIES:QuickScores; Basketball Game
TRANSP:0
DALARM:20180113T080000;PT10M;2;OLS-R vs. OLS-C
END:VEVENT
BEGIN:VEVENT
DTSTART:20180120T130000
DTEND:20180120T140000
SUMMARY:OLS-R vs. SFX-H
DESCRIPTION:Flea Girls - 
LOCATION:Our Lady of Sorrows
CATEGORIES:QuickScores; Basketball Game
TRANSP:0
DALARM:20180120T110000;PT10M;2;OLS-R vs. SFX-H
END:VEVENT
BEGIN:VEVENT
DTSTART:20180127T120000
DTEND:20180127T130000
SUMMARY:SFX-S vs. OLS-R
DESCRIPTION:Flea Girls - 
LOCATION:St. Francis Xavier
CATEGORIES:QuickScores; Basketball Game
TRANSP:0
DALARM:20180127T100000;PT10M;2;SFX-S vs. OLS-R
END:VEVENT
BEGIN:VEVENT
DTSTART:20180203T130000
DTEND:20180203T140000
SUMMARY:OLS-J vs. OLS-R
DESCRIPTION:Flea Girls - 
LOCATION:Our Lady of Sorrows
CATEGORIES:QuickScores; Basketball Game
TRANSP:0
DALARM:20180203T110000;PT10M;2;OLS-J vs. OLS-R
END:VEVENT
BEGIN:VEVENT
DTSTART:20180204T140000
DTEND:20180204T150000
SUMMARY:SRA vs. OLS-R
DESCRIPTION:Flea Girls - 
LOCATION:Our Lady of Sorrows
CATEGORIES:QuickScores; Basketball Game
TRANSP:0
DALARM:20180204T120000;PT10M;2;SRA vs. OLS-R
END:VEVENT
BEGIN:VEVENT
DTSTART:20180210T150000
DTEND:20180210T160000
SUMMARY:OLV-W vs. OLS-R
DESCRIPTION:Flea Girls - 
LOCATION:Our Lady of the Valley
CATEGORIES:QuickScores; Basketball Game
TRANSP:0
DALARM:20180210T130000;PT10M;2;OLV-W vs. OLS-R
END:VEVENT
BEGIN:VEVENT
DTSTART:20180217T100000
DTEND:20180217T110000
SUMMARY:OLS-R vs. OLV-H
DESCRIPTION:Flea Girls - 
LOCATION:Our Lady of Sorrows
CATEGORIES:QuickScores; Basketball Game
TRANSP:0
DALARM:20180217T080000;PT10M;2;OLS-R vs. OLV-H
END:VEVENT
END:VCALENDAR
