BEGIN:VCALENDAR
VERSION:1.0
BEGIN:VEVENT
DTSTART:20140906T140000
DTEND:20140906T150000
SUMMARY:OLV-G vs. SFX
DESCRIPTION:Flea Division - 
LOCATION:Our Lady of the Valley
CATEGORIES:QuickScores; Volleyball Game
TRANSP:0
DALARM:20140906T120000;PT10M;2;OLV-G vs. SFX
END:VEVENT
BEGIN:VEVENT
DTSTART:20140906T150000
DTEND:20140906T160000
SUMMARY:OLV-F vs. SFX
DESCRIPTION:Flea Division - 
LOCATION:Our Lady of the Valley
CATEGORIES:QuickScores; Volleyball Game
TRANSP:0
DALARM:20140906T130000;PT10M;2;OLV-F vs. SFX
END:VEVENT
BEGIN:VEVENT
DTSTART:20140913T090000
DTEND:20140913T100000
SUMMARY:SFX vs. POP-C
DESCRIPTION:Flea Division - 
LOCATION:St. Francis Xavier
CATEGORIES:QuickScores; Volleyball Game
TRANSP:0
DALARM:20140913T070000;PT10M;2;SFX vs. POP-C
END:VEVENT
BEGIN:VEVENT
DTSTART:20140913T110000
DTEND:20140913T120000
SUMMARY:SFX vs. SRA
DESCRIPTION:Flea Division - 
LOCATION:St. Francis Xavier
CATEGORIES:QuickScores; Volleyball Game
TRANSP:0
DALARM:20140913T090000;PT10M;2;SFX vs. SRA
END:VEVENT
BEGIN:VEVENT
DTSTART:20140927T090000
DTEND:20140927T100000
SUMMARY:POP-B vs. SFX
DESCRIPTION:Flea Division - 
LOCATION:Prince of Peace
CATEGORIES:QuickScores; Volleyball Game
TRANSP:0
DALARM:20140927T070000;PT10M;2;POP-B vs. SFX
END:VEVENT
BEGIN:VEVENT
DTSTART:20140927T100000
DTEND:20140927T110000
SUMMARY:SFX vs. OLS-F
DESCRIPTION:Flea Division - 
LOCATION:Prince of Peace
CATEGORIES:QuickScores; Volleyball Game
TRANSP:0
DALARM:20140927T080000;PT10M;2;SFX vs. OLS-F
END:VEVENT
BEGIN:VEVENT
DTSTART:20140928T140000
DTEND:20140928T150000
SUMMARY:OLV-F vs. SFX
DESCRIPTION:Flea Division - 
LOCATION:Our Lady of the Valley
CATEGORIES:QuickScores; Volleyball Game
TRANSP:0
DALARM:20140928T120000;PT10M;2;OLV-F vs. SFX
END:VEVENT
BEGIN:VEVENT
DTSTART:20140928T150000
DTEND:20140928T160000
SUMMARY:OLV-G vs. SFX
DESCRIPTION:Flea Division - 
LOCATION:Our Lady of the Valley
CATEGORIES:QuickScores; Volleyball Game
TRANSP:0
DALARM:20140928T130000;PT10M;2;OLV-G vs. SFX
END:VEVENT
BEGIN:VEVENT
DTSTART:20141004T130000
DTEND:20141004T140000
SUMMARY:SFX vs. OLS-M
DESCRIPTION:Flea Division - 
LOCATION:St. Francis Xavier
CATEGORIES:QuickScores; Volleyball Game
TRANSP:0
DALARM:20141004T110000;PT10M;2;SFX vs. OLS-M
END:VEVENT
BEGIN:VEVENT
DTSTART:20141004T150000
DTEND:20141004T160000
SUMMARY:SFX vs. POP-A
DESCRIPTION:Flea Division - 
LOCATION:St. Francis Xavier
CATEGORIES:QuickScores; Volleyball Game
TRANSP:0
DALARM:20141004T130000;PT10M;2;SFX vs. POP-A
END:VEVENT
END:VCALENDAR
