BEGIN:VCALENDAR
VERSION:1.0
BEGIN:VEVENT
DTSTART:20230909T120000
DTEND:20230909T130000
SUMMARY:Bruno vs. Advent White
DESCRIPTION:Senior Division - 
LOCATION:Advent Episcopal School
CATEGORIES:QuickScores; Volleyball Game
TRANSP:0
DALARM:20230909T100000;PT10M;2;Bruno vs. Advent White
END:VEVENT
BEGIN:VEVENT
DTSTART:20230909T130000
DTEND:20230909T140000
SUMMARY:Advent Purple vs. Bruno
DESCRIPTION:Senior Division - 
LOCATION:Advent Episcopal School
CATEGORIES:QuickScores; Volleyball Game
TRANSP:0
DALARM:20230909T110000;PT10M;2;Advent Purple vs. Bruno
END:VEVENT
BEGIN:VEVENT
DTSTART:20230916T090000
DTEND:20230916T100000
SUMMARY:Bruno vs. Advent Purple
DESCRIPTION:Senior Division - 
LOCATION:Our Lady of Sorrows
CATEGORIES:QuickScores; Volleyball Game
TRANSP:0
DALARM:20230916T070000;PT10M;2;Bruno vs. Advent Purple
END:VEVENT
BEGIN:VEVENT
DTSTART:20230916T110000
DTEND:20230916T120000
SUMMARY:OLS/SFX vs. Bruno
DESCRIPTION:Senior Division - 
LOCATION:Our Lady of Sorrows
CATEGORIES:QuickScores; Volleyball Game
TRANSP:0
DALARM:20230916T090000;PT10M;2;OLS/SFX vs. Bruno
END:VEVENT
BEGIN:VEVENT
DTSTART:20230923T090000
DTEND:20230923T100000
SUMMARY:Advent White vs. Bruno
DESCRIPTION:Senior Division - 
LOCATION:Advent Episcopal School
CATEGORIES:QuickScores; Volleyball Game
TRANSP:0
DALARM:20230923T070000;PT10M;2;Advent White vs. Bruno
END:VEVENT
BEGIN:VEVENT
DTSTART:20230923T110000
DTEND:20230923T120000
SUMMARY:Bruno vs. OLS/SFX
DESCRIPTION:Senior Division - 
LOCATION:Advent Episcopal School
CATEGORIES:QuickScores; Volleyball Game
TRANSP:0
DALARM:20230923T090000;PT10M;2;Bruno vs. OLS/SFX
END:VEVENT
BEGIN:VEVENT
DTSTART:20230930T100000
DTEND:20230930T110000
SUMMARY:Bruno vs. Advent White
DESCRIPTION:Senior Division - 
LOCATION:Our Lady of Sorrows
CATEGORIES:QuickScores; Volleyball Game
TRANSP:0
DALARM:20230930T080000;PT10M;2;Bruno vs. Advent White
END:VEVENT
BEGIN:VEVENT
DTSTART:20230930T120000
DTEND:20230930T130000
SUMMARY:Advent Purple vs. Bruno
DESCRIPTION:Senior Division - 
LOCATION:Our Lady of Sorrows
CATEGORIES:QuickScores; Volleyball Game
TRANSP:0
DALARM:20230930T100000;PT10M;2;Advent Purple vs. Bruno
END:VEVENT
BEGIN:VEVENT
DTSTART:20231007T080000
DTEND:20231007T090000
SUMMARY:OLS/SFX vs. Bruno
DESCRIPTION:Senior Division - 
LOCATION:Our Lady of the Valley
CATEGORIES:QuickScores; Volleyball Game
TRANSP:0
DALARM:20231007T060000;PT10M;2;OLS/SFX vs. Bruno
END:VEVENT
BEGIN:VEVENT
DTSTART:20231007T090000
DTEND:20231007T100000
SUMMARY:Bruno vs. Advent Purple
DESCRIPTION:Senior Division - 
LOCATION:Our Lady of the Valley
CATEGORIES:QuickScores; Volleyball Game
TRANSP:0
DALARM:20231007T070000;PT10M;2;Bruno vs. Advent Purple
END:VEVENT
BEGIN:VEVENT
DTSTART:20231014T100000
DTEND:20231014T110000
SUMMARY:Bruno vs. OLS/SFX
DESCRIPTION:Senior Division - 
LOCATION:Our Lady of the Valley
CATEGORIES:QuickScores; Volleyball Game
TRANSP:0
DALARM:20231014T080000;PT10M;2;Bruno vs. OLS/SFX
END:VEVENT
BEGIN:VEVENT
DTSTART:20231014T110000
DTEND:20231014T120000
SUMMARY:Advent White vs. Bruno
DESCRIPTION:Senior Division - 
LOCATION:Our Lady of the Valley
CATEGORIES:QuickScores; Volleyball Game
TRANSP:0
DALARM:20231014T090000;PT10M;2;Advent White vs. Bruno
END:VEVENT
BEGIN:VEVENT
DTSTART:20231021T130000
DTEND:20231021T140000
SUMMARY:[2] Advent White vs. [3] Bruno
DESCRIPTION:Senior Division - 
LOCATION:John Carroll Catholic High School
CATEGORIES:QuickScores; Volleyball Game
TRANSP:0
DALARM:20231021T110000;PT10M;2;[2] Advent White vs. [3] Bruno
END:VEVENT
END:VCALENDAR
