BEGIN:VCALENDAR
VERSION:1.0
BEGIN:VEVENT
DTSTART:20260411T110000
DTEND:20260411T120000
SUMMARY:Practice: Galaxy vs. Fire
DESCRIPTION:*FULL PRACTICE SOUTH END* --- Pre-K/Kindergarten - Tinley Park - Park District
LOCATION:Freedom Park - West Field
CATEGORIES:QuickScores; Soccer - Youth Game
TRANSP:0
DALARM:20260411T090000;PT10M;2;Practice: Galaxy vs. Fire
END:VEVENT
BEGIN:VEVENT
DTSTART:20260418T090000
DTEND:20260418T100000
SUMMARY:Fire vs. Stars
DESCRIPTION:CANCELLED DUE TO WEATHER --- Pre-K/Kindergarten - Tinley Park - Park District
LOCATION:Community Park Soccer Field 5
CATEGORIES:QuickScores; Soccer - Youth Game
TRANSP:0
DALARM:20260418T070000;PT10M;2;Fire vs. Stars
END:VEVENT
BEGIN:VEVENT
DTSTART:20260425T090000
DTEND:20260425T100000
SUMMARY:Celtics vs. Fire
DESCRIPTION:*Scrimmage Game --- Pre-K/Kindergarten - Tinley Park - Park District
LOCATION:Community Park Soccer Field 4
CATEGORIES:QuickScores; Soccer - Youth Game
TRANSP:0
DALARM:20260425T070000;PT10M;2;Celtics vs. Fire
END:VEVENT
BEGIN:VEVENT
DTSTART:20260502T100000
DTEND:20260502T110000
SUMMARY:Earthquakes vs. Fire
DESCRIPTION:Pre-K/Kindergarten - Tinley Park - Park District
LOCATION:Community Park Soccer Field 4
CATEGORIES:QuickScores; Soccer - Youth Game
TRANSP:0
DALARM:20260502T080000;PT10M;2;Earthquakes vs. Fire
END:VEVENT
BEGIN:VEVENT
DTSTART:20260504T180500
DTEND:20260504T185500
SUMMARY:Fire vs. Stars
DESCRIPTION:MAKE UP GAME from 4/18 --- Pre-K/Kindergarten - Tinley Park - Park District
LOCATION:Community Park Soccer Field 4
CATEGORIES:QuickScores; Soccer - Youth Game
TRANSP:0
DALARM:20260504T160500;PT10M;2;Fire vs. Stars
END:VEVENT
BEGIN:VEVENT
DTSTART:20260509T090000
DTEND:20260509T100000
SUMMARY:Fire vs. Rapids
DESCRIPTION:Pre-K/Kindergarten - Tinley Park - Park District
LOCATION:Community Park Soccer Field 4
CATEGORIES:QuickScores; Soccer - Youth Game
TRANSP:0
DALARM:20260509T070000;PT10M;2;Fire vs. Rapids
END:VEVENT
BEGIN:VEVENT
DTSTART:20260516T110000
DTEND:20260516T120000
SUMMARY:Fire vs. Blizzard
DESCRIPTION:Pre-K/Kindergarten - Tinley Park - Park District
LOCATION:Community Park Soccer Field 4
CATEGORIES:QuickScores; Soccer - Youth Game
TRANSP:0
DALARM:20260516T090000;PT10M;2;Fire vs. Blizzard
END:VEVENT
BEGIN:VEVENT
DTSTART:20260520T174500
DTEND:20260520T183000
SUMMARY:Fire vs. Galaxy
DESCRIPTION:*Weekday Game --- Pre-K/Kindergarten - Tinley Park - Park District
LOCATION:Community Park Soccer Field 5
CATEGORIES:QuickScores; Soccer - Youth Game
TRANSP:0
DALARM:20260520T154500;PT10M;2;Fire vs. Galaxy
END:VEVENT
BEGIN:VEVENT
DTSTART:20260530T090000
DTEND:20260530T100000
SUMMARY:Dynamo vs. Fire
DESCRIPTION:*EARLY GAME TIMES* --- Pre-K/Kindergarten - Tinley Park - Park District
LOCATION:Community Park Soccer Field 5
CATEGORIES:QuickScores; Soccer - Youth Game
TRANSP:0
DALARM:20260530T070000;PT10M;2;Dynamo vs. Fire
END:VEVENT
BEGIN:VEVENT
DTSTART:20260606T174500
DTEND:20260606T184500
SUMMARY:Fire vs. Chargers
DESCRIPTION:*Palooza Game Field 2-Middle* --- Pre-K/Kindergarten - Tinley Park - Park District
LOCATION:Freedom Park - West Field
CATEGORIES:QuickScores; Soccer - Youth Game
TRANSP:0
DALARM:20260606T154500;PT10M;2;Fire vs. Chargers
END:VEVENT
END:VCALENDAR
