BEGIN:VCALENDAR
VERSION:1.0
BEGIN:VEVENT
DTSTART:20260118T100000
DTEND:20260118T110000
SUMMARY:Detroit Pistons vs. New York Knicks
DESCRIPTION:2026 Jodie Harrison Basketball - 7/8 Grade Boys - The Community House 
LOCATION:The Community House
CATEGORIES:QuickScores; Basketball - Youth Game
TRANSP:0
DALARM:20260118T080000;PT10M;2;Detroit Pistons vs. New York Knicks
END:VEVENT
BEGIN:VEVENT
DTSTART:20260125T110000
DTEND:20260125T120000
SUMMARY:New York Knicks vs. Chicago Bulls
DESCRIPTION:2026 Jodie Harrison Basketball - 7/8 Grade Boys - The Community House 
LOCATION:The Community House
CATEGORIES:QuickScores; Basketball - Youth Game
TRANSP:0
DALARM:20260125T090000;PT10M;2;New York Knicks vs. Chicago Bulls
END:VEVENT
BEGIN:VEVENT
DTSTART:20260201T110000
DTEND:20260201T120000
SUMMARY:New York Knicks vs. Indiana Pacers
DESCRIPTION:2026 Jodie Harrison Basketball - 7/8 Grade Boys - The Community House 
LOCATION:The Community House
CATEGORIES:QuickScores; Basketball - Youth Game
TRANSP:0
DALARM:20260201T090000;PT10M;2;New York Knicks vs. Indiana Pacers
END:VEVENT
BEGIN:VEVENT
DTSTART:20260208T090000
DTEND:20260208T100000
SUMMARY:New York Knicks vs. Milwaukee Bucks
DESCRIPTION:Super Bowl Games Start Earlier --- 2026 Jodie Harrison Basketball - 7/8 Grade Boys - The Community House 
LOCATION:The Community House
CATEGORIES:QuickScores; Basketball - Youth Game
TRANSP:0
DALARM:20260208T070000;PT10M;2;New York Knicks vs. Milwaukee Bucks
END:VEVENT
BEGIN:VEVENT
DTSTART:20260222T120000
DTEND:20260222T130000
SUMMARY:New York Knicks vs. Detroit Pistons
DESCRIPTION:2026 Jodie Harrison Basketball - 7/8 Grade Boys - The Community House 
LOCATION:The Community House
CATEGORIES:QuickScores; Basketball - Youth Game
TRANSP:0
DALARM:20260222T100000;PT10M;2;New York Knicks vs. Detroit Pistons
END:VEVENT
BEGIN:VEVENT
DTSTART:20260301T120000
DTEND:20260301T130000
SUMMARY:Chicago Bulls vs. New York Knicks
DESCRIPTION:2026 Jodie Harrison Basketball - 7/8 Grade Boys - The Community House 
LOCATION:The Community House
CATEGORIES:QuickScores; Basketball - Youth Game
TRANSP:0
DALARM:20260301T100000;PT10M;2;Chicago Bulls vs. New York Knicks
END:VEVENT
BEGIN:VEVENT
DTSTART:20260308T100000
DTEND:20260308T120000
SUMMARY:Knicks vs. Pacers
DESCRIPTION:2026 Jodie Harrison Basketball - 7/8 Grade Boys - The Community House 
LOCATION:The Community House
CATEGORIES:QuickScores; Basketball - Youth Game
TRANSP:0
DALARM:20260308T090000;PT10M;2;Knicks vs. Pacers
END:VEVENT
BEGIN:VEVENT
DTSTART:20260315T140000
DTEND:20260315T150000
SUMMARY:Knicks vs. Magic
DESCRIPTION:2026 Jodie Harrison Basketball - 7/8 Grade Boys - The Community House 
LOCATION:The Community House
CATEGORIES:QuickScores; Basketball - Youth Game
TRANSP:0
DALARM:20260315T120000;PT10M;2;Knicks vs. Magic
END:VEVENT
END:VCALENDAR
