BEGIN:VCALENDAR
VERSION:1.0
BEGIN:VEVENT
DTSTART:20260118T120000
DTEND:20260118T130000
SUMMARY:Orlando Magic vs. Indiana Pacers
DESCRIPTION:2026 Jodie Harrison Basketball - 7/8 Grade Boys - The Community House 
LOCATION:The Community House
CATEGORIES:QuickScores; Basketball - Youth Game
TRANSP:0
DALARM:20260118T100000;PT10M;2;Orlando Magic vs. Indiana Pacers
END:VEVENT
BEGIN:VEVENT
DTSTART:20260125T120000
DTEND:20260125T130000
SUMMARY:Orlando Magic vs. Milwaukee Bucks
DESCRIPTION:2026 Jodie Harrison Basketball - 7/8 Grade Boys - The Community House 
LOCATION:The Community House
CATEGORIES:QuickScores; Basketball - Youth Game
TRANSP:0
DALARM:20260125T100000;PT10M;2;Orlando Magic vs. Milwaukee Bucks
END:VEVENT
BEGIN:VEVENT
DTSTART:20260201T100000
DTEND:20260201T110000
SUMMARY:Orlando Magic vs. Chicago Bulls
DESCRIPTION:2026 Jodie Harrison Basketball - 7/8 Grade Boys - The Community House 
LOCATION:The Community House
CATEGORIES:QuickScores; Basketball - Youth Game
TRANSP:0
DALARM:20260201T080000;PT10M;2;Orlando Magic vs. Chicago Bulls
END:VEVENT
BEGIN:VEVENT
DTSTART:20260208T100000
DTEND:20260208T110000
SUMMARY:Detroit Pistons vs. Orlando Magic
DESCRIPTION:Super Bowl Games Start Earlier --- 2026 Jodie Harrison Basketball - 7/8 Grade Boys - The Community House 
LOCATION:The Community House
CATEGORIES:QuickScores; Basketball - Youth Game
TRANSP:0
DALARM:20260208T080000;PT10M;2;Detroit Pistons vs. Orlando Magic
END:VEVENT
BEGIN:VEVENT
DTSTART:20260222T100000
DTEND:20260222T110000
SUMMARY:Indiana Pacers vs. Orlando Magic
DESCRIPTION:2026 Jodie Harrison Basketball - 7/8 Grade Boys - The Community House 
LOCATION:The Community House
CATEGORIES:QuickScores; Basketball - Youth Game
TRANSP:0
DALARM:20260222T080000;PT10M;2;Indiana Pacers vs. Orlando Magic
END:VEVENT
BEGIN:VEVENT
DTSTART:20260301T100000
DTEND:20260301T110000
SUMMARY:Milwaukee Bucks vs. Orlando Magic
DESCRIPTION:2026 Jodie Harrison Basketball - 7/8 Grade Boys - The Community House 
LOCATION:The Community House
CATEGORIES:QuickScores; Basketball - Youth Game
TRANSP:0
DALARM:20260301T080000;PT10M;2;Milwaukee Bucks vs. Orlando Magic
END:VEVENT
BEGIN:VEVENT
DTSTART:20260308T110000
DTEND:20260308T130000
SUMMARY:Magic vs. Bulls
DESCRIPTION:2026 Jodie Harrison Basketball - 7/8 Grade Boys - The Community House 
LOCATION:The Community House
CATEGORIES:QuickScores; Basketball - Youth Game
TRANSP:0
DALARM:20260308T100000;PT10M;2;Magic vs. Bulls
END:VEVENT
BEGIN:VEVENT
DTSTART:20260315T140000
DTEND:20260315T150000
SUMMARY:Knicks vs. Magic
DESCRIPTION:2026 Jodie Harrison Basketball - 7/8 Grade Boys - The Community House 
LOCATION:The Community House
CATEGORIES:QuickScores; Basketball - Youth Game
TRANSP:0
DALARM:20260315T120000;PT10M;2;Knicks vs. Magic
END:VEVENT
END:VCALENDAR
