BEGIN:VCALENDAR
VERSION:1.0
BEGIN:VEVENT
DTSTART:20250816T090000
DTEND:20250816T092500
SUMMARY:The Dominators vs. Ballers
DESCRIPTION:3on3 Basketball - 5th grade BOYS Division A - The Community House 
LOCATION:Court 11
CATEGORIES:QuickScores; Basketball - Youth Game
TRANSP:0
DALARM:20250816T070000;PT10M;2;The Dominators vs. Ballers
END:VEVENT
BEGIN:VEVENT
DTSTART:20250816T100000
DTEND:20250816T102500
SUMMARY:Cobra Chi vs. The Dominators
DESCRIPTION:3on3 Basketball - 5th grade BOYS Division A - The Community House 
LOCATION:Court 11
CATEGORIES:QuickScores; Basketball - Youth Game
TRANSP:0
DALARM:20250816T080000;PT10M;2;Cobra Chi vs. The Dominators
END:VEVENT
END:VCALENDAR
