BEGIN:VCALENDAR
VERSION:1.0
BEGIN:VEVENT
DTSTART:20250816T090000
DTEND:20250816T092500
SUMMARY:Hoop! There it Is! vs. Highland's Hoopers
DESCRIPTION:3on3 Basketball - 3rd & 4th grade GIRLS - The Community House 
LOCATION:Court 14
CATEGORIES:QuickScores; Basketball - Youth Game
TRANSP:0
DALARM:20250816T070000;PT10M;2;Hoop! There it Is! vs. Highland's Hoopers
END:VEVENT
BEGIN:VEVENT
DTSTART:20250816T103000
DTEND:20250816T105500
SUMMARY:Ballerzz vs. Hoop! There it Is!
DESCRIPTION:3on3 Basketball - 3rd & 4th grade GIRLS - The Community House 
LOCATION:Court 18
CATEGORIES:QuickScores; Basketball - Youth Game
TRANSP:0
DALARM:20250816T083000;PT10M;2;Ballerzz vs. Hoop! There it Is!
END:VEVENT
BEGIN:VEVENT
DTSTART:20250816T110000
DTEND:20250816T112500
SUMMARY:Hoop! There it Is! vs. Highland's Hoopers
DESCRIPTION:3on3 Basketball - 3rd & 4th grade GIRLS - The Community House 
LOCATION:Court 13
CATEGORIES:QuickScores; Basketball - Youth Game
TRANSP:0
DALARM:20250816T090000;PT10M;2;Hoop! There it Is! vs. Highland's Hoopers
END:VEVENT
END:VCALENDAR
